BEGIN:VCALENDAR
VERSION:2.0
PRODID:-//Sibford Village Hall - ECPv6.15.20//NONSGML v1.0//EN
CALSCALE:GREGORIAN
METHOD:PUBLISH
X-ORIGINAL-URL:https://sibfordvillagehall.org.uk
X-WR-CALDESC:Events for Sibford Village Hall
REFRESH-INTERVAL;VALUE=DURATION:PT1H
X-Robots-Tag:noindex
X-PUBLISHED-TTL:PT1H
BEGIN:VTIMEZONE
TZID:Europe/London
BEGIN:DAYLIGHT
TZOFFSETFROM:+0000
TZOFFSETTO:+0100
TZNAME:BST
DTSTART:20220327T010000
END:DAYLIGHT
BEGIN:STANDARD
TZOFFSETFROM:+0100
TZOFFSETTO:+0000
TZNAME:GMT
DTSTART:20221030T010000
END:STANDARD
BEGIN:DAYLIGHT
TZOFFSETFROM:+0000
TZOFFSETTO:+0100
TZNAME:BST
DTSTART:20230326T010000
END:DAYLIGHT
BEGIN:STANDARD
TZOFFSETFROM:+0100
TZOFFSETTO:+0000
TZNAME:GMT
DTSTART:20231029T010000
END:STANDARD
BEGIN:DAYLIGHT
TZOFFSETFROM:+0000
TZOFFSETTO:+0100
TZNAME:BST
DTSTART:20240331T010000
END:DAYLIGHT
BEGIN:STANDARD
TZOFFSETFROM:+0100
TZOFFSETTO:+0000
TZNAME:GMT
DTSTART:20241027T010000
END:STANDARD
END:VTIMEZONE
BEGIN:VEVENT
DTSTART;TZID=Europe/London:20230707T093000
DTEND;TZID=Europe/London:20230707T123000
DTSTAMP:20260422T025134
CREATED:20230506T183012Z
LAST-MODIFIED:20230506T183012Z
UID:5358-1688722200-1688733000@sibfordvillagehall.org.uk
SUMMARY:Art Class /Oil painting
DESCRIPTION:
URL:https://sibfordvillagehall.org.uk/event/art-class-oil-painting-7/
LOCATION:Main hall
END:VEVENT
BEGIN:VEVENT
DTSTART;TZID=Europe/London:20230707T160000
DTEND;TZID=Europe/London:20230707T173000
DTSTAMP:20260422T025134
CREATED:20230601T183007Z
LAST-MODIFIED:20230601T183007Z
UID:5482-1688745600-1688751000@sibfordvillagehall.org.uk
SUMMARY:Beavers
DESCRIPTION:
URL:https://sibfordvillagehall.org.uk/event/beavers-25-3/
LOCATION:Main hall
END:VEVENT
BEGIN:VEVENT
DTSTART;TZID=Europe/London:20230707T173000
DTEND;TZID=Europe/London:20230707T190000
DTSTAMP:20260422T025134
CREATED:20230601T183007Z
LAST-MODIFIED:20230601T183007Z
UID:5483-1688751000-1688756400@sibfordvillagehall.org.uk
SUMMARY:Cubs
DESCRIPTION:
URL:https://sibfordvillagehall.org.uk/event/cubs-28-2/
LOCATION:Main hall
END:VEVENT
BEGIN:VEVENT
DTSTART;TZID=Europe/London:20230707T173000
DTEND;TZID=Europe/London:20230707T190000
DTSTAMP:20260422T025134
CREATED:20230601T183007Z
LAST-MODIFIED:20230601T183007Z
UID:5484-1688751000-1688756400@sibfordvillagehall.org.uk
SUMMARY:Scouts
DESCRIPTION:
URL:https://sibfordvillagehall.org.uk/event/scouts-53/
LOCATION:Small hall
END:VEVENT
BEGIN:VEVENT
DTSTART;TZID=Europe/London:20230708T090000
DTEND;TZID=Europe/London:20230708T100000
DTSTAMP:20260422T025134
CREATED:20230418T183011Z
LAST-MODIFIED:20230418T183011Z
UID:5224-1688806800-1688810400@sibfordvillagehall.org.uk
SUMMARY:Karate
DESCRIPTION:
URL:https://sibfordvillagehall.org.uk/event/karate-18-23/
LOCATION:Main hall
END:VEVENT
BEGIN:VEVENT
DTSTART;TZID=Europe/London:20230709T093000
DTEND;TZID=Europe/London:20230709T143000
DTSTAMP:20260422T025134
CREATED:20230707T183006Z
LAST-MODIFIED:20230707T183006Z
UID:5553-1688895000-1688913000@sibfordvillagehall.org.uk
SUMMARY:Private event
DESCRIPTION:
URL:https://sibfordvillagehall.org.uk/event/private-event-9/
LOCATION:Main hall
END:VEVENT
BEGIN:VEVENT
DTSTART;TZID=Europe/London:20230710T183000
DTEND;TZID=Europe/London:20230710T193000
DTSTAMP:20260422T025134
CREATED:20230515T183016Z
LAST-MODIFIED:20230515T183016Z
UID:5386-1689013800-1689017400@sibfordvillagehall.org.uk
SUMMARY:Karate
DESCRIPTION:
URL:https://sibfordvillagehall.org.uk/event/karate-19-22/
LOCATION:Main hall
END:VEVENT
BEGIN:VEVENT
DTSTART;TZID=Europe/London:20230712T120000
DTEND;TZID=Europe/London:20230712T143000
DTSTAMP:20260422T025134
CREATED:20230329T183023Z
LAST-MODIFIED:20230329T183023Z
UID:5044-1689163200-1689172200@sibfordvillagehall.org.uk
SUMMARY:Sibford Lunch Club
DESCRIPTION:
URL:https://sibfordvillagehall.org.uk/event/sibford-lunch-club-10-27/
LOCATION:Main hall
END:VEVENT
BEGIN:VEVENT
DTSTART;TZID=Europe/London:20230713T173000
DTEND;TZID=Europe/London:20230713T183000
DTSTAMP:20260422T025134
CREATED:20230222T183018Z
LAST-MODIFIED:20230222T183018Z
UID:4585-1689269400-1689273000@sibfordvillagehall.org.uk
SUMMARY:Sibford Young Performers
DESCRIPTION:
URL:https://sibfordvillagehall.org.uk/event/sibford-young-perfomers-12/
LOCATION:Main hall
END:VEVENT
BEGIN:VEVENT
DTSTART;TZID=Europe/London:20230714T093000
DTEND;TZID=Europe/London:20230714T113000
DTSTAMP:20260422T025134
CREATED:20230621T183015Z
LAST-MODIFIED:20230621T183015Z
UID:5529-1689327000-1689334200@sibfordvillagehall.org.uk
SUMMARY:Sibford Tots & Babes Group
DESCRIPTION:
URL:https://sibfordvillagehall.org.uk/event/sibford-tots-babes-group-21/
LOCATION:Small hall
END:VEVENT
BEGIN:VEVENT
DTSTART;TZID=Europe/London:20230714T093000
DTEND;TZID=Europe/London:20230714T123000
DTSTAMP:20260422T025134
CREATED:20230506T183012Z
LAST-MODIFIED:20230506T183012Z
UID:5360-1689327000-1689337800@sibfordvillagehall.org.uk
SUMMARY:Art Class /Oil painting
DESCRIPTION:
URL:https://sibfordvillagehall.org.uk/event/art-class-oil-painting-8/
LOCATION:Main hall
END:VEVENT
BEGIN:VEVENT
DTSTART;TZID=Europe/London:20230714T160000
DTEND;TZID=Europe/London:20230714T173000
DTSTAMP:20260422T025134
CREATED:20230601T183008Z
LAST-MODIFIED:20230601T183008Z
UID:5485-1689350400-1689355800@sibfordvillagehall.org.uk
SUMMARY:Beavers
DESCRIPTION:
URL:https://sibfordvillagehall.org.uk/event/beavers-25-4/
LOCATION:Main hall
END:VEVENT
BEGIN:VEVENT
DTSTART;TZID=Europe/London:20230714T173000
DTEND;TZID=Europe/London:20230714T190000
DTSTAMP:20260422T025134
CREATED:20230601T183008Z
LAST-MODIFIED:20230601T183008Z
UID:5486-1689355800-1689361200@sibfordvillagehall.org.uk
SUMMARY:Cubs
DESCRIPTION:
URL:https://sibfordvillagehall.org.uk/event/cubs-28-3/
LOCATION:Main hall
END:VEVENT
BEGIN:VEVENT
DTSTART;TZID=Europe/London:20230714T173000
DTEND;TZID=Europe/London:20230714T190000
DTSTAMP:20260422T025134
CREATED:20230601T183008Z
LAST-MODIFIED:20230601T183008Z
UID:5487-1689355800-1689361200@sibfordvillagehall.org.uk
SUMMARY:Scouts
DESCRIPTION:
URL:https://sibfordvillagehall.org.uk/event/scouts-53-2/
LOCATION:Small hall
END:VEVENT
BEGIN:VEVENT
DTSTART;TZID=Europe/London:20230715T090000
DTEND;TZID=Europe/London:20230715T100000
DTSTAMP:20260422T025134
CREATED:20230418T183011Z
LAST-MODIFIED:20230418T183011Z
UID:5225-1689411600-1689415200@sibfordvillagehall.org.uk
SUMMARY:Karate
DESCRIPTION:
URL:https://sibfordvillagehall.org.uk/event/karate-18-24/
LOCATION:Main hall
END:VEVENT
BEGIN:VEVENT
DTSTART;TZID=Europe/London:20230716T083000
DTEND;TZID=Europe/London:20230716T140000
DTSTAMP:20260422T025134
CREATED:20230628T183007Z
LAST-MODIFIED:20230628T183007Z
UID:5542-1689496200-1689516000@sibfordvillagehall.org.uk
SUMMARY:Private event
DESCRIPTION:
URL:https://sibfordvillagehall.org.uk/event/private-event-8/
LOCATION:Main hall
END:VEVENT
BEGIN:VEVENT
DTSTART;TZID=Europe/London:20230717T183000
DTEND;TZID=Europe/London:20230717T193000
DTSTAMP:20260422T025134
CREATED:20230515T183016Z
LAST-MODIFIED:20230515T183016Z
UID:5387-1689618600-1689622200@sibfordvillagehall.org.uk
SUMMARY:Karate
DESCRIPTION:
URL:https://sibfordvillagehall.org.uk/event/karate-19-23/
LOCATION:Main hall
END:VEVENT
BEGIN:VEVENT
DTSTART;TZID=Europe/London:20230719T120000
DTEND;TZID=Europe/London:20230719T143000
DTSTAMP:20260422T025134
CREATED:20230329T183023Z
LAST-MODIFIED:20230329T183023Z
UID:5046-1689768000-1689777000@sibfordvillagehall.org.uk
SUMMARY:Sibford Lunch Club
DESCRIPTION:
URL:https://sibfordvillagehall.org.uk/event/sibford-lunch-club-10-28/
LOCATION:Main hall
END:VEVENT
BEGIN:VEVENT
DTSTART;TZID=Europe/London:20230719T193000
DTEND;TZID=Europe/London:20230719T223000
DTSTAMP:20260422T025134
CREATED:20230705T183008Z
LAST-MODIFIED:20230705T183008Z
UID:5548-1689795000-1689805800@sibfordvillagehall.org.uk
SUMMARY:Meeting of Town Estate Charity Trustees
DESCRIPTION:
URL:https://sibfordvillagehall.org.uk/event/private-event-3/
LOCATION:Small hall
END:VEVENT
BEGIN:VEVENT
DTSTART;TZID=Europe/London:20230720T173000
DTEND;TZID=Europe/London:20230720T183000
DTSTAMP:20260422T025134
CREATED:20230222T183018Z
LAST-MODIFIED:20230222T183018Z
UID:4587-1689874200-1689877800@sibfordvillagehall.org.uk
SUMMARY:Sibford Young Performers
DESCRIPTION:
URL:https://sibfordvillagehall.org.uk/event/sibford-young-perfomers-13/
LOCATION:Main hall
END:VEVENT
BEGIN:VEVENT
DTSTART;TZID=Europe/London:20230720T193000
DTEND;TZID=Europe/London:20230720T213000
DTSTAMP:20260422T025134
CREATED:20230617T183004Z
LAST-MODIFIED:20230617T183004Z
UID:5522-1689881400-1689888600@sibfordvillagehall.org.uk
SUMMARY:Sibfords History Society - Survival of the Fittest
DESCRIPTION:Jan Warner will speak on Survival of the Fittest – a brief history of child rearing\, illustrated with items from her remarkable collection of infantalia of the last three centuries. From bottles to baby walkers via prams\, bouncers and swallowed safety pins\, Jan’s hoard of stories delivered with infectious enthusiasm will delight you. We were all babies once! \nDoors open at 7.15 p.m. and the talk starts at 7.30 p.m. Free to members\, visitors £3. Refreshments follow the talk.
URL:https://sibfordvillagehall.org.uk/event/sibfords-history-society-6/
LOCATION:Main hall
END:VEVENT
BEGIN:VEVENT
DTSTART;TZID=Europe/London:20230721T093000
DTEND;TZID=Europe/London:20230721T113000
DTSTAMP:20260422T025134
CREATED:20230621T183016Z
LAST-MODIFIED:20230621T183016Z
UID:5530-1689931800-1689939000@sibfordvillagehall.org.uk
SUMMARY:Sibford Tots & Babes Group
DESCRIPTION:
URL:https://sibfordvillagehall.org.uk/event/sibford-tots-babes-group-22/
LOCATION:Small hall
END:VEVENT
BEGIN:VEVENT
DTSTART;TZID=Europe/London:20230721T093000
DTEND;TZID=Europe/London:20230721T123000
DTSTAMP:20260422T025134
CREATED:20230506T183012Z
LAST-MODIFIED:20230506T183012Z
UID:5362-1689931800-1689942600@sibfordvillagehall.org.uk
SUMMARY:Art Class /Oil painting
DESCRIPTION:
URL:https://sibfordvillagehall.org.uk/event/art-class-oil-painting-9/
LOCATION:Main hall
END:VEVENT
BEGIN:VEVENT
DTSTART;TZID=Europe/London:20230721T143000
DTEND;TZID=Europe/London:20230721T183000
DTSTAMP:20260422T025134
CREATED:20230621T183016Z
LAST-MODIFIED:20230621T183016Z
UID:5531-1689949800-1689964200@sibfordvillagehall.org.uk
SUMMARY:Sibford Gower Primary School leavers' party
DESCRIPTION:
URL:https://sibfordvillagehall.org.uk/event/private-event/
LOCATION:Small hall
END:VEVENT
BEGIN:VEVENT
DTSTART;TZID=Europe/London:20230722T100000
DTEND;TZID=Europe/London:20230722T120000
DTSTAMP:20260422T025134
CREATED:20230629T183007Z
LAST-MODIFIED:20230629T183007Z
UID:5545-1690020000-1690027200@sibfordvillagehall.org.uk
SUMMARY:Book Swap and Café
DESCRIPTION:Welcome to our monthly chance to have coffee/cake and a chat. Browse our large selection of books and borrow any you like . \nNo need to bring a book to swap. \nNo charge. Donations welcome.
URL:https://sibfordvillagehall.org.uk/event/private-event-5/
LOCATION:Small hall
END:VEVENT
BEGIN:VEVENT
DTSTART;TZID=Europe/London:20230725T120000
DTEND;TZID=Europe/London:20230725T160000
DTSTAMP:20260422T025134
CREATED:20230622T183006Z
LAST-MODIFIED:20230622T183006Z
UID:5536-1690286400-1690300800@sibfordvillagehall.org.uk
SUMMARY:Private event
DESCRIPTION:
URL:https://sibfordvillagehall.org.uk/event/private-event-7/
LOCATION:Main hall
END:VEVENT
BEGIN:VEVENT
DTSTART;TZID=Europe/London:20230726T120000
DTEND;TZID=Europe/London:20230726T143000
DTSTAMP:20260422T025134
CREATED:20230723T183008Z
LAST-MODIFIED:20230723T183008Z
UID:5602-1690372800-1690381800@sibfordvillagehall.org.uk
SUMMARY:Sibford Lunch Club
DESCRIPTION:
URL:https://sibfordvillagehall.org.uk/event/sibford-lunch-club-10-29/
LOCATION:Main hall
END:VEVENT
BEGIN:VEVENT
DTSTART;TZID=Europe/London:20230726T190000
DTEND;TZID=Europe/London:20230726T203000
DTSTAMP:20260422T025134
CREATED:20230723T183008Z
LAST-MODIFIED:20230723T183008Z
UID:5603-1690398000-1690403400@sibfordvillagehall.org.uk
SUMMARY:Sibford Gower Parish Council Meeting
DESCRIPTION:SGPC Agenda 26.07.23
URL:https://sibfordvillagehall.org.uk/event/sibford-gower-parish-council-meeting-20/
LOCATION:Small hall
END:VEVENT
BEGIN:VEVENT
DTSTART;TZID=Europe/London:20230727T090000
DTEND;TZID=Europe/London:20230727T100000
DTSTAMP:20260422T025134
CREATED:20230715T183005Z
LAST-MODIFIED:20230715T183005Z
UID:5563-1690448400-1690452000@sibfordvillagehall.org.uk
SUMMARY:Flow Yoga
DESCRIPTION:
URL:https://sibfordvillagehall.org.uk/event/flow-yoga-7/
LOCATION:Main hall
END:VEVENT
BEGIN:VEVENT
DTSTART;TZID=Europe/London:20230727T100000
DTEND;TZID=Europe/London:20230727T110000
DTSTAMP:20260422T025134
CREATED:20230715T183005Z
LAST-MODIFIED:20230715T183005Z
UID:5564-1690452000-1690455600@sibfordvillagehall.org.uk
SUMMARY:Chair Yoga
DESCRIPTION:
URL:https://sibfordvillagehall.org.uk/event/chair-yoga-37-21/
LOCATION:Main hall
END:VEVENT
END:VCALENDAR