BEGIN:VCALENDAR
VERSION:2.0
PRODID:-//Sibford Village Hall - ECPv6.15.20//NONSGML v1.0//EN
CALSCALE:GREGORIAN
METHOD:PUBLISH
X-WR-CALNAME:Sibford Village Hall
X-ORIGINAL-URL:https://sibfordvillagehall.org.uk
X-WR-CALDESC:Events for Sibford Village Hall
REFRESH-INTERVAL;VALUE=DURATION:PT1H
X-Robots-Tag:noindex
X-PUBLISHED-TTL:PT1H
BEGIN:VTIMEZONE
TZID:Europe/London
BEGIN:DAYLIGHT
TZOFFSETFROM:+0000
TZOFFSETTO:+0100
TZNAME:BST
DTSTART:20220327T010000
END:DAYLIGHT
BEGIN:STANDARD
TZOFFSETFROM:+0100
TZOFFSETTO:+0000
TZNAME:GMT
DTSTART:20221030T010000
END:STANDARD
BEGIN:DAYLIGHT
TZOFFSETFROM:+0000
TZOFFSETTO:+0100
TZNAME:BST
DTSTART:20230326T010000
END:DAYLIGHT
BEGIN:STANDARD
TZOFFSETFROM:+0100
TZOFFSETTO:+0000
TZNAME:GMT
DTSTART:20231029T010000
END:STANDARD
BEGIN:DAYLIGHT
TZOFFSETFROM:+0000
TZOFFSETTO:+0100
TZNAME:BST
DTSTART:20240331T010000
END:DAYLIGHT
BEGIN:STANDARD
TZOFFSETFROM:+0100
TZOFFSETTO:+0000
TZNAME:GMT
DTSTART:20241027T010000
END:STANDARD
END:VTIMEZONE
BEGIN:VEVENT
DTSTART;TZID=Europe/London:20230323T090000
DTEND;TZID=Europe/London:20230323T100000
DTSTAMP:20260422T011811
CREATED:20230115T183016Z
LAST-MODIFIED:20230115T183016Z
UID:4086-1679562000-1679565600@sibfordvillagehall.org.uk
SUMMARY:Flow Yoga
DESCRIPTION:
URL:https://sibfordvillagehall.org.uk/event/flow-yoga-6-10/
LOCATION:Main hall
END:VEVENT
BEGIN:VEVENT
DTSTART;TZID=Europe/London:20230322T183000
DTEND;TZID=Europe/London:20230322T220000
DTSTAMP:20260422T011811
CREATED:20221206T183019Z
LAST-MODIFIED:20221206T183019Z
UID:3683-1679509800-1679522400@sibfordvillagehall.org.uk
SUMMARY:Private hire HNVG
DESCRIPTION:
URL:https://sibfordvillagehall.org.uk/event/private-hire-81/
LOCATION:Main hall
END:VEVENT
BEGIN:VEVENT
DTSTART;TZID=Europe/London:20230322T120000
DTEND;TZID=Europe/London:20230322T143000
DTSTAMP:20260422T011811
CREATED:20230308T183018Z
LAST-MODIFIED:20230308T183018Z
UID:4738-1679486400-1679495400@sibfordvillagehall.org.uk
SUMMARY:Sibford Lunch Club
DESCRIPTION:
URL:https://sibfordvillagehall.org.uk/event/sibford-lunch-club-10-12/
LOCATION:Main hall
END:VEVENT
BEGIN:VEVENT
DTSTART;TZID=Europe/London:20230321T190000
DTEND;TZID=Europe/London:20230321T200000
DTSTAMP:20260422T011811
CREATED:20230321T183008Z
LAST-MODIFIED:20230321T183008Z
UID:4922-1679425200-1679428800@sibfordvillagehall.org.uk
SUMMARY:Yogalates
DESCRIPTION:
URL:https://sibfordvillagehall.org.uk/event/yogalates-9/
LOCATION:Main hall
END:VEVENT
BEGIN:VEVENT
DTSTART;TZID=Europe/London:20230321T090000
DTEND;TZID=Europe/London:20230321T100000
DTSTAMP:20260422T011811
CREATED:20230308T183018Z
LAST-MODIFIED:20230308T183018Z
UID:4737-1679389200-1679392800@sibfordvillagehall.org.uk
SUMMARY:Slow and gentle Yoga
DESCRIPTION:
URL:https://sibfordvillagehall.org.uk/event/slow-and-gentle-yoga-7-10/
LOCATION:Main hall
END:VEVENT
BEGIN:VEVENT
DTSTART;TZID=Europe/London:20230320T183000
DTEND;TZID=Europe/London:20230320T193000
DTSTAMP:20260422T011811
CREATED:20230315T183014Z
LAST-MODIFIED:20230315T183014Z
UID:4841-1679337000-1679340600@sibfordvillagehall.org.uk
SUMMARY:Karate
DESCRIPTION:
URL:https://sibfordvillagehall.org.uk/event/karate-19-11/
LOCATION:Main hall
END:VEVENT
BEGIN:VEVENT
DTSTART;TZID=Europe/London:20230320T090000
DTEND;TZID=Europe/London:20230320T120000
DTSTAMP:20260422T011811
CREATED:20230308T183017Z
LAST-MODIFIED:20230308T183017Z
UID:4735-1679302800-1679313600@sibfordvillagehall.org.uk
SUMMARY:Warm Hub
DESCRIPTION:You are welcome to a new venture at the Village Hall-  in the warm!!  \nOn Monday mornings from 9am until 12 midday we will open the small hall for anyone to come in. Just pop in anytime during the morning. \nHave a chat and coffee /tea and biscuits/cake. Play cards or Scrabble\, read a book or do some art work. Everything provided and all free. \nKindly funded by the Town Estate Charity. \nFor more information\, contact Ginny  01295 780 373 or Joan 01295 780 410.
URL:https://sibfordvillagehall.org.uk/event/warm-hub-3/
LOCATION:Small hall
END:VEVENT
BEGIN:VEVENT
DTSTART;TZID=Europe/London:20230318T103000
DTEND;TZID=Europe/London:20230318T140000
DTSTAMP:20260422T011811
CREATED:20230308T183017Z
LAST-MODIFIED:20230308T183017Z
UID:4734-1679135400-1679148000@sibfordvillagehall.org.uk
SUMMARY:Private hire/Party
DESCRIPTION:
URL:https://sibfordvillagehall.org.uk/event/private-hire-tbc-4/
LOCATION:Main hall
END:VEVENT
BEGIN:VEVENT
DTSTART;TZID=Europe/London:20230318T100000
DTEND;TZID=Europe/London:20230318T120000
DTSTAMP:20260422T011811
CREATED:20230209T183011Z
LAST-MODIFIED:20230209T183011Z
UID:4397-1679133600-1679140800@sibfordvillagehall.org.uk
SUMMARY:Book Swap and Café
DESCRIPTION:Welcome to our monthly chance to have coffee/cake and a chat in the warm. Browse our large selection of books and borrow any you like . \nNo need to bring a book to swap. \nNo charge. Donations welcome.
URL:https://sibfordvillagehall.org.uk/event/book-swap-tbc-2/
LOCATION:Small hall
END:VEVENT
BEGIN:VEVENT
DTSTART;TZID=Europe/London:20230318T090000
DTEND;TZID=Europe/London:20230318T100000
DTSTAMP:20260422T011811
CREATED:20230315T183014Z
LAST-MODIFIED:20230315T183014Z
UID:4840-1679130000-1679133600@sibfordvillagehall.org.uk
SUMMARY:Karate
DESCRIPTION:
URL:https://sibfordvillagehall.org.uk/event/karate-18-11/
LOCATION:Main hall
END:VEVENT
BEGIN:VEVENT
DTSTART;TZID=Europe/London:20230317T173000
DTEND;TZID=Europe/London:20230317T190000
DTSTAMP:20260422T011811
CREATED:20230219T183011Z
LAST-MODIFIED:20230219T183011Z
UID:4512-1679074200-1679079600@sibfordvillagehall.org.uk
SUMMARY:Cubs
DESCRIPTION:
URL:https://sibfordvillagehall.org.uk/event/cubs-25-8/
LOCATION:Main hall
END:VEVENT
BEGIN:VEVENT
DTSTART;TZID=Europe/London:20230317T160000
DTEND;TZID=Europe/London:20230317T173000
DTSTAMP:20260422T011811
CREATED:20230219T183011Z
LAST-MODIFIED:20230219T183011Z
UID:4511-1679068800-1679074200@sibfordvillagehall.org.uk
SUMMARY:Beavers
DESCRIPTION:
URL:https://sibfordvillagehall.org.uk/event/beavers-23-8/
LOCATION:Main hall
END:VEVENT
BEGIN:VEVENT
DTSTART;TZID=Europe/London:20230317T130000
DTEND;TZID=Europe/London:20230317T153000
DTSTAMP:20260422T011811
CREATED:20230307T183010Z
LAST-MODIFIED:20230307T183010Z
UID:4715-1679058000-1679067000@sibfordvillagehall.org.uk
SUMMARY:Watercolour painting class
DESCRIPTION:
URL:https://sibfordvillagehall.org.uk/event/watercolour-painting-class-3-11/
LOCATION:Main hall
END:VEVENT
BEGIN:VEVENT
DTSTART;TZID=Europe/London:20230317T093000
DTEND;TZID=Europe/London:20230317T123000
DTSTAMP:20260422T011811
CREATED:20230112T183121Z
LAST-MODIFIED:20230112T183121Z
UID:3996-1679045400-1679056200@sibfordvillagehall.org.uk
SUMMARY:Oil painting class
DESCRIPTION:
URL:https://sibfordvillagehall.org.uk/event/oil-painting-class-22-10/
LOCATION:Main hall
END:VEVENT
BEGIN:VEVENT
DTSTART;TZID=Europe/London:20230317T093000
DTEND;TZID=Europe/London:20230317T113000
DTSTAMP:20260422T011811
CREATED:20230205T183010Z
LAST-MODIFIED:20230205T183010Z
UID:4320-1679045400-1679052600@sibfordvillagehall.org.uk
SUMMARY:Sibford Tots & Babes Group
DESCRIPTION:
URL:https://sibfordvillagehall.org.uk/event/sibford-tots-babes-group-9/
LOCATION:Small hall
END:VEVENT
BEGIN:VEVENT
DTSTART;TZID=Europe/London:20230316T193000
DTEND;TZID=Europe/London:20230316T213000
DTSTAMP:20260422T011811
CREATED:20230315T183014Z
LAST-MODIFIED:20230315T183014Z
UID:4839-1678995000-1679002200@sibfordvillagehall.org.uk
SUMMARY:Sibfords History Society AGM and The Magic and Mystery of Glenn Miller
DESCRIPTION:After our (brief) AGM Bill King will talk about The Magic and Mystery of Glenn Miller. Bill’s main interest is in the Second World War\, with particular reference to the Airborne and Special Forces\, and in clandestine warfare\, and his talk promises to be intriguing\, hopefully interspersed with plenty of Glenn Miller’s unmistakable music. \nDoors open at 7.15pm. \nMembers please remember to bring your subscriptions\, still £12 for the year. You may pay by cash or card. \nVisitors £3.
URL:https://sibfordvillagehall.org.uk/event/sibford-history-society-agm-and-talk/
LOCATION:Main hall
END:VEVENT
BEGIN:VEVENT
DTSTART;TZID=Europe/London:20230316T173000
DTEND;TZID=Europe/London:20230316T183000
DTSTAMP:20260422T011811
CREATED:20221130T183037Z
LAST-MODIFIED:20221130T183037Z
UID:3640-1678987800-1678991400@sibfordvillagehall.org.uk
SUMMARY:Sibford Young Performers
DESCRIPTION:
URL:https://sibfordvillagehall.org.uk/event/sibford-young-performers-7-9/
LOCATION:Main hall
END:VEVENT
BEGIN:VEVENT
DTSTART;TZID=Europe/London:20230316T101500
DTEND;TZID=Europe/London:20230316T111500
DTSTAMP:20260422T011811
CREATED:20230115T183015Z
LAST-MODIFIED:20230115T183015Z
UID:4084-1678961700-1678965300@sibfordvillagehall.org.uk
SUMMARY:Chair Yoga
DESCRIPTION:
URL:https://sibfordvillagehall.org.uk/event/chair-yoga-37-9/
LOCATION:Main hall
END:VEVENT
BEGIN:VEVENT
DTSTART;TZID=Europe/London:20230316T090000
DTEND;TZID=Europe/London:20230316T100000
DTSTAMP:20260422T011811
CREATED:20230115T183015Z
LAST-MODIFIED:20230115T183015Z
UID:4083-1678957200-1678960800@sibfordvillagehall.org.uk
SUMMARY:Flow Yoga
DESCRIPTION:
URL:https://sibfordvillagehall.org.uk/event/flow-yoga-6-9/
LOCATION:Main hall
END:VEVENT
BEGIN:VEVENT
DTSTART;TZID=Europe/London:20230315T190000
DTEND;TZID=Europe/London:20230315T210000
DTSTAMP:20260422T011811
CREATED:20230219T183011Z
LAST-MODIFIED:20230219T183011Z
UID:4510-1678906800-1678914000@sibfordvillagehall.org.uk
SUMMARY:Bridge class
DESCRIPTION:
URL:https://sibfordvillagehall.org.uk/event/bridge-classes-4/
LOCATION:Main hall
END:VEVENT
BEGIN:VEVENT
DTSTART;TZID=Europe/London:20230315T120000
DTEND;TZID=Europe/London:20230315T143000
DTSTAMP:20260422T011811
CREATED:20230308T183017Z
LAST-MODIFIED:20230308T183017Z
UID:4733-1678881600-1678890600@sibfordvillagehall.org.uk
SUMMARY:Sibford Lunch Club
DESCRIPTION:
URL:https://sibfordvillagehall.org.uk/event/sibford-lunch-club-10-11/
LOCATION:Main hall
END:VEVENT
BEGIN:VEVENT
DTSTART;TZID=Europe/London:20230314T190000
DTEND;TZID=Europe/London:20230314T200000
DTSTAMP:20260422T011811
CREATED:20230301T183006Z
LAST-MODIFIED:20230301T183006Z
UID:4643-1678820400-1678824000@sibfordvillagehall.org.uk
SUMMARY:Yogalates
DESCRIPTION:
URL:https://sibfordvillagehall.org.uk/event/yogalates-8/
LOCATION:Main hall
END:VEVENT
BEGIN:VEVENT
DTSTART;TZID=Europe/London:20230314T090000
DTEND;TZID=Europe/London:20230314T100000
DTSTAMP:20260422T011811
CREATED:20230308T183017Z
LAST-MODIFIED:20230308T183017Z
UID:4732-1678784400-1678788000@sibfordvillagehall.org.uk
SUMMARY:Slow and gentle Yoga
DESCRIPTION:
URL:https://sibfordvillagehall.org.uk/event/slow-and-gentle-yoga-7-9/
LOCATION:Main hall
END:VEVENT
BEGIN:VEVENT
DTSTART;TZID=Europe/London:20230313T193000
DTEND;TZID=Europe/London:20230313T210000
DTSTAMP:20260422T011811
CREATED:20230129T183011Z
LAST-MODIFIED:20230129T183011Z
UID:4230-1678735800-1678741200@sibfordvillagehall.org.uk
SUMMARY:Sibford Players
DESCRIPTION:
URL:https://sibfordvillagehall.org.uk/event/sibford-players-30-7/
LOCATION:Small hall
END:VEVENT
BEGIN:VEVENT
DTSTART;TZID=Europe/London:20230313T183000
DTEND;TZID=Europe/London:20230313T193000
DTSTAMP:20260422T011811
CREATED:20230308T183017Z
LAST-MODIFIED:20230308T183017Z
UID:4731-1678732200-1678735800@sibfordvillagehall.org.uk
SUMMARY:Karate
DESCRIPTION:
URL:https://sibfordvillagehall.org.uk/event/karate-19-10/
LOCATION:Main hall
END:VEVENT
BEGIN:VEVENT
DTSTART;TZID=Europe/London:20230313T090000
DTEND;TZID=Europe/London:20230313T120000
DTSTAMP:20260422T011811
CREATED:20230308T183017Z
LAST-MODIFIED:20230308T183017Z
UID:4730-1678698000-1678708800@sibfordvillagehall.org.uk
SUMMARY:Warm Hub
DESCRIPTION:You are welcome to a new venture at the Village Hall-  in the warm!!  \nOn Monday mornings from 9am until 12 midday we will open the small hall for anyone to come in. Just pop in anytime during the morning. \nHave a chat and coffee /tea and biscuits/cake. Play cards or Scrabble\, read a book or do some art work. Everything provided and all free. \nKindly funded by the Town Estate Charity. \nFor more information\, contact Ginny  01295 780 373 or Joan 01295 780 410.
URL:https://sibfordvillagehall.org.uk/event/warm-hub-2/
LOCATION:Small hall
END:VEVENT
BEGIN:VEVENT
DTSTART;TZID=Europe/London:20230312T150000
DTEND;TZID=Europe/London:20230312T183000
DTSTAMP:20260422T011811
CREATED:20230307T183010Z
LAST-MODIFIED:20230307T183010Z
UID:4714-1678633200-1678645800@sibfordvillagehall.org.uk
SUMMARY:Private hire /Childrens Party
DESCRIPTION:
URL:https://sibfordvillagehall.org.uk/event/private-hire-92/
LOCATION:Main hall
END:VEVENT
BEGIN:VEVENT
DTSTART;TZID=Europe/London:20230311T193000
DTEND;TZID=Europe/London:20230311T203000
DTSTAMP:20260422T011811
CREATED:20230311T183009Z
LAST-MODIFIED:20230311T183009Z
UID:4819-1678563000-1678566600@sibfordvillagehall.org.uk
SUMMARY:Dance in the Dark!
DESCRIPTION:De-stress for an hour\, get fit and dance like nobody is watching \n£1 per person \nDress – Sparkly\, Comfortable or both \nEnquiries to Juliette juliette53@btinternet.com 
URL:https://sibfordvillagehall.org.uk/event/dancing-in-the-dark-village-hall-event/
LOCATION:Main hall
END:VEVENT
BEGIN:VEVENT
DTSTART;TZID=Europe/London:20230311T090000
DTEND;TZID=Europe/London:20230311T100000
DTSTAMP:20260422T011811
CREATED:20230303T183010Z
LAST-MODIFIED:20230303T183010Z
UID:4672-1678525200-1678528800@sibfordvillagehall.org.uk
SUMMARY:Karate
DESCRIPTION:
URL:https://sibfordvillagehall.org.uk/event/karate-18-10/
LOCATION:Main hall
END:VEVENT
BEGIN:VEVENT
DTSTART;TZID=Europe/London:20230310T173000
DTEND;TZID=Europe/London:20230310T190000
DTSTAMP:20260422T011811
CREATED:20230219T183011Z
LAST-MODIFIED:20230219T183011Z
UID:4509-1678469400-1678474800@sibfordvillagehall.org.uk
SUMMARY:Cubs
DESCRIPTION:
URL:https://sibfordvillagehall.org.uk/event/cubs-25-7/
LOCATION:Main hall
END:VEVENT
END:VCALENDAR