BEGIN:VCALENDAR
VERSION:2.0
PRODID:-//Sibford Village Hall - ECPv6.15.20//NONSGML v1.0//EN
CALSCALE:GREGORIAN
METHOD:PUBLISH
X-ORIGINAL-URL:https://sibfordvillagehall.org.uk
X-WR-CALDESC:Events for Sibford Village Hall
REFRESH-INTERVAL;VALUE=DURATION:PT1H
X-Robots-Tag:noindex
X-PUBLISHED-TTL:PT1H
BEGIN:VTIMEZONE
TZID:Europe/London
BEGIN:DAYLIGHT
TZOFFSETFROM:+0000
TZOFFSETTO:+0100
TZNAME:BST
DTSTART:20220327T010000
END:DAYLIGHT
BEGIN:STANDARD
TZOFFSETFROM:+0100
TZOFFSETTO:+0000
TZNAME:GMT
DTSTART:20221030T010000
END:STANDARD
BEGIN:DAYLIGHT
TZOFFSETFROM:+0000
TZOFFSETTO:+0100
TZNAME:BST
DTSTART:20230326T010000
END:DAYLIGHT
BEGIN:STANDARD
TZOFFSETFROM:+0100
TZOFFSETTO:+0000
TZNAME:GMT
DTSTART:20231029T010000
END:STANDARD
BEGIN:DAYLIGHT
TZOFFSETFROM:+0000
TZOFFSETTO:+0100
TZNAME:BST
DTSTART:20240331T010000
END:DAYLIGHT
BEGIN:STANDARD
TZOFFSETFROM:+0100
TZOFFSETTO:+0000
TZNAME:GMT
DTSTART:20241027T010000
END:STANDARD
END:VTIMEZONE
BEGIN:VEVENT
DTSTART;TZID=Europe/London:20230923T190000
DTEND;TZID=Europe/London:20230923T190000
DTSTAMP:20260421T222130
CREATED:20230804T183005Z
LAST-MODIFIED:20230804T183005Z
UID:5685-1695495600-1695495600@sibfordvillagehall.org.uk
SUMMARY:Harvest Supper
DESCRIPTION:All villagers and  families are invited to come together to celebrate the hard work of our local farmers and the successful gathering of the harvest for another year. \nBring a contribution (savoury or sweet\, hot or cold) to be added to the table to be pooled with all our tasty contributions. Water will be provided but please bring drinks to be enjoyed by your family. \nPlates\, glasses and cutlery will be supplied. There is no charge for the evening\, as a generous offer has been received to cover the cost of the Hall. \nThe evening will give us a chance to meet with villagers\, friends and neighbours\, old and new\, to enjoy a relaxed\, sociable time together\, with fun for children and families. \nPlease let one of us know if you are coming and the number in your party\, so that we can prepare for everyone. \nMaureen Hicks 780 259 maureen@hicks-sibford.co.uk \nIsabel George 07989 968 736 isabelgeorge4@gmail.com \nWe really hope you can join us.
URL:https://sibfordvillagehall.org.uk/event/private-event-11/
LOCATION:Main hall
END:VEVENT
BEGIN:VEVENT
DTSTART;TZID=Europe/London:20230925T183000
DTEND;TZID=Europe/London:20230925T193000
DTSTAMP:20260421T222130
CREATED:20230822T183012Z
LAST-MODIFIED:20230822T183012Z
UID:5845-1695666600-1695670200@sibfordvillagehall.org.uk
SUMMARY:Karate Class
DESCRIPTION:
URL:https://sibfordvillagehall.org.uk/event/karate-class-2-5/
LOCATION:Main hall
END:VEVENT
BEGIN:VEVENT
DTSTART;TZID=Europe/London:20230925T193000
DTEND;TZID=Europe/London:20230925T213000
DTSTAMP:20260421T222130
CREATED:20230913T183008Z
LAST-MODIFIED:20230913T183008Z
UID:5912-1695670200-1695677400@sibfordvillagehall.org.uk
SUMMARY:Sibford Players
DESCRIPTION:
URL:https://sibfordvillagehall.org.uk/event/sibford-players-37-2/
LOCATION:Main hall
END:VEVENT
BEGIN:VEVENT
DTSTART;TZID=Europe/London:20230926T110000
DTEND;TZID=Europe/London:20230926T143000
DTSTAMP:20260421T222130
CREATED:20230913T183008Z
LAST-MODIFIED:20230913T183008Z
UID:5913-1695726000-1695738600@sibfordvillagehall.org.uk
SUMMARY:Private event
DESCRIPTION:
URL:https://sibfordvillagehall.org.uk/event/private-event-19-2/
LOCATION:Main hall
END:VEVENT
BEGIN:VEVENT
DTSTART;TZID=Europe/London:20230926T193000
DTEND;TZID=Europe/London:20230926T213000
DTSTAMP:20260421T222130
CREATED:20230905T183007Z
LAST-MODIFIED:20230905T183007Z
UID:5900-1695756600-1695763800@sibfordvillagehall.org.uk
SUMMARY:Sibford Photography Club
DESCRIPTION:
URL:https://sibfordvillagehall.org.uk/event/sibford-photography-club-24-2/
LOCATION:Small hall
END:VEVENT
BEGIN:VEVENT
DTSTART;TZID=Europe/London:20230927T090000
DTEND;TZID=Europe/London:20230927T110000
DTSTAMP:20260421T222130
CREATED:20230807T183005Z
LAST-MODIFIED:20230807T183005Z
UID:5693-1695805200-1695812400@sibfordvillagehall.org.uk
SUMMARY:Toddler music and dancing
DESCRIPTION:
URL:https://sibfordvillagehall.org.uk/event/toddler-music-and-dan-2-2/
LOCATION:Main hall
END:VEVENT
BEGIN:VEVENT
DTSTART;TZID=Europe/London:20230927T120000
DTEND;TZID=Europe/London:20230927T143000
DTSTAMP:20260421T222130
CREATED:20230723T183009Z
LAST-MODIFIED:20230723T183009Z
UID:5612-1695816000-1695825000@sibfordvillagehall.org.uk
SUMMARY:Sibford Lunch Club
DESCRIPTION:
URL:https://sibfordvillagehall.org.uk/event/sibford-lunch-club-10-38/
LOCATION:Main hall
END:VEVENT
BEGIN:VEVENT
DTSTART;TZID=Europe/London:20230927T173000
DTEND;TZID=Europe/London:20230927T183000
DTSTAMP:20260421T222130
CREATED:20230822T183012Z
LAST-MODIFIED:20230822T183012Z
UID:5846-1695835800-1695839400@sibfordvillagehall.org.uk
SUMMARY:Youth drama & dance group
DESCRIPTION:
URL:https://sibfordvillagehall.org.uk/event/youth-drama-dance-g-3/
LOCATION:Main hall
END:VEVENT
BEGIN:VEVENT
DTSTART;TZID=Europe/London:20230928T090000
DTEND;TZID=Europe/London:20230928T110000
DTSTAMP:20260421T222130
CREATED:20230822T183012Z
LAST-MODIFIED:20230822T183012Z
UID:5847-1695891600-1695898800@sibfordvillagehall.org.uk
SUMMARY:Yoga sessions
DESCRIPTION:
URL:https://sibfordvillagehall.org.uk/event/private-event-17-2/
LOCATION:Main hall
END:VEVENT
BEGIN:VEVENT
DTSTART;TZID=Europe/London:20230928T193000
DTEND;TZID=Europe/London:20230928T213000
DTSTAMP:20260421T222130
CREATED:20230904T183011Z
LAST-MODIFIED:20230904T183011Z
UID:5895-1695929400-1695936600@sibfordvillagehall.org.uk
SUMMARY:Film Night
DESCRIPTION:In the summer of 1947\,Britain prepares to commemorate the wedding of Princess Elizabeth ll and Prince Philip. To get around food-rationing laws\, Dr Charles Swaby (Denholm Elliott)\, accountant Henry Allardyce (Richard Griffiths) and solicitor Frank Lockwood (John Normington) are fattening a black-market pig for the big day. Egged on by his wife (Maggie Smith)\, meek Gilbert Chilvers (Michael Palin) steals the swine\, but the couple must conceal it from Meat Inspector Morris Wormold (Bill Patterson).  Screnplay by Alan Bennett.\n \nDoors open at 7. Film starts at 7.30. Refreshments available. Admission £3.
URL:https://sibfordvillagehall.org.uk/event/film-night-14/
LOCATION:Main hall
END:VEVENT
BEGIN:VEVENT
DTSTART;TZID=Europe/London:20230930T090000
DTEND;TZID=Europe/London:20230930T100000
DTSTAMP:20260421T222130
CREATED:20230822T183012Z
LAST-MODIFIED:20230822T183012Z
UID:5848-1696064400-1696068000@sibfordvillagehall.org.uk
SUMMARY:Karate Class
DESCRIPTION:
URL:https://sibfordvillagehall.org.uk/event/karate-class-6/
LOCATION:Main hall
END:VEVENT
BEGIN:VEVENT
DTSTART;TZID=Europe/London:20230930T120000
DTEND;TZID=Europe/London:20230930T180000
DTSTAMP:20260421T222130
CREATED:20230531T183008Z
LAST-MODIFIED:20230531T183008Z
UID:5464-1696075200-1696096800@sibfordvillagehall.org.uk
SUMMARY:Village Hall event
DESCRIPTION:Set up for Applefest
URL:https://sibfordvillagehall.org.uk/event/village-hall-event-2/
LOCATION:Main hall
END:VEVENT
BEGIN:VEVENT
DTSTART;TZID=Europe/London:20231001T120000
DTEND;TZID=Europe/London:20231001T160000
DTSTAMP:20260421T222130
CREATED:20230918T183005Z
LAST-MODIFIED:20230918T183005Z
UID:5996-1696161600-1696176000@sibfordvillagehall.org.uk
SUMMARY:Sibford Applefest
DESCRIPTION:A celebration of everything apple \nFun Fun Fun!\nBouncy Castle\, Jam and Pickle Stall\, Ice Cream Van\, Children’s games\, Licensed bar \nGet Baking!\nApple pie and apple cake for the big apple competition. Separate categories for junior and adult. Drop off entries on Sunday 1 October between 9 and 11 am\, clearly labelled. \nGet Celebrating!\nLive entertainment including Morris Dancers and local talent: Belle Collective\, R&G\, Dave Singers \nGet Donating!\nPlease donate raffle prizes to Isabel George 07989 968 736 \nGet Making!\nCreate a scarecrow outside your home from 17 September. Impress the judges! Theme: Movie Mania. Register for the competition with Juliette at juliette53@btinternet.com – the judges need to know where to look! \nGet Picking!\nCollect your apples and bottles to bring to the festival for apple pressing on site. \nGet Scoffing!\n\nApple soup with sourdough; pulled pork baps with apple sauce; BBQ sausages
URL:https://sibfordvillagehall.org.uk/event/applefest-village-hall-event/
LOCATION:Main hall
END:VEVENT
BEGIN:VEVENT
DTSTART;TZID=Europe/London:20231002T183000
DTEND;TZID=Europe/London:20231002T193000
DTSTAMP:20260421T222130
CREATED:20230822T183012Z
LAST-MODIFIED:20230822T183012Z
UID:5849-1696271400-1696275000@sibfordvillagehall.org.uk
SUMMARY:Karate Class
DESCRIPTION:
URL:https://sibfordvillagehall.org.uk/event/karate-class-2-6/
LOCATION:Main hall
END:VEVENT
BEGIN:VEVENT
DTSTART;TZID=Europe/London:20231002T193000
DTEND;TZID=Europe/London:20231002T213000
DTSTAMP:20260421T222130
CREATED:20230913T183009Z
LAST-MODIFIED:20230913T183009Z
UID:5914-1696275000-1696282200@sibfordvillagehall.org.uk
SUMMARY:Sibford Players
DESCRIPTION:
URL:https://sibfordvillagehall.org.uk/event/sibford-players-37-3/
LOCATION:Main hall
END:VEVENT
BEGIN:VEVENT
DTSTART;TZID=Europe/London:20231003T140000
DTEND;TZID=Europe/London:20231003T160000
DTSTAMP:20260421T222130
CREATED:20231003T183011Z
LAST-MODIFIED:20231003T183011Z
UID:6071-1696341600-1696348800@sibfordvillagehall.org.uk
SUMMARY:Friendship Club
DESCRIPTION:
URL:https://sibfordvillagehall.org.uk/event/friendship-club-13/
LOCATION:Small hall
END:VEVENT
BEGIN:VEVENT
DTSTART;TZID=Europe/London:20231004T120000
DTEND;TZID=Europe/London:20231004T143000
DTSTAMP:20260421T222130
CREATED:20230723T183009Z
LAST-MODIFIED:20230723T183009Z
UID:5613-1696420800-1696429800@sibfordvillagehall.org.uk
SUMMARY:Sibford Lunch Club
DESCRIPTION:
URL:https://sibfordvillagehall.org.uk/event/sibford-lunch-club-10-39/
LOCATION:Main hall
END:VEVENT
BEGIN:VEVENT
DTSTART;TZID=Europe/London:20231004T150000
DTEND;TZID=Europe/London:20231004T173000
DTSTAMP:20260421T222130
CREATED:20231003T183011Z
LAST-MODIFIED:20231003T183011Z
UID:6072-1696431600-1696440600@sibfordvillagehall.org.uk
SUMMARY:Private event
DESCRIPTION:
URL:https://sibfordvillagehall.org.uk/event/private-event-24/
LOCATION:Main hall
END:VEVENT
BEGIN:VEVENT
DTSTART;TZID=Europe/London:20231004T173000
DTEND;TZID=Europe/London:20231004T183000
DTSTAMP:20260421T222130
CREATED:20230822T183012Z
LAST-MODIFIED:20230822T183012Z
UID:5850-1696440600-1696444200@sibfordvillagehall.org.uk
SUMMARY:Youth drama & dance group
DESCRIPTION:
URL:https://sibfordvillagehall.org.uk/event/youth-drama-dance-g-4/
LOCATION:Main hall
END:VEVENT
BEGIN:VEVENT
DTSTART;TZID=Europe/London:20231004T190000
DTEND;TZID=Europe/London:20231004T210000
DTSTAMP:20260421T222130
CREATED:20230727T183008Z
LAST-MODIFIED:20230727T183008Z
UID:5642-1696446000-1696453200@sibfordvillagehall.org.uk
SUMMARY:Bridge Classes
DESCRIPTION:
URL:https://sibfordvillagehall.org.uk/event/bridge-classes-2-2/
LOCATION:Main hall
END:VEVENT
BEGIN:VEVENT
DTSTART;TZID=Europe/London:20231006T173000
DTEND;TZID=Europe/London:20231006T190000
DTSTAMP:20260421T222130
CREATED:20231003T183012Z
LAST-MODIFIED:20231003T183012Z
UID:6073-1696613400-1696618800@sibfordvillagehall.org.uk
SUMMARY:Beaver\, Cub and Scout..
DESCRIPTION:
URL:https://sibfordvillagehall.org.uk/event/beaver-cub-and-scout/
LOCATION:Main hall
END:VEVENT
BEGIN:VEVENT
DTSTART;TZID=Europe/London:20231007T090000
DTEND;TZID=Europe/London:20231007T100000
DTSTAMP:20260421T222130
CREATED:20230822T183012Z
LAST-MODIFIED:20230822T183012Z
UID:5853-1696669200-1696672800@sibfordvillagehall.org.uk
SUMMARY:Karate Class
DESCRIPTION:
URL:https://sibfordvillagehall.org.uk/event/karate-class-7/
LOCATION:Main hall
END:VEVENT
BEGIN:VEVENT
DTSTART;TZID=Europe/London:20231009T183000
DTEND;TZID=Europe/London:20231009T193000
DTSTAMP:20260421T222130
CREATED:20230822T183013Z
LAST-MODIFIED:20230822T183013Z
UID:5855-1696876200-1696879800@sibfordvillagehall.org.uk
SUMMARY:Karate Class
DESCRIPTION:
URL:https://sibfordvillagehall.org.uk/event/karate-class-2-7/
LOCATION:Main hall
END:VEVENT
BEGIN:VEVENT
DTSTART;TZID=Europe/London:20231009T193000
DTEND;TZID=Europe/London:20231009T213000
DTSTAMP:20260421T222130
CREATED:20230913T183009Z
LAST-MODIFIED:20230913T183009Z
UID:5916-1696879800-1696887000@sibfordvillagehall.org.uk
SUMMARY:Sibford Players
DESCRIPTION:
URL:https://sibfordvillagehall.org.uk/event/sibford-players-37-4/
LOCATION:Main hall
END:VEVENT
BEGIN:VEVENT
DTSTART;TZID=Europe/London:20231011T120000
DTEND;TZID=Europe/London:20231011T143000
DTSTAMP:20260421T222130
CREATED:20230723T183009Z
LAST-MODIFIED:20230723T183009Z
UID:5614-1697025600-1697034600@sibfordvillagehall.org.uk
SUMMARY:Sibford Lunch Club
DESCRIPTION:
URL:https://sibfordvillagehall.org.uk/event/sibford-lunch-club-10-40/
LOCATION:Main hall
END:VEVENT
BEGIN:VEVENT
DTSTART;TZID=Europe/London:20231011T173000
DTEND;TZID=Europe/London:20231011T183000
DTSTAMP:20260421T222130
CREATED:20230822T183013Z
LAST-MODIFIED:20230822T183013Z
UID:5856-1697045400-1697049000@sibfordvillagehall.org.uk
SUMMARY:Youth drama & dance group
DESCRIPTION:
URL:https://sibfordvillagehall.org.uk/event/youth-drama-dance-g-5/
LOCATION:Main hall
END:VEVENT
BEGIN:VEVENT
DTSTART;TZID=Europe/London:20231011T190000
DTEND;TZID=Europe/London:20231011T210000
DTSTAMP:20260421T222130
CREATED:20230518T183013Z
LAST-MODIFIED:20230518T183013Z
UID:5411-1697050800-1697058000@sibfordvillagehall.org.uk
SUMMARY:Bridge Classes
DESCRIPTION:
URL:https://sibfordvillagehall.org.uk/event/bridge-classes-3-2/
LOCATION:Small hall
END:VEVENT
BEGIN:VEVENT
DTSTART;TZID=Europe/London:20231011T193000
DTEND;TZID=Europe/London:20231011T213000
DTSTAMP:20260421T222130
CREATED:20231008T183006Z
LAST-MODIFIED:20231008T183006Z
UID:6101-1697052600-1697059800@sibfordvillagehall.org.uk
SUMMARY:Horti meeting - Butterflies
DESCRIPTION:Martin Gascoigne-Pees is coming to talk to us on our local butterflies and how to attract them to our gardens. Martin is a keen lepidopterist\, a wonderful wildlife photographer and knows whereof he speaks. His talk should be great and informative and useful to all those of us who mourn the lack of butterflies around. Is there anyone else out there old enough to remember when a summer car journey produced windscreen butterfly carnage? \nDoors open at 7.00 for refreshments\, the talk starts at 7.30. \nNon-members always welcome\, £3 per head.
URL:https://sibfordvillagehall.org.uk/event/horti-society-meeting-5/
LOCATION:Main hall
END:VEVENT
BEGIN:VEVENT
DTSTART;TZID=Europe/London:20231012T090000
DTEND;TZID=Europe/London:20231012T110000
DTSTAMP:20260421T222130
CREATED:20231004T183006Z
LAST-MODIFIED:20231004T183006Z
UID:6096-1697101200-1697108400@sibfordvillagehall.org.uk
SUMMARY:Yoga sessions
DESCRIPTION:
URL:https://sibfordvillagehall.org.uk/event/private-event-17-3/
LOCATION:Main hall
END:VEVENT
BEGIN:VEVENT
DTSTART;TZID=Europe/London:20231013T093000
DTEND;TZID=Europe/London:20231013T123000
DTSTAMP:20260421T222130
CREATED:20231012T183007Z
LAST-MODIFIED:20231012T183007Z
UID:6133-1697189400-1697200200@sibfordvillagehall.org.uk
SUMMARY:Art Class / Oil painting
DESCRIPTION:
URL:https://sibfordvillagehall.org.uk/event/art-class-oil-painti-2-2/
LOCATION:Main hall
END:VEVENT
END:VCALENDAR