BEGIN:VCALENDAR
VERSION:2.0
PRODID:-//Sibford Village Hall - ECPv6.15.20//NONSGML v1.0//EN
CALSCALE:GREGORIAN
METHOD:PUBLISH
X-ORIGINAL-URL:https://sibfordvillagehall.org.uk
X-WR-CALDESC:Events for Sibford Village Hall
REFRESH-INTERVAL;VALUE=DURATION:PT1H
X-Robots-Tag:noindex
X-PUBLISHED-TTL:PT1H
BEGIN:VTIMEZONE
TZID:Europe/London
BEGIN:DAYLIGHT
TZOFFSETFROM:+0000
TZOFFSETTO:+0100
TZNAME:BST
DTSTART:20230326T010000
END:DAYLIGHT
BEGIN:STANDARD
TZOFFSETFROM:+0100
TZOFFSETTO:+0000
TZNAME:GMT
DTSTART:20231029T010000
END:STANDARD
BEGIN:DAYLIGHT
TZOFFSETFROM:+0000
TZOFFSETTO:+0100
TZNAME:BST
DTSTART:20240331T010000
END:DAYLIGHT
BEGIN:STANDARD
TZOFFSETFROM:+0100
TZOFFSETTO:+0000
TZNAME:GMT
DTSTART:20241027T010000
END:STANDARD
BEGIN:DAYLIGHT
TZOFFSETFROM:+0000
TZOFFSETTO:+0100
TZNAME:BST
DTSTART:20250330T010000
END:DAYLIGHT
BEGIN:STANDARD
TZOFFSETFROM:+0100
TZOFFSETTO:+0000
TZNAME:GMT
DTSTART:20251026T010000
END:STANDARD
END:VTIMEZONE
BEGIN:VEVENT
DTSTART;TZID=Europe/London:20240124T120000
DTEND;TZID=Europe/London:20240124T143000
DTSTAMP:20260422T010728
CREATED:20240117T183020Z
LAST-MODIFIED:20240117T183020Z
UID:6670-1706097600-1706106600@sibfordvillagehall.org.uk
SUMMARY:Sibford Lunch Club
DESCRIPTION:
URL:https://sibfordvillagehall.org.uk/event/sibford-lunch-club-13-3/
LOCATION:Main hall
END:VEVENT
BEGIN:VEVENT
DTSTART;TZID=Europe/London:20240124T173000
DTEND;TZID=Europe/London:20240124T183000
DTSTAMP:20260422T010728
CREATED:20240103T183007Z
LAST-MODIFIED:20240103T183007Z
UID:6579-1706117400-1706121000@sibfordvillagehall.org.uk
SUMMARY:Private event
DESCRIPTION:
URL:https://sibfordvillagehall.org.uk/event/private-event-56-3/
LOCATION:Main hall
END:VEVENT
BEGIN:VEVENT
DTSTART;TZID=Europe/London:20240124T190000
DTEND;TZID=Europe/London:20240124T213000
DTSTAMP:20260422T010728
CREATED:20240124T183009Z
LAST-MODIFIED:20240124T183009Z
UID:6729-1706122800-1706131800@sibfordvillagehall.org.uk
SUMMARY:Private event
DESCRIPTION:
URL:https://sibfordvillagehall.org.uk/event/private-event-67/
LOCATION:Main hall
END:VEVENT
BEGIN:VEVENT
DTSTART;TZID=Europe/London:20240125T090000
DTEND;TZID=Europe/London:20240125T113000
DTSTAMP:20260422T010728
CREATED:20240102T183015Z
LAST-MODIFIED:20240102T183015Z
UID:6566-1706173200-1706182200@sibfordvillagehall.org.uk
SUMMARY:yoga
DESCRIPTION:
URL:https://sibfordvillagehall.org.uk/event/yoga-6-3/
LOCATION:Main hall
END:VEVENT
BEGIN:VEVENT
DTSTART;TZID=Europe/London:20240125T143000
DTEND;TZID=Europe/London:20240125T163000
DTSTAMP:20260422T010728
CREATED:20231219T183011Z
LAST-MODIFIED:20231219T183011Z
UID:6370-1706193000-1706200200@sibfordvillagehall.org.uk
SUMMARY:Warm Hub
DESCRIPTION:Free to attend as kindly sponsored by the Town Estate Charity \nRefreshments available as well as games \,crafts\, books\, puzzles. \nCome and socialise and keep warm in the small hall. \nContact Ginny on 01295 780 373 or ginnybennett@googlemail.com for more information. \nAll welcome!
URL:https://sibfordvillagehall.org.uk/event/private-event-35-3/
LOCATION:Small hall
END:VEVENT
BEGIN:VEVENT
DTSTART;TZID=Europe/London:20240125T193000
DTEND;TZID=Europe/London:20240125T213000
DTSTAMP:20260422T010728
CREATED:20231212T183008Z
LAST-MODIFIED:20231212T183008Z
UID:6320-1706211000-1706218200@sibfordvillagehall.org.uk
SUMMARY:FIlm night
DESCRIPTION:The Unlikely Pilgrimage of Harold Fry is the story of an unremarkable man who sets off on a remarkable journey. Harold lives a life without purpose until he learns an old friend is dying and vows that in walking across England to see her\, his journey can keep her alive. With Jim Broadbent and Penelope Wilton. \nDoors open at 7. Film starts at 7.30. Refreshments available. Admission £3.
URL:https://sibfordvillagehall.org.uk/event/film-night-13/
LOCATION:Main hall
END:VEVENT
BEGIN:VEVENT
DTSTART;TZID=Europe/London:20240126T093000
DTEND;TZID=Europe/London:20240126T113000
DTSTAMP:20260422T010728
CREATED:20240117T183020Z
LAST-MODIFIED:20240117T183020Z
UID:6671-1706261400-1706268600@sibfordvillagehall.org.uk
SUMMARY:Tots & Babes group
DESCRIPTION:
URL:https://sibfordvillagehall.org.uk/event/for-non-profit-play-g-3/
LOCATION:Small hall
END:VEVENT
BEGIN:VEVENT
DTSTART;TZID=Europe/London:20240126T093000
DTEND;TZID=Europe/London:20240126T123000
DTSTAMP:20260422T010728
CREATED:20240104T183007Z
LAST-MODIFIED:20240104T183007Z
UID:6585-1706261400-1706272200@sibfordvillagehall.org.uk
SUMMARY:Art Class
DESCRIPTION:
URL:https://sibfordvillagehall.org.uk/event/art-class-3-4/
LOCATION:Main hall
END:VEVENT
BEGIN:VEVENT
DTSTART;TZID=Europe/London:20240126T160000
DTEND;TZID=Europe/London:20240126T190000
DTSTAMP:20260422T010728
CREATED:20231224T183011Z
LAST-MODIFIED:20231224T183011Z
UID:6489-1706284800-1706295600@sibfordvillagehall.org.uk
SUMMARY:Beavers\, Cubs and Scouts
DESCRIPTION:
URL:https://sibfordvillagehall.org.uk/event/private-event-45-3/
LOCATION:Main hall
END:VEVENT
BEGIN:VEVENT
DTSTART;TZID=Europe/London:20240126T173000
DTEND;TZID=Europe/London:20240126T190000
DTSTAMP:20260422T010728
CREATED:20231224T183011Z
LAST-MODIFIED:20231224T183011Z
UID:6490-1706290200-1706295600@sibfordvillagehall.org.uk
SUMMARY:Beavers\, Cubs and Scouts
DESCRIPTION:
URL:https://sibfordvillagehall.org.uk/event/private-event-53-3/
LOCATION:Small hall
END:VEVENT
BEGIN:VEVENT
DTSTART;TZID=Europe/London:20240127T090000
DTEND;TZID=Europe/London:20240127T100000
DTSTAMP:20260422T010728
CREATED:20240113T183007Z
LAST-MODIFIED:20240113T183007Z
UID:6652-1706346000-1706349600@sibfordvillagehall.org.uk
SUMMARY:Private event
DESCRIPTION:
URL:https://sibfordvillagehall.org.uk/event/private-event-59-3/
LOCATION:Main hall
END:VEVENT
BEGIN:VEVENT
DTSTART;TZID=Europe/London:20240128T170000
DTEND;TZID=Europe/London:20240128T213000
DTSTAMP:20260422T010728
CREATED:20231220T183011Z
LAST-MODIFIED:20231220T183011Z
UID:6395-1706461200-1706477400@sibfordvillagehall.org.uk
SUMMARY:Sibford Players
DESCRIPTION:
URL:https://sibfordvillagehall.org.uk/event/sibford-players-33/
LOCATION:Main hall
END:VEVENT
BEGIN:VEVENT
DTSTART;TZID=Europe/London:20240129T183000
DTEND;TZID=Europe/London:20240129T193000
DTSTAMP:20260422T010728
CREATED:20240113T183007Z
LAST-MODIFIED:20240113T183007Z
UID:6653-1706553000-1706556600@sibfordvillagehall.org.uk
SUMMARY:Private event
DESCRIPTION:
URL:https://sibfordvillagehall.org.uk/event/private-event-60-3/
LOCATION:Main hall
END:VEVENT
BEGIN:VEVENT
DTSTART;TZID=Europe/London:20240129T193000
DTEND;TZID=Europe/London:20240129T220000
DTSTAMP:20260422T010728
CREATED:20231222T183007Z
LAST-MODIFIED:20231222T183007Z
UID:6477-1706556600-1706565600@sibfordvillagehall.org.uk
SUMMARY:Sibford Players
DESCRIPTION:
URL:https://sibfordvillagehall.org.uk/event/sibford-players-36/
LOCATION:Main hall
END:VEVENT
BEGIN:VEVENT
DTSTART;TZID=Europe/London:20240130T190000
DTEND;TZID=Europe/London:20240130T220000
DTSTAMP:20260422T010728
CREATED:20240130T183007Z
LAST-MODIFIED:20240130T183007Z
UID:6766-1706641200-1706652000@sibfordvillagehall.org.uk
SUMMARY:Sibford Players
DESCRIPTION:
URL:https://sibfordvillagehall.org.uk/event/sibford-players-48/
LOCATION:Main hall
END:VEVENT
BEGIN:VEVENT
DTSTART;TZID=Europe/London:20240130T193000
DTEND;TZID=Europe/London:20240130T213000
DTSTAMP:20260422T010728
CREATED:20240102T183016Z
LAST-MODIFIED:20240102T183016Z
UID:6568-1706643000-1706650200@sibfordvillagehall.org.uk
SUMMARY:Sibford Photography Club
DESCRIPTION:
URL:https://sibfordvillagehall.org.uk/event/sibford-photography-club-25/
LOCATION:Small hall
END:VEVENT
BEGIN:VEVENT
DTSTART;TZID=Europe/London:20240131T130000
DTEND;TZID=Europe/London:20240131T130000
DTSTAMP:20260422T010728
CREATED:20240131T183020Z
LAST-MODIFIED:20240131T183020Z
UID:6767-1706706000-1706706000@sibfordvillagehall.org.uk
SUMMARY:Sibford Lunch Club
DESCRIPTION:
URL:https://sibfordvillagehall.org.uk/event/sibford-lunch-club-13-4/
LOCATION:Main hall
END:VEVENT
BEGIN:VEVENT
DTSTART;TZID=Europe/London:20240131T173000
DTEND;TZID=Europe/London:20240131T183000
DTSTAMP:20260422T010728
CREATED:20240103T183007Z
LAST-MODIFIED:20240103T183007Z
UID:6580-1706722200-1706725800@sibfordvillagehall.org.uk
SUMMARY:Private event
DESCRIPTION:
URL:https://sibfordvillagehall.org.uk/event/private-event-56-4/
LOCATION:Main hall
END:VEVENT
BEGIN:VEVENT
DTSTART;TZID=Europe/London:20240201T090000
DTEND;TZID=Europe/London:20240201T113000
DTSTAMP:20260422T010728
CREATED:20240102T183017Z
LAST-MODIFIED:20240102T183017Z
UID:6570-1706778000-1706787000@sibfordvillagehall.org.uk
SUMMARY:yoga
DESCRIPTION:
URL:https://sibfordvillagehall.org.uk/event/yoga-6-4/
LOCATION:Main hall
END:VEVENT
BEGIN:VEVENT
DTSTART;TZID=Europe/London:20240201T193000
DTEND;TZID=Europe/London:20240201T193000
DTSTAMP:20260422T010728
CREATED:20240116T183008Z
LAST-MODIFIED:20240116T183008Z
UID:6666-1706815800-1706815800@sibfordvillagehall.org.uk
SUMMARY:Sibford Players present:
DESCRIPTION:The funniest murder mystery that Agatha Christie never wrote! \nThree performances: Thursday 1 Feb\, Friday 2 Feb at 7.30pm\, Saturday 3 Feb at 7pm. \nTickets £7.50 on sale from 2nd January. Contact Jo at gilkes.sibford@tiscali.co.uk or 07498 713 414
URL:https://sibfordvillagehall.org.uk/event/sibford-players-44/
LOCATION:Main hall
END:VEVENT
BEGIN:VEVENT
DTSTART;TZID=Europe/London:20240202T193000
DTEND;TZID=Europe/London:20240202T193000
DTSTAMP:20260422T010728
CREATED:20240202T183007Z
LAST-MODIFIED:20240202T183007Z
UID:6814-1706902200-1706902200@sibfordvillagehall.org.uk
SUMMARY:Sibford Players present:
DESCRIPTION:The funniest murder mystery that Agatha Christie never wrote! \nThree performances: Thursday 1 Feb\, Friday 2 Feb at 7.30pm\, Saturday 3 Feb at 7pm. \nTickets £7.50 on sale from 2nd January. Contact Jo at gilkes.sibford@tiscali.co.uk or 07498 713 414
URL:https://sibfordvillagehall.org.uk/event/sibford-players-45/
LOCATION:Main hall
END:VEVENT
BEGIN:VEVENT
DTSTART;TZID=Europe/London:20240203T190000
DTEND;TZID=Europe/London:20240203T190000
DTSTAMP:20260422T010728
CREATED:20240128T183006Z
LAST-MODIFIED:20240128T183006Z
UID:6752-1706986800-1706986800@sibfordvillagehall.org.uk
SUMMARY:Sibford Players present:
DESCRIPTION:The funniest murder mystery that Agatha Christie never wrote! \nThree performances: Thursday 1 Feb\, Friday 2 Feb at 7.30pm\, Saturday 3 Feb at 7pm. \nTickets £7.50 on sale from 2nd January. Contact Jo at gilkes.sibford@tiscali.co.uk or 07498 713 414
URL:https://sibfordvillagehall.org.uk/event/sibford-players-46/
LOCATION:Main hall
END:VEVENT
BEGIN:VEVENT
DTSTART;TZID=Europe/London:20240204T100000
DTEND;TZID=Europe/London:20240204T120000
DTSTAMP:20260422T010728
CREATED:20240117T183020Z
LAST-MODIFIED:20240117T183020Z
UID:6673-1707040800-1707048000@sibfordvillagehall.org.uk
SUMMARY:Sibford Players
DESCRIPTION:
URL:https://sibfordvillagehall.org.uk/event/sibford-players-47/
LOCATION:Main hall
END:VEVENT
BEGIN:VEVENT
DTSTART;TZID=Europe/London:20240204T133000
DTEND;TZID=Europe/London:20240204T170000
DTSTAMP:20260422T010728
CREATED:20240110T183010Z
LAST-MODIFIED:20240110T183010Z
UID:6637-1707053400-1707066000@sibfordvillagehall.org.uk
SUMMARY:Private event
DESCRIPTION:
URL:https://sibfordvillagehall.org.uk/event/private-event-57/
LOCATION:Main hall
END:VEVENT
BEGIN:VEVENT
DTSTART;TZID=Europe/London:20240205T183000
DTEND;TZID=Europe/London:20240205T193000
DTSTAMP:20260422T010728
CREATED:20240113T183007Z
LAST-MODIFIED:20240113T183007Z
UID:6654-1707157800-1707161400@sibfordvillagehall.org.uk
SUMMARY:Private event
DESCRIPTION:
URL:https://sibfordvillagehall.org.uk/event/private-event-60-4/
LOCATION:Main hall
END:VEVENT
BEGIN:VEVENT
DTSTART;TZID=Europe/London:20240205T193000
DTEND;TZID=Europe/London:20240205T210000
DTSTAMP:20260422T010728
CREATED:20240129T183012Z
LAST-MODIFIED:20240129T183012Z
UID:6753-1707161400-1707166800@sibfordvillagehall.org.uk
SUMMARY:Private event
DESCRIPTION:
URL:https://sibfordvillagehall.org.uk/event/private-event-70/
LOCATION:Small hall
END:VEVENT
BEGIN:VEVENT
DTSTART;TZID=Europe/London:20240206T140000
DTEND;TZID=Europe/London:20240206T160000
DTSTAMP:20260422T010728
CREATED:20231011T183007Z
LAST-MODIFIED:20231011T183007Z
UID:6124-1707228000-1707235200@sibfordvillagehall.org.uk
SUMMARY:Friendship Club
DESCRIPTION:
URL:https://sibfordvillagehall.org.uk/event/friendship-club-14-2/
LOCATION:Small hall
END:VEVENT
BEGIN:VEVENT
DTSTART;TZID=Europe/London:20240207T130000
DTEND;TZID=Europe/London:20240207T130000
DTSTAMP:20260422T010728
CREATED:20240131T183020Z
LAST-MODIFIED:20240131T183020Z
UID:6768-1707310800-1707310800@sibfordvillagehall.org.uk
SUMMARY:Sibford Lunch Club
DESCRIPTION:
URL:https://sibfordvillagehall.org.uk/event/sibford-lunch-club-13-5/
LOCATION:Main hall
END:VEVENT
BEGIN:VEVENT
DTSTART;TZID=Europe/London:20240207T173000
DTEND;TZID=Europe/London:20240207T183000
DTSTAMP:20260422T010728
CREATED:20240103T183008Z
LAST-MODIFIED:20240103T183008Z
UID:6582-1707327000-1707330600@sibfordvillagehall.org.uk
SUMMARY:Private event
DESCRIPTION:
URL:https://sibfordvillagehall.org.uk/event/private-event-56-5/
LOCATION:Main hall
END:VEVENT
BEGIN:VEVENT
DTSTART;TZID=Europe/London:20240207T190000
DTEND;TZID=Europe/London:20240207T200000
DTSTAMP:20260422T010728
CREATED:20240206T183008Z
LAST-MODIFIED:20240206T183008Z
UID:6816-1707332400-1707336000@sibfordvillagehall.org.uk
SUMMARY:Private event
DESCRIPTION:
URL:https://sibfordvillagehall.org.uk/event/private-event-72/
LOCATION:Small hall
END:VEVENT
END:VCALENDAR