BEGIN:VCALENDAR
VERSION:2.0
PRODID:-//Sibford Village Hall - ECPv6.15.20//NONSGML v1.0//EN
CALSCALE:GREGORIAN
METHOD:PUBLISH
X-WR-CALNAME:Sibford Village Hall
X-ORIGINAL-URL:https://sibfordvillagehall.org.uk
X-WR-CALDESC:Events for Sibford Village Hall
REFRESH-INTERVAL;VALUE=DURATION:PT1H
X-Robots-Tag:noindex
X-PUBLISHED-TTL:PT1H
BEGIN:VTIMEZONE
TZID:Europe/London
BEGIN:DAYLIGHT
TZOFFSETFROM:+0000
TZOFFSETTO:+0100
TZNAME:BST
DTSTART:20220327T010000
END:DAYLIGHT
BEGIN:STANDARD
TZOFFSETFROM:+0100
TZOFFSETTO:+0000
TZNAME:GMT
DTSTART:20221030T010000
END:STANDARD
BEGIN:DAYLIGHT
TZOFFSETFROM:+0000
TZOFFSETTO:+0100
TZNAME:BST
DTSTART:20230326T010000
END:DAYLIGHT
BEGIN:STANDARD
TZOFFSETFROM:+0100
TZOFFSETTO:+0000
TZNAME:GMT
DTSTART:20231029T010000
END:STANDARD
BEGIN:DAYLIGHT
TZOFFSETFROM:+0000
TZOFFSETTO:+0100
TZNAME:BST
DTSTART:20240331T010000
END:DAYLIGHT
BEGIN:STANDARD
TZOFFSETFROM:+0100
TZOFFSETTO:+0000
TZNAME:GMT
DTSTART:20241027T010000
END:STANDARD
END:VTIMEZONE
BEGIN:VEVENT
DTSTART;TZID=Europe/London:20230331T130000
DTEND;TZID=Europe/London:20230331T153000
DTSTAMP:20260421T234240
CREATED:20230307T183010Z
LAST-MODIFIED:20230307T183010Z
UID:4717-1680267600-1680276600@sibfordvillagehall.org.uk
SUMMARY:Watercolour painting class
DESCRIPTION:
URL:https://sibfordvillagehall.org.uk/event/watercolour-painting-class-3-13/
LOCATION:Main hall
END:VEVENT
BEGIN:VEVENT
DTSTART;TZID=Europe/London:20230331T093000
DTEND;TZID=Europe/London:20230331T123000
DTSTAMP:20260421T234240
CREATED:20230325T183010Z
LAST-MODIFIED:20230325T183010Z
UID:4958-1680255000-1680265800@sibfordvillagehall.org.uk
SUMMARY:Oil painting class
DESCRIPTION:
URL:https://sibfordvillagehall.org.uk/event/oil-painting-class-22-12/
LOCATION:Main hall
END:VEVENT
BEGIN:VEVENT
DTSTART;TZID=Europe/London:20230331T093000
DTEND;TZID=Europe/London:20230331T113000
DTSTAMP:20260421T234240
CREATED:20230205T183011Z
LAST-MODIFIED:20230205T183011Z
UID:4324-1680255000-1680262200@sibfordvillagehall.org.uk
SUMMARY:Sibford Tots & Babes Group
DESCRIPTION:
URL:https://sibfordvillagehall.org.uk/event/sibford-tots-babes-group-11/
LOCATION:Small hall
END:VEVENT
BEGIN:VEVENT
DTSTART;TZID=Europe/London:20230330T193000
DTEND;TZID=Europe/London:20230330T213000
DTSTAMP:20260421T234240
CREATED:20230328T183008Z
LAST-MODIFIED:20230328T183008Z
UID:5008-1680204600-1680211800@sibfordvillagehall.org.uk
SUMMARY:Film Night
DESCRIPTION:Village Hall movies presents Mrs Harris Goes to Paris \nMrs Harris Goes to Paris is a 2022 historical comedy-drama film directed and produced by Anthony Fabian\, from a screenplay he co-wrote with Carroll Cartwright\, Keith Thompson\, and Olivia Hetreed. It is the third film adaptation of the 1958 novel Mrs. ‘Arris Goes to Paris by Paul Gallico. \nDoors open from 7pm \nNo charge for the film show but donations welcome. Tea/coffee available for small charge.
URL:https://sibfordvillagehall.org.uk/event/film-night-9/
LOCATION:Main hall
END:VEVENT
BEGIN:VEVENT
DTSTART;TZID=Europe/London:20230330T193000
DTEND;TZID=Europe/London:20230330T210000
DTSTAMP:20260421T234240
CREATED:20230207T183014Z
LAST-MODIFIED:20230207T183014Z
UID:4359-1680204600-1680210000@sibfordvillagehall.org.uk
SUMMARY:Village Hall Trustees Meeting
DESCRIPTION:
URL:https://sibfordvillagehall.org.uk/event/village-hall-trustees-meeting-14/
LOCATION:Small hall
END:VEVENT
BEGIN:VEVENT
DTSTART;TZID=Europe/London:20230330T173000
DTEND;TZID=Europe/London:20230330T183000
DTSTAMP:20260421T234240
CREATED:20230321T183009Z
LAST-MODIFIED:20230321T183009Z
UID:4925-1680197400-1680201000@sibfordvillagehall.org.uk
SUMMARY:Sibford Young Performers
DESCRIPTION:
URL:https://sibfordvillagehall.org.uk/event/sibford-young-performers-7-11/
LOCATION:Main hall
END:VEVENT
BEGIN:VEVENT
DTSTART;TZID=Europe/London:20230330T101500
DTEND;TZID=Europe/London:20230330T111500
DTSTAMP:20260421T234240
CREATED:20230115T183017Z
LAST-MODIFIED:20230115T183017Z
UID:4090-1680171300-1680174900@sibfordvillagehall.org.uk
SUMMARY:Chair Yoga
DESCRIPTION:
URL:https://sibfordvillagehall.org.uk/event/chair-yoga-37-11/
LOCATION:Main hall
END:VEVENT
BEGIN:VEVENT
DTSTART;TZID=Europe/London:20230330T090000
DTEND;TZID=Europe/London:20230330T100000
DTSTAMP:20260421T234240
CREATED:20230115T183017Z
LAST-MODIFIED:20230115T183017Z
UID:4089-1680166800-1680170400@sibfordvillagehall.org.uk
SUMMARY:Flow Yoga
DESCRIPTION:
URL:https://sibfordvillagehall.org.uk/event/flow-yoga-6-11/
LOCATION:Main hall
END:VEVENT
BEGIN:VEVENT
DTSTART;TZID=Europe/London:20230329T190000
DTEND;TZID=Europe/London:20230329T210000
DTSTAMP:20260421T234240
CREATED:20230325T183010Z
LAST-MODIFIED:20230325T183010Z
UID:4957-1680116400-1680123600@sibfordvillagehall.org.uk
SUMMARY:Bridge Class
DESCRIPTION:
URL:https://sibfordvillagehall.org.uk/event/bridge-class-3/
LOCATION:Small hall
END:VEVENT
BEGIN:VEVENT
DTSTART;TZID=Europe/London:20230329T120000
DTEND;TZID=Europe/London:20230329T143000
DTSTAMP:20260421T234240
CREATED:20230329T183018Z
LAST-MODIFIED:20230329T183018Z
UID:5015-1680091200-1680100200@sibfordvillagehall.org.uk
SUMMARY:Sibford Lunch Club
DESCRIPTION:
URL:https://sibfordvillagehall.org.uk/event/sibford-lunch-club-10-13/
LOCATION:Main hall
END:VEVENT
BEGIN:VEVENT
DTSTART;TZID=Europe/London:20230328T193000
DTEND;TZID=Europe/London:20230328T213000
DTSTAMP:20260421T234240
CREATED:20230203T183008Z
LAST-MODIFIED:20230203T183008Z
UID:4294-1680031800-1680039000@sibfordvillagehall.org.uk
SUMMARY:Sibford Photography Club
DESCRIPTION:
URL:https://sibfordvillagehall.org.uk/event/sibford-photography-club-20/
LOCATION:Small hall
END:VEVENT
BEGIN:VEVENT
DTSTART;TZID=Europe/London:20230328T190000
DTEND;TZID=Europe/London:20230328T200000
DTSTAMP:20260421T234240
CREATED:20230321T183008Z
LAST-MODIFIED:20230321T183008Z
UID:4924-1680030000-1680033600@sibfordvillagehall.org.uk
SUMMARY:Yogalates
DESCRIPTION:
URL:https://sibfordvillagehall.org.uk/event/yogalates-10/
LOCATION:Main hall
END:VEVENT
BEGIN:VEVENT
DTSTART;TZID=Europe/London:20230328T090000
DTEND;TZID=Europe/London:20230328T100000
DTSTAMP:20260421T234240
CREATED:20230308T183018Z
LAST-MODIFIED:20230308T183018Z
UID:4741-1679994000-1679997600@sibfordvillagehall.org.uk
SUMMARY:Slow and gentle Yoga
DESCRIPTION:
URL:https://sibfordvillagehall.org.uk/event/slow-and-gentle-yoga-7-11/
LOCATION:Main hall
END:VEVENT
BEGIN:VEVENT
DTSTART;TZID=Europe/London:20230327T193000
DTEND;TZID=Europe/London:20230327T210000
DTSTAMP:20260421T234240
CREATED:20230315T183014Z
LAST-MODIFIED:20230315T183014Z
UID:4843-1679945400-1679950800@sibfordvillagehall.org.uk
SUMMARY:Sibford Players
DESCRIPTION:
URL:https://sibfordvillagehall.org.uk/event/sibford-players-30-8/
LOCATION:Small hall
END:VEVENT
BEGIN:VEVENT
DTSTART;TZID=Europe/London:20230327T090000
DTEND;TZID=Europe/London:20230327T120000
DTSTAMP:20260421T234240
CREATED:20230308T183018Z
LAST-MODIFIED:20230308T183018Z
UID:4739-1679907600-1679918400@sibfordvillagehall.org.uk
SUMMARY:Warm Hub
DESCRIPTION:You are welcome to a new venture at the Village Hall-  in the warm!!  \nOn Monday mornings from 9am until 12 midday we will open the small hall for anyone to come in. Just pop in anytime during the morning. \nHave a chat and coffee /tea and biscuits/cake. Play cards or Scrabble\, read a book or do some art work. Everything provided and all free. \nKindly funded by the Town Estate Charity. \nFor more information\, contact Ginny  01295 780 373 or Joan 01295 780 410.
URL:https://sibfordvillagehall.org.uk/event/warm-hub-4/
LOCATION:Small hall
END:VEVENT
BEGIN:VEVENT
DTSTART;TZID=Europe/London:20230325T140000
DTEND;TZID=Europe/London:20230325T180000
DTSTAMP:20260421T234240
CREATED:20230201T183008Z
LAST-MODIFIED:20230201T183008Z
UID:4252-1679752800-1679767200@sibfordvillagehall.org.uk
SUMMARY:Private hire
DESCRIPTION:
URL:https://sibfordvillagehall.org.uk/event/private-hire-91/
LOCATION:Main hall
END:VEVENT
BEGIN:VEVENT
DTSTART;TZID=Europe/London:20230325T090000
DTEND;TZID=Europe/London:20230325T100000
DTSTAMP:20260421T234240
CREATED:20230315T183014Z
LAST-MODIFIED:20230315T183014Z
UID:4842-1679734800-1679738400@sibfordvillagehall.org.uk
SUMMARY:Karate
DESCRIPTION:
URL:https://sibfordvillagehall.org.uk/event/karate-18-12/
LOCATION:Main hall
END:VEVENT
BEGIN:VEVENT
DTSTART;TZID=Europe/London:20230324T173000
DTEND;TZID=Europe/London:20230324T190000
DTSTAMP:20260421T234240
CREATED:20230219T183012Z
LAST-MODIFIED:20230219T183012Z
UID:4514-1679679000-1679684400@sibfordvillagehall.org.uk
SUMMARY:Cubs
DESCRIPTION:
URL:https://sibfordvillagehall.org.uk/event/cubs-25-9/
LOCATION:Main hall
END:VEVENT
BEGIN:VEVENT
DTSTART;TZID=Europe/London:20230324T173000
DTEND;TZID=Europe/London:20230324T190000
DTSTAMP:20260421T234240
CREATED:20230219T183012Z
LAST-MODIFIED:20230219T183012Z
UID:4515-1679679000-1679684400@sibfordvillagehall.org.uk
SUMMARY:Scouts
DESCRIPTION:
URL:https://sibfordvillagehall.org.uk/event/scouts-25-6/
LOCATION:Small hall
END:VEVENT
BEGIN:VEVENT
DTSTART;TZID=Europe/London:20230324T160000
DTEND;TZID=Europe/London:20230324T173000
DTSTAMP:20260421T234240
CREATED:20230219T183011Z
LAST-MODIFIED:20230219T183011Z
UID:4513-1679673600-1679679000@sibfordvillagehall.org.uk
SUMMARY:Beavers
DESCRIPTION:
URL:https://sibfordvillagehall.org.uk/event/beavers-23-9/
LOCATION:Main hall
END:VEVENT
BEGIN:VEVENT
DTSTART;TZID=Europe/London:20230324T130000
DTEND;TZID=Europe/London:20230324T153000
DTSTAMP:20260421T234240
CREATED:20230307T183010Z
LAST-MODIFIED:20230307T183010Z
UID:4716-1679662800-1679671800@sibfordvillagehall.org.uk
SUMMARY:Watercolour painting class
DESCRIPTION:
URL:https://sibfordvillagehall.org.uk/event/watercolour-painting-class-3-12/
LOCATION:Main hall
END:VEVENT
BEGIN:VEVENT
DTSTART;TZID=Europe/London:20230324T093000
DTEND;TZID=Europe/London:20230324T123000
DTSTAMP:20260421T234240
CREATED:20230112T183123Z
LAST-MODIFIED:20230112T183123Z
UID:4005-1679650200-1679661000@sibfordvillagehall.org.uk
SUMMARY:Oil painting class
DESCRIPTION:
URL:https://sibfordvillagehall.org.uk/event/oil-painting-class-22-11/
LOCATION:Main hall
END:VEVENT
BEGIN:VEVENT
DTSTART;TZID=Europe/London:20230324T093000
DTEND;TZID=Europe/London:20230324T113000
DTSTAMP:20260421T234240
CREATED:20230205T183011Z
LAST-MODIFIED:20230205T183011Z
UID:4322-1679650200-1679657400@sibfordvillagehall.org.uk
SUMMARY:Sibford Tots & Babes Group
DESCRIPTION:
URL:https://sibfordvillagehall.org.uk/event/sibford-tots-babes-group-10/
LOCATION:Small hall
END:VEVENT
BEGIN:VEVENT
DTSTART;TZID=Europe/London:20230323T190000
DTEND;TZID=Europe/London:20230323T203000
DTSTAMP:20260421T234240
CREATED:20230322T183007Z
LAST-MODIFIED:20230322T183007Z
UID:4944-1679598000-1679603400@sibfordvillagehall.org.uk
SUMMARY:Sibford Gower Parish Council Meeting
DESCRIPTION:23 Mar 23 – SGPC Agenda
URL:https://sibfordvillagehall.org.uk/event/sibford-gower-parish-council-meeting-18/
LOCATION:Small hall
END:VEVENT
BEGIN:VEVENT
DTSTART;TZID=Europe/London:20230323T173000
DTEND;TZID=Europe/London:20230323T183000
DTSTAMP:20260421T234240
CREATED:20230321T183008Z
LAST-MODIFIED:20230321T183008Z
UID:4923-1679592600-1679596200@sibfordvillagehall.org.uk
SUMMARY:Sibford Young Performers
DESCRIPTION:
URL:https://sibfordvillagehall.org.uk/event/sibford-young-performers-7-10/
LOCATION:Main hall
END:VEVENT
BEGIN:VEVENT
DTSTART;TZID=Europe/London:20230323T101500
DTEND;TZID=Europe/London:20230323T111500
DTSTAMP:20260421T234240
CREATED:20230115T183016Z
LAST-MODIFIED:20230115T183016Z
UID:4087-1679566500-1679570100@sibfordvillagehall.org.uk
SUMMARY:Chair Yoga
DESCRIPTION:
URL:https://sibfordvillagehall.org.uk/event/chair-yoga-37-10/
LOCATION:Main hall
END:VEVENT
BEGIN:VEVENT
DTSTART;TZID=Europe/London:20230323T090000
DTEND;TZID=Europe/London:20230323T100000
DTSTAMP:20260421T234240
CREATED:20230115T183016Z
LAST-MODIFIED:20230115T183016Z
UID:4086-1679562000-1679565600@sibfordvillagehall.org.uk
SUMMARY:Flow Yoga
DESCRIPTION:
URL:https://sibfordvillagehall.org.uk/event/flow-yoga-6-10/
LOCATION:Main hall
END:VEVENT
BEGIN:VEVENT
DTSTART;TZID=Europe/London:20230322T183000
DTEND;TZID=Europe/London:20230322T220000
DTSTAMP:20260421T234240
CREATED:20221206T183019Z
LAST-MODIFIED:20221206T183019Z
UID:3683-1679509800-1679522400@sibfordvillagehall.org.uk
SUMMARY:Private hire HNVG
DESCRIPTION:
URL:https://sibfordvillagehall.org.uk/event/private-hire-81/
LOCATION:Main hall
END:VEVENT
BEGIN:VEVENT
DTSTART;TZID=Europe/London:20230322T120000
DTEND;TZID=Europe/London:20230322T143000
DTSTAMP:20260421T234240
CREATED:20230308T183018Z
LAST-MODIFIED:20230308T183018Z
UID:4738-1679486400-1679495400@sibfordvillagehall.org.uk
SUMMARY:Sibford Lunch Club
DESCRIPTION:
URL:https://sibfordvillagehall.org.uk/event/sibford-lunch-club-10-12/
LOCATION:Main hall
END:VEVENT
BEGIN:VEVENT
DTSTART;TZID=Europe/London:20230321T190000
DTEND;TZID=Europe/London:20230321T200000
DTSTAMP:20260421T234240
CREATED:20230321T183008Z
LAST-MODIFIED:20230321T183008Z
UID:4922-1679425200-1679428800@sibfordvillagehall.org.uk
SUMMARY:Yogalates
DESCRIPTION:
URL:https://sibfordvillagehall.org.uk/event/yogalates-9/
LOCATION:Main hall
END:VEVENT
END:VCALENDAR