BEGIN:VCALENDAR
VERSION:2.0
PRODID:-//Sibford Village Hall - ECPv6.15.20//NONSGML v1.0//EN
CALSCALE:GREGORIAN
METHOD:PUBLISH
X-WR-CALNAME:Sibford Village Hall
X-ORIGINAL-URL:https://sibfordvillagehall.org.uk
X-WR-CALDESC:Events for Sibford Village Hall
REFRESH-INTERVAL;VALUE=DURATION:PT1H
X-Robots-Tag:noindex
X-PUBLISHED-TTL:PT1H
BEGIN:VTIMEZONE
TZID:Europe/London
BEGIN:DAYLIGHT
TZOFFSETFROM:+0000
TZOFFSETTO:+0100
TZNAME:BST
DTSTART:20210328T010000
END:DAYLIGHT
BEGIN:STANDARD
TZOFFSETFROM:+0100
TZOFFSETTO:+0000
TZNAME:GMT
DTSTART:20211031T010000
END:STANDARD
BEGIN:DAYLIGHT
TZOFFSETFROM:+0000
TZOFFSETTO:+0100
TZNAME:BST
DTSTART:20220327T010000
END:DAYLIGHT
BEGIN:STANDARD
TZOFFSETFROM:+0100
TZOFFSETTO:+0000
TZNAME:GMT
DTSTART:20221030T010000
END:STANDARD
BEGIN:DAYLIGHT
TZOFFSETFROM:+0000
TZOFFSETTO:+0100
TZNAME:BST
DTSTART:20230326T010000
END:DAYLIGHT
BEGIN:STANDARD
TZOFFSETFROM:+0100
TZOFFSETTO:+0000
TZNAME:GMT
DTSTART:20231029T010000
END:STANDARD
END:VTIMEZONE
BEGIN:VEVENT
DTSTART;TZID=Europe/London:20220401T093000
DTEND;TZID=Europe/London:20220401T113000
DTSTAMP:20260426T045447
CREATED:20220401T183010Z
LAST-MODIFIED:20220401T183010Z
UID:1822-1648805400-1648812600@sibfordvillagehall.org.uk
SUMMARY:Sibford Tots and Babes Group
DESCRIPTION:
URL:https://sibfordvillagehall.org.uk/event/sibford-tots-and-babes-group-3/
LOCATION:Small hall
END:VEVENT
BEGIN:VEVENT
DTSTART;TZID=Europe/London:20220331T173000
DTEND;TZID=Europe/London:20220331T183000
DTSTAMP:20260426T045447
CREATED:20220311T183014Z
LAST-MODIFIED:20220311T183014Z
UID:1724-1648747800-1648751400@sibfordvillagehall.org.uk
SUMMARY:Sibford Young Performers
DESCRIPTION:
URL:https://sibfordvillagehall.org.uk/event/sibford-young-performers-4-4/
LOCATION:Main hall
END:VEVENT
BEGIN:VEVENT
DTSTART;TZID=Europe/London:20220331T151500
DTEND;TZID=Europe/London:20220331T161500
DTSTAMP:20260426T045447
CREATED:20220304T183014Z
LAST-MODIFIED:20220304T183014Z
UID:1692-1648739700-1648743300@sibfordvillagehall.org.uk
SUMMARY:Private hire
DESCRIPTION:
URL:https://sibfordvillagehall.org.uk/event/private-hire-68-4/
LOCATION:Main hall
END:VEVENT
BEGIN:VEVENT
DTSTART;TZID=Europe/London:20220331T101500
DTEND;TZID=Europe/London:20220331T111500
DTSTAMP:20260426T045447
CREATED:20220220T183018Z
LAST-MODIFIED:20220220T183018Z
UID:1628-1648721700-1648725300@sibfordvillagehall.org.uk
SUMMARY:Chair Yoga
DESCRIPTION:
URL:https://sibfordvillagehall.org.uk/event/chair-yoga-34-17/
LOCATION:Main hall
END:VEVENT
BEGIN:VEVENT
DTSTART;TZID=Europe/London:20220331T090000
DTEND;TZID=Europe/London:20220331T100000
DTSTAMP:20260426T045447
CREATED:20220220T183018Z
LAST-MODIFIED:20220220T183018Z
UID:1627-1648717200-1648720800@sibfordvillagehall.org.uk
SUMMARY:Flow Yoga
DESCRIPTION:
URL:https://sibfordvillagehall.org.uk/event/flow-yoga-2-17/
LOCATION:Main hall
END:VEVENT
BEGIN:VEVENT
DTSTART;TZID=Europe/London:20220330T193000
DTEND;TZID=Europe/London:20220330T203000
DTSTAMP:20260426T045447
CREATED:20220303T183022Z
LAST-MODIFIED:20220303T183022Z
UID:1685-1648668600-1648672200@sibfordvillagehall.org.uk
SUMMARY:Village Hall Trustees meeting
DESCRIPTION:
URL:https://sibfordvillagehall.org.uk/event/village-hall-trustees-meeting-7/
LOCATION:Main hall
END:VEVENT
BEGIN:VEVENT
DTSTART;TZID=Europe/London:20220330T120000
DTEND;TZID=Europe/London:20220330T143000
DTSTAMP:20260426T045447
CREATED:20211230T183013Z
LAST-MODIFIED:20211230T183013Z
UID:1126-1648641600-1648650600@sibfordvillagehall.org.uk
SUMMARY:Sibford Lunch Club
DESCRIPTION:
URL:https://sibfordvillagehall.org.uk/event/sibford-lunch-club-7-13/
LOCATION:Main hall
END:VEVENT
BEGIN:VEVENT
DTSTART;TZID=Europe/London:20220329T193000
DTEND;TZID=Europe/London:20220329T223000
DTSTAMP:20260426T045447
CREATED:20220321T183011Z
LAST-MODIFIED:20220321T183011Z
UID:1770-1648582200-1648593000@sibfordvillagehall.org.uk
SUMMARY:Town Estates Trustees meeting
DESCRIPTION:
URL:https://sibfordvillagehall.org.uk/event/town-estates-trustees-meeting/
LOCATION:Small hall
END:VEVENT
BEGIN:VEVENT
DTSTART;TZID=Europe/London:20220329T193000
DTEND;TZID=Europe/London:20220329T213000
DTSTAMP:20260426T045447
CREATED:20211207T183011Z
LAST-MODIFIED:20211207T183011Z
UID:1083-1648582200-1648589400@sibfordvillagehall.org.uk
SUMMARY:Sibford Photography Club
DESCRIPTION:
URL:https://sibfordvillagehall.org.uk/event/sibford-photography-club-9/
LOCATION:Main hall
END:VEVENT
BEGIN:VEVENT
DTSTART;TZID=Europe/London:20220329T090000
DTEND;TZID=Europe/London:20220329T100000
DTSTAMP:20260426T045447
CREATED:20220220T183018Z
LAST-MODIFIED:20220220T183018Z
UID:1626-1648544400-1648548000@sibfordvillagehall.org.uk
SUMMARY:Slow and Gentle Yoga
DESCRIPTION:
URL:https://sibfordvillagehall.org.uk/event/slow-and-gentle-yoga-4-17/
LOCATION:Main hall
END:VEVENT
BEGIN:VEVENT
DTSTART;TZID=Europe/London:20220328T093000
DTEND;TZID=Europe/London:20220328T103000
DTSTAMP:20260426T045447
CREATED:20220111T183117Z
LAST-MODIFIED:20220111T183117Z
UID:1292-1648459800-1648463400@sibfordvillagehall.org.uk
SUMMARY:Birth and Bloom
DESCRIPTION:
URL:https://sibfordvillagehall.org.uk/event/birth-and-bloom-2-7/
LOCATION:Main hall
END:VEVENT
BEGIN:VEVENT
DTSTART;TZID=Europe/London:20220327T103000
DTEND;TZID=Europe/London:20220327T150000
DTSTAMP:20260426T045447
CREATED:20220122T183014Z
LAST-MODIFIED:20220122T183014Z
UID:1470-1648377000-1648393200@sibfordvillagehall.org.uk
SUMMARY:Private hire
DESCRIPTION:
URL:https://sibfordvillagehall.org.uk/event/private-hire-provisional-3/
LOCATION:Main hall
END:VEVENT
BEGIN:VEVENT
DTSTART;TZID=Europe/London:20220327T090000
DTEND;TZID=Europe/London:20220327T140000
DTSTAMP:20260426T045447
CREATED:20220314T183012Z
LAST-MODIFIED:20220314T183012Z
UID:1742-1648371600-1648389600@sibfordvillagehall.org.uk
SUMMARY:Private hire
DESCRIPTION:
URL:https://sibfordvillagehall.org.uk/event/private-hire-66/
LOCATION:Small hall
END:VEVENT
BEGIN:VEVENT
DTSTART;TZID=Europe/London:20220325T173000
DTEND;TZID=Europe/London:20220325T190000
DTSTAMP:20260426T045447
CREATED:20220302T183024Z
LAST-MODIFIED:20220302T183024Z
UID:1676-1648229400-1648234800@sibfordvillagehall.org.uk
SUMMARY:Scouts
DESCRIPTION:
URL:https://sibfordvillagehall.org.uk/event/scouts-15-3/
LOCATION:Small hall
END:VEVENT
BEGIN:VEVENT
DTSTART;TZID=Europe/London:20220325T173000
DTEND;TZID=Europe/London:20220325T190000
DTSTAMP:20260426T045447
CREATED:20220302T183023Z
LAST-MODIFIED:20220302T183023Z
UID:1675-1648229400-1648234800@sibfordvillagehall.org.uk
SUMMARY:Cubs
DESCRIPTION:
URL:https://sibfordvillagehall.org.uk/event/cubs-17-4/
LOCATION:Main hall
END:VEVENT
BEGIN:VEVENT
DTSTART;TZID=Europe/London:20220325T160000
DTEND;TZID=Europe/London:20220325T173000
DTSTAMP:20260426T045447
CREATED:20220302T183023Z
LAST-MODIFIED:20220302T183023Z
UID:1674-1648224000-1648229400@sibfordvillagehall.org.uk
SUMMARY:Beavers
DESCRIPTION:
URL:https://sibfordvillagehall.org.uk/event/beavers-14-8/
LOCATION:Main hall
END:VEVENT
BEGIN:VEVENT
DTSTART;TZID=Europe/London:20220325T133000
DTEND;TZID=Europe/London:20220325T153000
DTSTAMP:20260426T045447
CREATED:20220211T183022Z
LAST-MODIFIED:20220211T183022Z
UID:1573-1648215000-1648222200@sibfordvillagehall.org.uk
SUMMARY:Watercolour Painting Class
DESCRIPTION:Learn the basics in a friendly informal class with easy to follow demonstrations. \nFor more information please contact Nigel Fletcher \nnvfletcher@btinternet.com \nwww.nigelfletcher.co.uk \n07792 657 248
URL:https://sibfordvillagehall.org.uk/event/watercolour-painting-class-7/
LOCATION:Main hall
END:VEVENT
BEGIN:VEVENT
DTSTART;TZID=Europe/London:20220325T093000
DTEND;TZID=Europe/London:20220325T123000
DTSTAMP:20260426T045447
CREATED:20220211T183022Z
LAST-MODIFIED:20220211T183022Z
UID:1572-1648200600-1648211400@sibfordvillagehall.org.uk
SUMMARY:Oil Painting Art Class
DESCRIPTION:Learn the basics of oil painting in a friendly informal class with easy to follow demonstrations. \nFor more information please contact Nigel Fletcher \nnvfletcher@btinternet.com \nwww.nigelfletcher.co.uk \n07792 657 248
URL:https://sibfordvillagehall.org.uk/event/art-class-2-12/
LOCATION:Main hall
END:VEVENT
BEGIN:VEVENT
DTSTART;TZID=Europe/London:20220325T093000
DTEND;TZID=Europe/London:20220325T113000
DTSTAMP:20260426T045447
CREATED:20220218T183011Z
LAST-MODIFIED:20220218T183011Z
UID:1598-1648200600-1648207800@sibfordvillagehall.org.uk
SUMMARY:Sibford Tots and Babes
DESCRIPTION:
URL:https://sibfordvillagehall.org.uk/event/sibford-tots-and-babes-9/
LOCATION:Small hall
END:VEVENT
BEGIN:VEVENT
DTSTART;TZID=Europe/London:20220324T173000
DTEND;TZID=Europe/London:20220324T183000
DTSTAMP:20260426T045447
CREATED:20220311T183014Z
LAST-MODIFIED:20220311T183014Z
UID:1723-1648143000-1648146600@sibfordvillagehall.org.uk
SUMMARY:Sibford Young Performers
DESCRIPTION:
URL:https://sibfordvillagehall.org.uk/event/sibford-young-performers-4-3/
LOCATION:Main hall
END:VEVENT
BEGIN:VEVENT
DTSTART;TZID=Europe/London:20220324T151500
DTEND;TZID=Europe/London:20220324T161500
DTSTAMP:20260426T045447
CREATED:20220304T183013Z
LAST-MODIFIED:20220304T183013Z
UID:1691-1648134900-1648138500@sibfordvillagehall.org.uk
SUMMARY:Private hire
DESCRIPTION:
URL:https://sibfordvillagehall.org.uk/event/private-hire-68-3/
LOCATION:Main hall
END:VEVENT
BEGIN:VEVENT
DTSTART;TZID=Europe/London:20220324T110000
DTEND;TZID=Europe/London:20220324T190000
DTSTAMP:20260426T045447
CREATED:20220324T183017Z
LAST-MODIFIED:20220324T183017Z
UID:1786-1648119600-1648148400@sibfordvillagehall.org.uk
SUMMARY:Private hire
DESCRIPTION:
URL:https://sibfordvillagehall.org.uk/event/private-hire-70/
LOCATION:Small hall
END:VEVENT
BEGIN:VEVENT
DTSTART;TZID=Europe/London:20220324T101500
DTEND;TZID=Europe/London:20220324T111500
DTSTAMP:20260426T045447
CREATED:20220220T183017Z
LAST-MODIFIED:20220220T183017Z
UID:1625-1648116900-1648120500@sibfordvillagehall.org.uk
SUMMARY:Chair Yoga
DESCRIPTION:
URL:https://sibfordvillagehall.org.uk/event/chair-yoga-34-16/
LOCATION:Main hall
END:VEVENT
BEGIN:VEVENT
DTSTART;TZID=Europe/London:20220324T090000
DTEND;TZID=Europe/London:20220324T100000
DTSTAMP:20260426T045447
CREATED:20220220T183017Z
LAST-MODIFIED:20220220T183017Z
UID:1624-1648112400-1648116000@sibfordvillagehall.org.uk
SUMMARY:Flow Yoga
DESCRIPTION:
URL:https://sibfordvillagehall.org.uk/event/flow-yoga-2-16/
LOCATION:Main hall
END:VEVENT
BEGIN:VEVENT
DTSTART;TZID=Europe/London:20220323T120000
DTEND;TZID=Europe/London:20220323T143000
DTSTAMP:20260426T045447
CREATED:20211230T183012Z
LAST-MODIFIED:20211230T183012Z
UID:1125-1648036800-1648045800@sibfordvillagehall.org.uk
SUMMARY:Sibford Lunch Club
DESCRIPTION:
URL:https://sibfordvillagehall.org.uk/event/sibford-lunch-club-7-12/
LOCATION:Main hall
END:VEVENT
BEGIN:VEVENT
DTSTART;TZID=Europe/London:20220322T123000
DTEND;TZID=Europe/London:20220322T140000
DTSTAMP:20260426T045447
CREATED:20220318T183014Z
LAST-MODIFIED:20220318T183014Z
UID:1761-1647952200-1647957600@sibfordvillagehall.org.uk
SUMMARY:Lenten Lunch
DESCRIPTION:All welcome
URL:https://sibfordvillagehall.org.uk/event/lenten-lunch/
LOCATION:Main hall
END:VEVENT
BEGIN:VEVENT
DTSTART;TZID=Europe/London:20220322T090000
DTEND;TZID=Europe/London:20220322T100000
DTSTAMP:20260426T045447
CREATED:20220220T183017Z
LAST-MODIFIED:20220220T183017Z
UID:1622-1647939600-1647943200@sibfordvillagehall.org.uk
SUMMARY:Slow and Gentle Yoga
DESCRIPTION:
URL:https://sibfordvillagehall.org.uk/event/slow-and-gentle-yoga-4-16/
LOCATION:Main hall
END:VEVENT
BEGIN:VEVENT
DTSTART;TZID=Europe/London:20220321T143000
DTEND;TZID=Europe/London:20220321T190000
DTSTAMP:20260426T045447
CREATED:20220321T183011Z
LAST-MODIFIED:20220321T183011Z
UID:1769-1647873000-1647889200@sibfordvillagehall.org.uk
SUMMARY:Private hire
DESCRIPTION:
URL:https://sibfordvillagehall.org.uk/event/private-hire-75/
LOCATION:Small hall
END:VEVENT
BEGIN:VEVENT
DTSTART;TZID=Europe/London:20220319T150000
DTEND;TZID=Europe/London:20220319T235900
DTSTAMP:20260426T045447
CREATED:20220303T183022Z
LAST-MODIFIED:20220303T183022Z
UID:1684-1647702000-1647734340@sibfordvillagehall.org.uk
SUMMARY:Private hire
DESCRIPTION:
URL:https://sibfordvillagehall.org.uk/event/private-hire-tbc/
LOCATION:Main hall
END:VEVENT
BEGIN:VEVENT
DTSTART;TZID=Europe/London:20220319T100000
DTEND;TZID=Europe/London:20220319T120000
DTSTAMP:20260426T045447
CREATED:20220223T183015Z
LAST-MODIFIED:20220223T183015Z
UID:1644-1647684000-1647691200@sibfordvillagehall.org.uk
SUMMARY:Book Swap Cafe
DESCRIPTION:Come and browse our large collection of books to suit all ages . \nFrom 10am until 12 midday in the small hall. Once a month . \nWe welcome all children and have many books to entertain them. \nJoin us for coffee /tea and a chat. \nBooks are free to borrow. \nDonations welcome to cover costs.
URL:https://sibfordvillagehall.org.uk/event/book-swap-cafe-4/
LOCATION:Small hall
END:VEVENT
END:VCALENDAR