BEGIN:VCALENDAR
VERSION:2.0
PRODID:-//Sibford Village Hall - ECPv6.15.20//NONSGML v1.0//EN
CALSCALE:GREGORIAN
METHOD:PUBLISH
X-ORIGINAL-URL:https://sibfordvillagehall.org.uk
X-WR-CALDESC:Events for Sibford Village Hall
REFRESH-INTERVAL;VALUE=DURATION:PT1H
X-Robots-Tag:noindex
X-PUBLISHED-TTL:PT1H
BEGIN:VTIMEZONE
TZID:Europe/London
BEGIN:DAYLIGHT
TZOFFSETFROM:+0000
TZOFFSETTO:+0100
TZNAME:BST
DTSTART:20220327T010000
END:DAYLIGHT
BEGIN:STANDARD
TZOFFSETFROM:+0100
TZOFFSETTO:+0000
TZNAME:GMT
DTSTART:20221030T010000
END:STANDARD
BEGIN:DAYLIGHT
TZOFFSETFROM:+0000
TZOFFSETTO:+0100
TZNAME:BST
DTSTART:20230326T010000
END:DAYLIGHT
BEGIN:STANDARD
TZOFFSETFROM:+0100
TZOFFSETTO:+0000
TZNAME:GMT
DTSTART:20231029T010000
END:STANDARD
BEGIN:DAYLIGHT
TZOFFSETFROM:+0000
TZOFFSETTO:+0100
TZNAME:BST
DTSTART:20240331T010000
END:DAYLIGHT
BEGIN:STANDARD
TZOFFSETFROM:+0100
TZOFFSETTO:+0000
TZNAME:GMT
DTSTART:20241027T010000
END:STANDARD
END:VTIMEZONE
BEGIN:VEVENT
DTSTART;TZID=Europe/London:20230622T173000
DTEND;TZID=Europe/London:20230622T183000
DTSTAMP:20260421T233326
CREATED:20230222T183017Z
LAST-MODIFIED:20230222T183017Z
UID:4581-1687455000-1687458600@sibfordvillagehall.org.uk
SUMMARY:Sibford Young Performers
DESCRIPTION:
URL:https://sibfordvillagehall.org.uk/event/sibford-young-perfomers-9/
LOCATION:Main hall
END:VEVENT
BEGIN:VEVENT
DTSTART;TZID=Europe/London:20230623T093000
DTEND;TZID=Europe/London:20230623T123000
DTSTAMP:20260421T233326
CREATED:20230506T183011Z
LAST-MODIFIED:20230506T183011Z
UID:5353-1687512600-1687523400@sibfordvillagehall.org.uk
SUMMARY:Art Class /Oil painting
DESCRIPTION:
URL:https://sibfordvillagehall.org.uk/event/art-class-oil-painting-5/
LOCATION:Main hall
END:VEVENT
BEGIN:VEVENT
DTSTART;TZID=Europe/London:20230623T130000
DTEND;TZID=Europe/London:20230623T153000
DTSTAMP:20260421T233326
CREATED:20230614T183014Z
LAST-MODIFIED:20230614T183014Z
UID:5514-1687525200-1687534200@sibfordvillagehall.org.uk
SUMMARY:Watercolour Art Class
DESCRIPTION:
URL:https://sibfordvillagehall.org.uk/event/watercolour-art-class-4/
LOCATION:Main hall
END:VEVENT
BEGIN:VEVENT
DTSTART;TZID=Europe/London:20230623T173000
DTEND;TZID=Europe/London:20230623T190000
DTSTAMP:20260421T233326
CREATED:20230601T183007Z
LAST-MODIFIED:20230601T183007Z
UID:5478-1687541400-1687546800@sibfordvillagehall.org.uk
SUMMARY:Cubs
DESCRIPTION:
URL:https://sibfordvillagehall.org.uk/event/cubs-28/
LOCATION:Main hall
END:VEVENT
BEGIN:VEVENT
DTSTART;TZID=Europe/London:20230624T090000
DTEND;TZID=Europe/London:20230624T100000
DTSTAMP:20260421T233326
CREATED:20230418T183010Z
LAST-MODIFIED:20230418T183010Z
UID:5221-1687597200-1687600800@sibfordvillagehall.org.uk
SUMMARY:Karate
DESCRIPTION:
URL:https://sibfordvillagehall.org.uk/event/karate-18-21/
LOCATION:Main hall
END:VEVENT
BEGIN:VEVENT
DTSTART;TZID=Europe/London:20230625T140000
DTEND;TZID=Europe/London:20230625T180000
DTSTAMP:20260421T233326
CREATED:20230603T183005Z
LAST-MODIFIED:20230603T183005Z
UID:5490-1687701600-1687716000@sibfordvillagehall.org.uk
SUMMARY:Open Gardens teas
DESCRIPTION:Rest your feet\, chat about the marvellous gardens\, enjoy tea and delicious home-made cakes. \nAlso providing loos and parking for Sibford Gower Gardens. \nIn aid of Holy Trinity Church.
URL:https://sibfordvillagehall.org.uk/event/open-gardens-teas-2/
LOCATION:Main hall
END:VEVENT
BEGIN:VEVENT
DTSTART;TZID=Europe/London:20230626T183000
DTEND;TZID=Europe/London:20230626T193000
DTSTAMP:20260421T233326
CREATED:20230515T183016Z
LAST-MODIFIED:20230515T183016Z
UID:5384-1687804200-1687807800@sibfordvillagehall.org.uk
SUMMARY:Karate
DESCRIPTION:
URL:https://sibfordvillagehall.org.uk/event/karate-19-20/
LOCATION:Main hall
END:VEVENT
BEGIN:VEVENT
DTSTART;TZID=Europe/London:20230627T193000
DTEND;TZID=Europe/London:20230627T213000
DTSTAMP:20260421T233326
CREATED:20230203T183009Z
LAST-MODIFIED:20230203T183009Z
UID:4300-1687894200-1687901400@sibfordvillagehall.org.uk
SUMMARY:Sibford Photography Club
DESCRIPTION:
URL:https://sibfordvillagehall.org.uk/event/sibford-photography-club-23/
LOCATION:Small hall
END:VEVENT
BEGIN:VEVENT
DTSTART;TZID=Europe/London:20230628T120000
DTEND;TZID=Europe/London:20230628T143000
DTSTAMP:20260421T233326
CREATED:20230329T183022Z
LAST-MODIFIED:20230329T183022Z
UID:5041-1687953600-1687962600@sibfordvillagehall.org.uk
SUMMARY:Sibford Lunch Club
DESCRIPTION:
URL:https://sibfordvillagehall.org.uk/event/sibford-lunch-club-10-25/
LOCATION:Main hall
END:VEVENT
BEGIN:VEVENT
DTSTART;TZID=Europe/London:20230629T090000
DTEND;TZID=Europe/London:20230629T100000
DTSTAMP:20260421T233326
CREATED:20230524T183006Z
LAST-MODIFIED:20230524T183006Z
UID:5450-1688029200-1688032800@sibfordvillagehall.org.uk
SUMMARY:Flow Yoga
DESCRIPTION:
URL:https://sibfordvillagehall.org.uk/event/flow-yoga-6-21/
LOCATION:Main hall
END:VEVENT
BEGIN:VEVENT
DTSTART;TZID=Europe/London:20230629T100000
DTEND;TZID=Europe/London:20230629T110000
DTSTAMP:20260421T233326
CREATED:20230622T183006Z
LAST-MODIFIED:20230622T183006Z
UID:5534-1688032800-1688036400@sibfordvillagehall.org.uk
SUMMARY:Chair Yoga
DESCRIPTION:
URL:https://sibfordvillagehall.org.uk/event/chair-yoga-38-2/
LOCATION:Main hall
END:VEVENT
BEGIN:VEVENT
DTSTART;TZID=Europe/London:20230629T173000
DTEND;TZID=Europe/London:20230629T183000
DTSTAMP:20260421T233326
CREATED:20230222T183017Z
LAST-MODIFIED:20230222T183017Z
UID:4582-1688059800-1688063400@sibfordvillagehall.org.uk
SUMMARY:Sibford Young Performers
DESCRIPTION:
URL:https://sibfordvillagehall.org.uk/event/sibford-young-perfomers-10/
LOCATION:Main hall
END:VEVENT
BEGIN:VEVENT
DTSTART;TZID=Europe/London:20230629T193000
DTEND;TZID=Europe/London:20230629T213000
DTSTAMP:20260421T233326
CREATED:20230602T183007Z
LAST-MODIFIED:20230602T183007Z
UID:5489-1688067000-1688074200@sibfordvillagehall.org.uk
SUMMARY:Film Night - A Man Called Otto
DESCRIPTION:Based on the comical and moving New York Times bestseller\, A Man Called Otto tells the story of Otto Anderson (double Oscar-winner Tom Hanks) a grumpy widower who is very set in his ways. When a lively young family moves in next door\, he meets his match in quick-witted and very pregnant Marisol\, leading to an unlikely friendship that will turn his world upside-down. \nExperience a funny\, heart-warming story about how some families come from the most unexpected places.  \nDoors open at 7. Film starts at 7.30. Refreshments available. Donations only.
URL:https://sibfordvillagehall.org.uk/event/film-night-18/
LOCATION:Main hall
END:VEVENT
BEGIN:VEVENT
DTSTART;TZID=Europe/London:20230630T093000
DTEND;TZID=Europe/London:20230630T113000
DTSTAMP:20260421T233326
CREATED:20230621T183014Z
LAST-MODIFIED:20230621T183014Z
UID:5527-1688117400-1688124600@sibfordvillagehall.org.uk
SUMMARY:Sibford Tots & Babes Group
DESCRIPTION:
URL:https://sibfordvillagehall.org.uk/event/sibford-tots-babes-group-19/
LOCATION:Small hall
END:VEVENT
BEGIN:VEVENT
DTSTART;TZID=Europe/London:20230630T093000
DTEND;TZID=Europe/London:20230630T123000
DTSTAMP:20260421T233326
CREATED:20230506T183012Z
LAST-MODIFIED:20230506T183012Z
UID:5356-1688117400-1688128200@sibfordvillagehall.org.uk
SUMMARY:Art Class /Oil painting
DESCRIPTION:
URL:https://sibfordvillagehall.org.uk/event/art-class-oil-painting-6/
LOCATION:Main hall
END:VEVENT
BEGIN:VEVENT
DTSTART;TZID=Europe/London:20230630T160000
DTEND;TZID=Europe/London:20230630T173000
DTSTAMP:20260421T233327
CREATED:20230601T183007Z
LAST-MODIFIED:20230601T183007Z
UID:5480-1688140800-1688146200@sibfordvillagehall.org.uk
SUMMARY:Beavers
DESCRIPTION:
URL:https://sibfordvillagehall.org.uk/event/beavers-25-2/
LOCATION:Main hall
END:VEVENT
BEGIN:VEVENT
DTSTART;TZID=Europe/London:20230701T090000
DTEND;TZID=Europe/London:20230701T100000
DTSTAMP:20260421T233327
CREATED:20230418T183011Z
LAST-MODIFIED:20230418T183011Z
UID:5223-1688202000-1688205600@sibfordvillagehall.org.uk
SUMMARY:Karate
DESCRIPTION:
URL:https://sibfordvillagehall.org.uk/event/karate-18-22/
LOCATION:Main hall
END:VEVENT
BEGIN:VEVENT
DTSTART;TZID=Europe/London:20230701T140000
DTEND;TZID=Europe/London:20230701T160000
DTSTAMP:20260421T233327
CREATED:20230607T183007Z
LAST-MODIFIED:20230607T183007Z
UID:5491-1688220000-1688227200@sibfordvillagehall.org.uk
SUMMARY:Private event
DESCRIPTION:
URL:https://sibfordvillagehall.org.uk/event/private-event-2/
LOCATION:Main hall
END:VEVENT
BEGIN:VEVENT
DTSTART;TZID=Europe/London:20230703T183000
DTEND;TZID=Europe/London:20230703T193000
DTSTAMP:20260421T233327
CREATED:20230515T183016Z
LAST-MODIFIED:20230515T183016Z
UID:5385-1688409000-1688412600@sibfordvillagehall.org.uk
SUMMARY:Karate
DESCRIPTION:
URL:https://sibfordvillagehall.org.uk/event/karate-19-21/
LOCATION:Main hall
END:VEVENT
BEGIN:VEVENT
DTSTART;TZID=Europe/London:20230704T140000
DTEND;TZID=Europe/London:20230704T160000
DTSTAMP:20260421T233327
CREATED:20230408T183009Z
LAST-MODIFIED:20230408T183009Z
UID:5144-1688479200-1688486400@sibfordvillagehall.org.uk
SUMMARY:Friendship Club
DESCRIPTION:
URL:https://sibfordvillagehall.org.uk/event/friendship-club-10-6/
LOCATION:Main hall
END:VEVENT
BEGIN:VEVENT
DTSTART;TZID=Europe/London:20230704T193000
DTEND;TZID=Europe/London:20230704T235900
DTSTAMP:20260421T233327
CREATED:20230611T183005Z
LAST-MODIFIED:20230611T183005Z
UID:5506-1688499000-1688515140@sibfordvillagehall.org.uk
SUMMARY:Private event
DESCRIPTION:
URL:https://sibfordvillagehall.org.uk/event/party-private-2/
LOCATION:Main hall
END:VEVENT
BEGIN:VEVENT
DTSTART;TZID=Europe/London:20230705T090000
DTEND;TZID=Europe/London:20230705T110000
DTSTAMP:20260421T233327
CREATED:20230610T183009Z
LAST-MODIFIED:20230610T183009Z
UID:5502-1688547600-1688554800@sibfordvillagehall.org.uk
SUMMARY:Private event
DESCRIPTION:
URL:https://sibfordvillagehall.org.uk/event/party-clear-up/
LOCATION:Main hall
END:VEVENT
BEGIN:VEVENT
DTSTART;TZID=Europe/London:20230705T120000
DTEND;TZID=Europe/London:20230705T143000
DTSTAMP:20260421T233327
CREATED:20230329T183022Z
LAST-MODIFIED:20230329T183022Z
UID:5042-1688558400-1688567400@sibfordvillagehall.org.uk
SUMMARY:Sibford Lunch Club
DESCRIPTION:
URL:https://sibfordvillagehall.org.uk/event/sibford-lunch-club-10-26/
LOCATION:Main hall
END:VEVENT
BEGIN:VEVENT
DTSTART;TZID=Europe/London:20230706T090000
DTEND;TZID=Europe/London:20230706T100000
DTSTAMP:20260421T233327
CREATED:20230524T183006Z
LAST-MODIFIED:20230524T183006Z
UID:5452-1688634000-1688637600@sibfordvillagehall.org.uk
SUMMARY:Flow Yoga
DESCRIPTION:
URL:https://sibfordvillagehall.org.uk/event/flow-yoga-6-22/
LOCATION:Main hall
END:VEVENT
BEGIN:VEVENT
DTSTART;TZID=Europe/London:20230706T100000
DTEND;TZID=Europe/London:20230706T110000
DTSTAMP:20260421T233327
CREATED:20230622T183006Z
LAST-MODIFIED:20230622T183006Z
UID:5535-1688637600-1688641200@sibfordvillagehall.org.uk
SUMMARY:Chair Yoga
DESCRIPTION:
URL:https://sibfordvillagehall.org.uk/event/chair-yoga-38-3/
LOCATION:Main hall
END:VEVENT
BEGIN:VEVENT
DTSTART;TZID=Europe/London:20230706T173000
DTEND;TZID=Europe/London:20230706T183000
DTSTAMP:20260421T233327
CREATED:20230222T183018Z
LAST-MODIFIED:20230222T183018Z
UID:4584-1688664600-1688668200@sibfordvillagehall.org.uk
SUMMARY:Sibford Young Performers
DESCRIPTION:
URL:https://sibfordvillagehall.org.uk/event/sibford-young-perfomers-11/
LOCATION:Main hall
END:VEVENT
BEGIN:VEVENT
DTSTART;TZID=Europe/London:20230707T093000
DTEND;TZID=Europe/London:20230707T113000
DTSTAMP:20260421T233327
CREATED:20230621T183014Z
LAST-MODIFIED:20230621T183014Z
UID:5528-1688722200-1688729400@sibfordvillagehall.org.uk
SUMMARY:Sibford Tots & Babes Group
DESCRIPTION:
URL:https://sibfordvillagehall.org.uk/event/sibford-tots-babes-group-20/
LOCATION:Small hall
END:VEVENT
BEGIN:VEVENT
DTSTART;TZID=Europe/London:20230707T093000
DTEND;TZID=Europe/London:20230707T123000
DTSTAMP:20260421T233327
CREATED:20230506T183012Z
LAST-MODIFIED:20230506T183012Z
UID:5358-1688722200-1688733000@sibfordvillagehall.org.uk
SUMMARY:Art Class /Oil painting
DESCRIPTION:
URL:https://sibfordvillagehall.org.uk/event/art-class-oil-painting-7/
LOCATION:Main hall
END:VEVENT
BEGIN:VEVENT
DTSTART;TZID=Europe/London:20230707T160000
DTEND;TZID=Europe/London:20230707T173000
DTSTAMP:20260421T233327
CREATED:20230601T183007Z
LAST-MODIFIED:20230601T183007Z
UID:5482-1688745600-1688751000@sibfordvillagehall.org.uk
SUMMARY:Beavers
DESCRIPTION:
URL:https://sibfordvillagehall.org.uk/event/beavers-25-3/
LOCATION:Main hall
END:VEVENT
BEGIN:VEVENT
DTSTART;TZID=Europe/London:20230707T173000
DTEND;TZID=Europe/London:20230707T190000
DTSTAMP:20260421T233327
CREATED:20230601T183007Z
LAST-MODIFIED:20230601T183007Z
UID:5483-1688751000-1688756400@sibfordvillagehall.org.uk
SUMMARY:Cubs
DESCRIPTION:
URL:https://sibfordvillagehall.org.uk/event/cubs-28-2/
LOCATION:Main hall
END:VEVENT
END:VCALENDAR