BEGIN:VCALENDAR
VERSION:2.0
PRODID:-//Sibford Village Hall - ECPv6.15.20//NONSGML v1.0//EN
CALSCALE:GREGORIAN
METHOD:PUBLISH
X-WR-CALNAME:Sibford Village Hall
X-ORIGINAL-URL:https://sibfordvillagehall.org.uk
X-WR-CALDESC:Events for Sibford Village Hall
REFRESH-INTERVAL;VALUE=DURATION:PT1H
X-Robots-Tag:noindex
X-PUBLISHED-TTL:PT1H
BEGIN:VTIMEZONE
TZID:Europe/London
BEGIN:DAYLIGHT
TZOFFSETFROM:+0000
TZOFFSETTO:+0100
TZNAME:BST
DTSTART:20210328T010000
END:DAYLIGHT
BEGIN:STANDARD
TZOFFSETFROM:+0100
TZOFFSETTO:+0000
TZNAME:GMT
DTSTART:20211031T010000
END:STANDARD
BEGIN:DAYLIGHT
TZOFFSETFROM:+0000
TZOFFSETTO:+0100
TZNAME:BST
DTSTART:20220327T010000
END:DAYLIGHT
BEGIN:STANDARD
TZOFFSETFROM:+0100
TZOFFSETTO:+0000
TZNAME:GMT
DTSTART:20221030T010000
END:STANDARD
BEGIN:DAYLIGHT
TZOFFSETFROM:+0000
TZOFFSETTO:+0100
TZNAME:BST
DTSTART:20230326T010000
END:DAYLIGHT
BEGIN:STANDARD
TZOFFSETFROM:+0100
TZOFFSETTO:+0000
TZNAME:GMT
DTSTART:20231029T010000
END:STANDARD
END:VTIMEZONE
BEGIN:VEVENT
DTSTART;TZID=Europe/London:20220531T120000
DTEND;TZID=Europe/London:20220531T160000
DTSTAMP:20260425T163156
CREATED:20220315T183020Z
LAST-MODIFIED:20220315T183020Z
UID:1752-1653998400-1654012800@sibfordvillagehall.org.uk
SUMMARY:Private hire
DESCRIPTION:
URL:https://sibfordvillagehall.org.uk/event/private-hire-74/
LOCATION:Main hall
END:VEVENT
BEGIN:VEVENT
DTSTART;TZID=Europe/London:20220530T090000
DTEND;TZID=Europe/London:20220530T103000
DTSTAMP:20260425T163156
CREATED:20220528T183012Z
LAST-MODIFIED:20220528T183012Z
UID:2363-1653901200-1653906600@sibfordvillagehall.org.uk
SUMMARY:Maintenance
DESCRIPTION:
URL:https://sibfordvillagehall.org.uk/event/maintenance/
LOCATION:Main hall
END:VEVENT
BEGIN:VEVENT
DTSTART;TZID=Europe/London:20220528T083000
DTEND;TZID=Europe/London:20220528T100000
DTSTAMP:20260425T163156
CREATED:20220528T183012Z
LAST-MODIFIED:20220528T183012Z
UID:2362-1653726600-1653732000@sibfordvillagehall.org.uk
SUMMARY:Karate
DESCRIPTION:
URL:https://sibfordvillagehall.org.uk/event/karate-10/
LOCATION:Main hall
END:VEVENT
BEGIN:VEVENT
DTSTART;TZID=Europe/London:20220527T173000
DTEND;TZID=Europe/London:20220527T190000
DTSTAMP:20260425T163156
CREATED:20220429T183015Z
LAST-MODIFIED:20220429T183015Z
UID:2100-1653672600-1653678000@sibfordvillagehall.org.uk
SUMMARY:Cubs
DESCRIPTION:
URL:https://sibfordvillagehall.org.uk/event/cubs-18-3/
LOCATION:Main hall
END:VEVENT
BEGIN:VEVENT
DTSTART;TZID=Europe/London:20220527T160000
DTEND;TZID=Europe/London:20220527T173000
DTSTAMP:20260425T163156
CREATED:20220429T183015Z
LAST-MODIFIED:20220429T183015Z
UID:2099-1653667200-1653672600@sibfordvillagehall.org.uk
SUMMARY:Beavers
DESCRIPTION:
URL:https://sibfordvillagehall.org.uk/event/beavers-15-4/
LOCATION:Main hall
END:VEVENT
BEGIN:VEVENT
DTSTART;TZID=Europe/London:20220527T093000
DTEND;TZID=Europe/London:20220527T123000
DTSTAMP:20260425T163156
CREATED:20220504T183016Z
LAST-MODIFIED:20220504T183016Z
UID:2112-1653643800-1653654600@sibfordvillagehall.org.uk
SUMMARY:Oil Painting Art Class
DESCRIPTION:Learn the basics of oil painting in a friendly informal class with easy to follow demonstrations. \nFor more information please contact Nigel Fletcher \nnvfletcher@btinternet.com \nwww.nigelfletcher.co.uk \n07792 657 248
URL:https://sibfordvillagehall.org.uk/event/art-class-2-18/
LOCATION:Main hall
END:VEVENT
BEGIN:VEVENT
DTSTART;TZID=Europe/London:20220527T093000
DTEND;TZID=Europe/London:20220527T113000
DTSTAMP:20260425T163156
CREATED:20220422T183033Z
LAST-MODIFIED:20220422T183033Z
UID:1995-1653643800-1653651000@sibfordvillagehall.org.uk
SUMMARY:Sibford Tots and Babes Group
DESCRIPTION:
URL:https://sibfordvillagehall.org.uk/event/sibford-tots-and-babes-group-3-7/
LOCATION:Small hall
END:VEVENT
BEGIN:VEVENT
DTSTART;TZID=Europe/London:20220526T173000
DTEND;TZID=Europe/London:20220526T183000
DTSTAMP:20260425T163156
CREATED:20220422T183033Z
LAST-MODIFIED:20220422T183033Z
UID:1994-1653586200-1653589800@sibfordvillagehall.org.uk
SUMMARY:Sibford Young Performers
DESCRIPTION:
URL:https://sibfordvillagehall.org.uk/event/sibford-young-performers-4-10/
LOCATION:Main hall
END:VEVENT
BEGIN:VEVENT
DTSTART;TZID=Europe/London:20220526T151500
DTEND;TZID=Europe/London:20220526T161500
DTSTAMP:20260425T163156
CREATED:20220406T183022Z
LAST-MODIFIED:20220406T183022Z
UID:1878-1653578100-1653581700@sibfordvillagehall.org.uk
SUMMARY:Private hire
DESCRIPTION:
URL:https://sibfordvillagehall.org.uk/event/private-hire-68-10/
LOCATION:Main hall
END:VEVENT
BEGIN:VEVENT
DTSTART;TZID=Europe/London:20220525T120000
DTEND;TZID=Europe/London:20220525T143000
DTSTAMP:20260425T163156
CREATED:20220114T183021Z
LAST-MODIFIED:20220114T183021Z
UID:1354-1653480000-1653489000@sibfordvillagehall.org.uk
SUMMARY:Sibford Lunch Club
DESCRIPTION:
URL:https://sibfordvillagehall.org.uk/event/sibford-lunch-club-8-4/
LOCATION:Main hall
END:VEVENT
BEGIN:VEVENT
DTSTART;TZID=Europe/London:20220524T200000
DTEND;TZID=Europe/London:20220524T213000
DTSTAMP:20260425T163156
CREATED:20220524T183009Z
LAST-MODIFIED:20220524T183009Z
UID:2310-1653422400-1653427800@sibfordvillagehall.org.uk
SUMMARY:S S Choir rehearsal
DESCRIPTION:
URL:https://sibfordvillagehall.org.uk/event/s-s-choir-rehearsal-2/
LOCATION:Small hall
END:VEVENT
BEGIN:VEVENT
DTSTART;TZID=Europe/London:20220524T183000
DTEND;TZID=Europe/London:20220524T193000
DTSTAMP:20260425T163156
CREATED:20220516T183016Z
LAST-MODIFIED:20220516T183016Z
UID:2232-1653417000-1653420600@sibfordvillagehall.org.uk
SUMMARY:Karate
DESCRIPTION:
URL:https://sibfordvillagehall.org.uk/event/karate-9/
LOCATION:Main hall
END:VEVENT
BEGIN:VEVENT
DTSTART;TZID=Europe/London:20220524T143000
DTEND;TZID=Europe/London:20220524T153000
DTSTAMP:20260425T163156
CREATED:20220426T183011Z
LAST-MODIFIED:20220426T183011Z
UID:2062-1653402600-1653406200@sibfordvillagehall.org.uk
SUMMARY:Sibford History Society meeting
DESCRIPTION:
URL:https://sibfordvillagehall.org.uk/event/sibford-history-society-5/
LOCATION:Small hall
END:VEVENT
BEGIN:VEVENT
DTSTART;TZID=Europe/London:20220522T100000
DTEND;TZID=Europe/London:20220522T140000
DTSTAMP:20260425T163156
CREATED:20220505T183030Z
LAST-MODIFIED:20220505T183030Z
UID:2138-1653213600-1653228000@sibfordvillagehall.org.uk
SUMMARY:Private hire
DESCRIPTION:
URL:https://sibfordvillagehall.org.uk/event/private-hire-tbc-2/
LOCATION:Main hall
END:VEVENT
BEGIN:VEVENT
DTSTART;TZID=Europe/London:20220521T143000
DTEND;TZID=Europe/London:20220521T160000
DTSTAMP:20260425T163156
CREATED:20220521T183015Z
LAST-MODIFIED:20220521T183015Z
UID:2287-1653143400-1653148800@sibfordvillagehall.org.uk
SUMMARY:Horti Spring Show
DESCRIPTION:Please do come and have a go. It’s fun\, honestly! Children’s entries particularly welcome. \nEntry forms were distributed with the April Sibford Scene; download a copy. \nHomemade teas and cakes.
URL:https://sibfordvillagehall.org.uk/event/horti-spring-show-2/
LOCATION:Main hall
END:VEVENT
BEGIN:VEVENT
DTSTART;TZID=Europe/London:20220521T100000
DTEND;TZID=Europe/London:20220521T180000
DTSTAMP:20260425T163156
CREATED:20220517T183012Z
LAST-MODIFIED:20220517T183012Z
UID:2269-1653127200-1653156000@sibfordvillagehall.org.uk
SUMMARY:Oxfordshire Art Week [not in the Village Hall]
DESCRIPTION:Two local venues this year\, Saturday 21 May to Sunday 29 May. \n\nLocal artists Ginny Bennett\, Sue Levitch and Rosie Wells will be using Cherington Hall CV36 5HG for their\nexhibition\, 11am to 4pm daily. They will have a wide variety of subjects\, in oil paintings \,acrylics and mixed media. The hall at Cherington has good parking and disabled access. Refreshments will be available and a selection of cards printed from the art work will be on sale.\nTemple Mill: see poster below.\n\nEntry is free to all Artweek venues.
URL:https://sibfordvillagehall.org.uk/event/oxfordshire-art-week/
LOCATION:Main hall
END:VEVENT
BEGIN:VEVENT
DTSTART;TZID=Europe/London:20220520T191500
DTEND;TZID=Europe/London:20220520T201500
DTSTAMP:20260425T163156
CREATED:20211108T215649Z
LAST-MODIFIED:20211108T215649Z
UID:900-1653074100-1653077700@sibfordvillagehall.org.uk
SUMMARY:Horti set up
DESCRIPTION:
URL:https://sibfordvillagehall.org.uk/event/horti-set-up/
LOCATION:Main hall
END:VEVENT
BEGIN:VEVENT
DTSTART;TZID=Europe/London:20220520T160000
DTEND;TZID=Europe/London:20220520T173000
DTSTAMP:20260425T163156
CREATED:20220429T183014Z
LAST-MODIFIED:20220429T183014Z
UID:2098-1653062400-1653067800@sibfordvillagehall.org.uk
SUMMARY:Beavers
DESCRIPTION:
URL:https://sibfordvillagehall.org.uk/event/beavers-15-3/
LOCATION:Main hall
END:VEVENT
BEGIN:VEVENT
DTSTART;TZID=Europe/London:20220520T093000
DTEND;TZID=Europe/London:20220520T123000
DTSTAMP:20260425T163156
CREATED:20220504T183016Z
LAST-MODIFIED:20220504T183016Z
UID:2110-1653039000-1653049800@sibfordvillagehall.org.uk
SUMMARY:Oil Painting Art Class
DESCRIPTION:Learn the basics of oil painting in a friendly informal class with easy to follow demonstrations. \nFor more information please contact Nigel Fletcher \nnvfletcher@btinternet.com \nwww.nigelfletcher.co.uk \n07792 657 248
URL:https://sibfordvillagehall.org.uk/event/art-class-2-17/
LOCATION:Main hall
END:VEVENT
BEGIN:VEVENT
DTSTART;TZID=Europe/London:20220520T093000
DTEND;TZID=Europe/London:20220520T113000
DTSTAMP:20260425T163156
CREATED:20220422T183031Z
LAST-MODIFIED:20220422T183031Z
UID:1988-1653039000-1653046200@sibfordvillagehall.org.uk
SUMMARY:Sibford Tots and Babes Group
DESCRIPTION:
URL:https://sibfordvillagehall.org.uk/event/sibford-tots-and-babes-group-3-6/
LOCATION:Small hall
END:VEVENT
BEGIN:VEVENT
DTSTART;TZID=Europe/London:20220519T193000
DTEND;TZID=Europe/London:20220519T210000
DTSTAMP:20260425T163156
CREATED:20220518T183011Z
LAST-MODIFIED:20220518T183011Z
UID:2276-1652988600-1652994000@sibfordvillagehall.org.uk
SUMMARY:The Sibfords History Society
DESCRIPTION:Margaret Leyland – Memories of Sibford Primary School from 100 years ago \nGuests £3. Doors open from 7.15pm
URL:https://sibfordvillagehall.org.uk/event/sibford-history-society/
LOCATION:Main hall
END:VEVENT
BEGIN:VEVENT
DTSTART;TZID=Europe/London:20220519T173000
DTEND;TZID=Europe/London:20220519T183000
DTSTAMP:20260425T163156
CREATED:20220422T183031Z
LAST-MODIFIED:20220422T183031Z
UID:1987-1652981400-1652985000@sibfordvillagehall.org.uk
SUMMARY:Sibford Young Performers
DESCRIPTION:
URL:https://sibfordvillagehall.org.uk/event/sibford-young-performers-4-9/
LOCATION:Main hall
END:VEVENT
BEGIN:VEVENT
DTSTART;TZID=Europe/London:20220519T151500
DTEND;TZID=Europe/London:20220519T161500
DTSTAMP:20260425T163156
CREATED:20220406T183020Z
LAST-MODIFIED:20220406T183020Z
UID:1872-1652973300-1652976900@sibfordvillagehall.org.uk
SUMMARY:Private hire
DESCRIPTION:
URL:https://sibfordvillagehall.org.uk/event/private-hire-68-9/
LOCATION:Main hall
END:VEVENT
BEGIN:VEVENT
DTSTART;TZID=Europe/London:20220518T190000
DTEND;TZID=Europe/London:20220518T200000
DTSTAMP:20260425T163156
CREATED:20211108T215648Z
LAST-MODIFIED:20211108T215648Z
UID:899-1652900400-1652904000@sibfordvillagehall.org.uk
SUMMARY:Horti Entry night
DESCRIPTION:
URL:https://sibfordvillagehall.org.uk/event/horti-entry-night/
LOCATION:Small hall
END:VEVENT
BEGIN:VEVENT
DTSTART;TZID=Europe/London:20220518T120000
DTEND;TZID=Europe/London:20220518T143000
DTSTAMP:20260425T163156
CREATED:20220114T183020Z
LAST-MODIFIED:20220114T183020Z
UID:1352-1652875200-1652884200@sibfordvillagehall.org.uk
SUMMARY:Sibford Lunch Club
DESCRIPTION:
URL:https://sibfordvillagehall.org.uk/event/sibford-lunch-club-8-3/
LOCATION:Main hall
END:VEVENT
BEGIN:VEVENT
DTSTART;TZID=Europe/London:20220517T200000
DTEND;TZID=Europe/London:20220517T213000
DTSTAMP:20260425T163156
CREATED:20220510T183024Z
LAST-MODIFIED:20220510T183024Z
UID:2190-1652817600-1652823000@sibfordvillagehall.org.uk
SUMMARY:S S Choir rehearsal
DESCRIPTION:
URL:https://sibfordvillagehall.org.uk/event/s-s-choir-rehearsal/
LOCATION:Small hall
END:VEVENT
BEGIN:VEVENT
DTSTART;TZID=Europe/London:20220517T160000
DTEND;TZID=Europe/London:20220517T180000
DTSTAMP:20260425T163156
CREATED:20220428T183013Z
LAST-MODIFIED:20220428T183013Z
UID:2086-1652803200-1652810400@sibfordvillagehall.org.uk
SUMMARY:Afternoon Tea for Ukraine
DESCRIPTION:All proceeds to Ukrainian refugees. \nGlass of Prosecco with your tea. There will be a raffle. \n£15 per person. \nPlease reserve your place by contacting one of \n\nSue 01295 788 848 seagulllodge@gmail.com\nJean 01295 780 529 jeanscouse7@gmail.com\nJudy 01608 737 204 jdyhughes@aol.com
URL:https://sibfordvillagehall.org.uk/event/afternoon-for-tea-for-ukraine/
LOCATION:Main hall
END:VEVENT
BEGIN:VEVENT
DTSTART;TZID=Europe/London:20220514T100000
DTEND;TZID=Europe/London:20220514T120000
DTSTAMP:20260425T163156
CREATED:20220310T183010Z
LAST-MODIFIED:20220310T183010Z
UID:1718-1652522400-1652529600@sibfordvillagehall.org.uk
SUMMARY:Book Swap Cafe
DESCRIPTION:
URL:https://sibfordvillagehall.org.uk/event/book-swap-cafe-7/
LOCATION:Small hall
END:VEVENT
BEGIN:VEVENT
DTSTART;TZID=Europe/London:20220514T083000
DTEND;TZID=Europe/London:20220514T110000
DTSTAMP:20260425T163156
CREATED:20220510T183023Z
LAST-MODIFIED:20220510T183023Z
UID:2189-1652517000-1652526000@sibfordvillagehall.org.uk
SUMMARY:Karate
DESCRIPTION:
URL:https://sibfordvillagehall.org.uk/event/karate-8-9/
LOCATION:Main hall
END:VEVENT
BEGIN:VEVENT
DTSTART;TZID=Europe/London:20220513T173000
DTEND;TZID=Europe/London:20220513T190000
DTSTAMP:20260425T163156
CREATED:20220429T183014Z
LAST-MODIFIED:20220429T183014Z
UID:2097-1652463000-1652468400@sibfordvillagehall.org.uk
SUMMARY:Scouts
DESCRIPTION:
URL:https://sibfordvillagehall.org.uk/event/scouts-18/
LOCATION:Main hall
END:VEVENT
END:VCALENDAR