BEGIN:VCALENDAR
VERSION:2.0
PRODID:-//Sibford Village Hall - ECPv6.15.20//NONSGML v1.0//EN
CALSCALE:GREGORIAN
METHOD:PUBLISH
X-WR-CALNAME:Sibford Village Hall
X-ORIGINAL-URL:https://sibfordvillagehall.org.uk
X-WR-CALDESC:Events for Sibford Village Hall
REFRESH-INTERVAL;VALUE=DURATION:PT1H
X-Robots-Tag:noindex
X-PUBLISHED-TTL:PT1H
BEGIN:VTIMEZONE
TZID:Europe/London
BEGIN:DAYLIGHT
TZOFFSETFROM:+0000
TZOFFSETTO:+0100
TZNAME:BST
DTSTART:20210328T010000
END:DAYLIGHT
BEGIN:STANDARD
TZOFFSETFROM:+0100
TZOFFSETTO:+0000
TZNAME:GMT
DTSTART:20211031T010000
END:STANDARD
BEGIN:DAYLIGHT
TZOFFSETFROM:+0000
TZOFFSETTO:+0100
TZNAME:BST
DTSTART:20220327T010000
END:DAYLIGHT
BEGIN:STANDARD
TZOFFSETFROM:+0100
TZOFFSETTO:+0000
TZNAME:GMT
DTSTART:20221030T010000
END:STANDARD
BEGIN:DAYLIGHT
TZOFFSETFROM:+0000
TZOFFSETTO:+0100
TZNAME:BST
DTSTART:20230326T010000
END:DAYLIGHT
BEGIN:STANDARD
TZOFFSETFROM:+0100
TZOFFSETTO:+0000
TZNAME:GMT
DTSTART:20231029T010000
END:STANDARD
END:VTIMEZONE
BEGIN:VEVENT
DTSTART;TZID=Europe/London:20220621T200000
DTEND;TZID=Europe/London:20220621T213000
DTSTAMP:20260425T153107
CREATED:20220613T183011Z
LAST-MODIFIED:20220613T183011Z
UID:2448-1655841600-1655847000@sibfordvillagehall.org.uk
SUMMARY:S S Choir rehearsal
DESCRIPTION:
URL:https://sibfordvillagehall.org.uk/event/s-s-choir-rehearsal-4/
LOCATION:Small hall
END:VEVENT
BEGIN:VEVENT
DTSTART;TZID=Europe/London:20220621T183000
DTEND;TZID=Europe/London:20220621T193000
DTSTAMP:20260425T153107
CREATED:20220528T183014Z
LAST-MODIFIED:20220528T183014Z
UID:2374-1655836200-1655839800@sibfordvillagehall.org.uk
SUMMARY:Karate
DESCRIPTION:
URL:https://sibfordvillagehall.org.uk/event/karate-9-4/
LOCATION:Main hall
END:VEVENT
BEGIN:VEVENT
DTSTART;TZID=Europe/London:20220621T090000
DTEND;TZID=Europe/London:20220621T100000
DTSTAMP:20260425T153107
CREATED:20220512T183013Z
LAST-MODIFIED:20220512T183013Z
UID:2210-1655802000-1655805600@sibfordvillagehall.org.uk
SUMMARY:Slow and Gentle Yoga
DESCRIPTION:
URL:https://sibfordvillagehall.org.uk/event/slow-and-gentle-yoga-4-24/
LOCATION:Main hall
END:VEVENT
BEGIN:VEVENT
DTSTART;TZID=Europe/London:20220619T120000
DTEND;TZID=Europe/London:20220619T160000
DTSTAMP:20260425T153107
CREATED:20220523T183016Z
LAST-MODIFIED:20220523T183016Z
UID:2306-1655640000-1655654400@sibfordvillagehall.org.uk
SUMMARY:Private hire
DESCRIPTION:
URL:https://sibfordvillagehall.org.uk/event/private-hire-tbc-3/
LOCATION:Main hall
END:VEVENT
BEGIN:VEVENT
DTSTART;TZID=Europe/London:20220618T100000
DTEND;TZID=Europe/London:20220618T120000
DTSTAMP:20260425T153107
CREATED:20220525T183019Z
LAST-MODIFIED:20220525T183019Z
UID:2325-1655546400-1655553600@sibfordvillagehall.org.uk
SUMMARY:Book Swap Cafe
DESCRIPTION:Come and see our large selection of books for all ages. \nFree to borrow. \nEnjoy a tea or coffee /cake/biscuit whilst you are here.
URL:https://sibfordvillagehall.org.uk/event/book-swap-cafe-8/
LOCATION:Small hall
END:VEVENT
BEGIN:VEVENT
DTSTART;TZID=Europe/London:20220618T083000
DTEND;TZID=Europe/London:20220618T100000
DTSTAMP:20260425T153107
CREATED:20220528T183013Z
LAST-MODIFIED:20220528T183013Z
UID:2373-1655541000-1655546400@sibfordvillagehall.org.uk
SUMMARY:Karate
DESCRIPTION:
URL:https://sibfordvillagehall.org.uk/event/karate-10-3/
LOCATION:Main hall
END:VEVENT
BEGIN:VEVENT
DTSTART;TZID=Europe/London:20220617T160000
DTEND;TZID=Europe/London:20220617T173000
DTSTAMP:20260425T153107
CREATED:20220605T183008Z
LAST-MODIFIED:20220605T183008Z
UID:2413-1655481600-1655487000@sibfordvillagehall.org.uk
SUMMARY:Beavers
DESCRIPTION:
URL:https://sibfordvillagehall.org.uk/event/beavers-17/
LOCATION:Main hall
END:VEVENT
BEGIN:VEVENT
DTSTART;TZID=Europe/London:20220617T133000
DTEND;TZID=Europe/London:20220617T153000
DTSTAMP:20260425T153107
CREATED:20220525T183018Z
LAST-MODIFIED:20220525T183018Z
UID:2324-1655472600-1655479800@sibfordvillagehall.org.uk
SUMMARY:Watercolour Painting Class
DESCRIPTION:Learn the basics in a friendly informal class with easy to follow demonstrations. \nFor more information please contact Nigel Fletcher \nnvfletcher@btinternet.com \nwww.nigelfletcher.co.uk \n07792 657 248
URL:https://sibfordvillagehall.org.uk/event/watercolour-painting-class-13/
LOCATION:Main hall
END:VEVENT
BEGIN:VEVENT
DTSTART;TZID=Europe/London:20220617T093000
DTEND;TZID=Europe/London:20220617T123000
DTSTAMP:20260425T153107
CREATED:20220504T183017Z
LAST-MODIFIED:20220504T183017Z
UID:2116-1655458200-1655469000@sibfordvillagehall.org.uk
SUMMARY:Oil Painting Art Class
DESCRIPTION:Learn the basics of oil painting in a friendly informal class with easy to follow demonstrations. \nFor more information please contact Nigel Fletcher \nnvfletcher@btinternet.com \nwww.nigelfletcher.co.uk \n07792 657 248
URL:https://sibfordvillagehall.org.uk/event/art-class-2-20/
LOCATION:Main hall
END:VEVENT
BEGIN:VEVENT
DTSTART;TZID=Europe/London:20220617T093000
DTEND;TZID=Europe/London:20220617T113000
DTSTAMP:20260425T153107
CREATED:20220422T183036Z
LAST-MODIFIED:20220422T183036Z
UID:2011-1655458200-1655465400@sibfordvillagehall.org.uk
SUMMARY:Sibford Tots and Babes Group
DESCRIPTION:
URL:https://sibfordvillagehall.org.uk/event/sibford-tots-and-babes-group-3-9/
LOCATION:Small hall
END:VEVENT
BEGIN:VEVENT
DTSTART;TZID=Europe/London:20220616T173000
DTEND;TZID=Europe/London:20220616T183000
DTSTAMP:20260425T153107
CREATED:20220422T183036Z
LAST-MODIFIED:20220422T183036Z
UID:2010-1655400600-1655404200@sibfordvillagehall.org.uk
SUMMARY:Sibford Young Performers
DESCRIPTION:
URL:https://sibfordvillagehall.org.uk/event/sibford-young-performers-4-12/
LOCATION:Main hall
END:VEVENT
BEGIN:VEVENT
DTSTART;TZID=Europe/London:20220616T151500
DTEND;TZID=Europe/London:20220616T161500
DTSTAMP:20260425T153107
CREATED:20220614T183012Z
LAST-MODIFIED:20220614T183012Z
UID:2452-1655392500-1655396100@sibfordvillagehall.org.uk
SUMMARY:Private hire
DESCRIPTION:
URL:https://sibfordvillagehall.org.uk/event/private-hire-68-12/
LOCATION:Main hall
END:VEVENT
BEGIN:VEVENT
DTSTART;TZID=Europe/London:20220616T101500
DTEND;TZID=Europe/London:20220616T111500
DTSTAMP:20260425T153107
CREATED:20220525T183018Z
LAST-MODIFIED:20220525T183018Z
UID:2323-1655374500-1655378100@sibfordvillagehall.org.uk
SUMMARY:Chair Yoga
DESCRIPTION:
URL:https://sibfordvillagehall.org.uk/event/chair-yoga-34-23/
LOCATION:Main hall
END:VEVENT
BEGIN:VEVENT
DTSTART;TZID=Europe/London:20220616T090000
DTEND;TZID=Europe/London:20220616T100000
DTSTAMP:20260425T153107
CREATED:20220525T183018Z
LAST-MODIFIED:20220525T183018Z
UID:2322-1655370000-1655373600@sibfordvillagehall.org.uk
SUMMARY:Flow Yoga
DESCRIPTION:
URL:https://sibfordvillagehall.org.uk/event/flow-yoga-2-23/
LOCATION:Main hall
END:VEVENT
BEGIN:VEVENT
DTSTART;TZID=Europe/London:20220615T200000
DTEND;TZID=Europe/London:20220615T213000
DTSTAMP:20260425T153107
CREATED:20220613T183010Z
LAST-MODIFIED:20220613T183010Z
UID:2447-1655323200-1655328600@sibfordvillagehall.org.uk
SUMMARY:Sibford Songbirds Choir rehearsal
DESCRIPTION:
URL:https://sibfordvillagehall.org.uk/event/sibford-songbirds-choir-rehearsal/
LOCATION:Small hall
END:VEVENT
BEGIN:VEVENT
DTSTART;TZID=Europe/London:20220615T120000
DTEND;TZID=Europe/London:20220615T143000
DTSTAMP:20260425T153107
CREATED:20220114T183021Z
LAST-MODIFIED:20220114T183021Z
UID:1357-1655294400-1655303400@sibfordvillagehall.org.uk
SUMMARY:Sibford Lunch Club
DESCRIPTION:
URL:https://sibfordvillagehall.org.uk/event/sibford-lunch-club-8-7/
LOCATION:Main hall
END:VEVENT
BEGIN:VEVENT
DTSTART;TZID=Europe/London:20220614T183000
DTEND;TZID=Europe/London:20220614T193000
DTSTAMP:20260425T153107
CREATED:20220528T183013Z
LAST-MODIFIED:20220528T183013Z
UID:2372-1655231400-1655235000@sibfordvillagehall.org.uk
SUMMARY:Karate
DESCRIPTION:
URL:https://sibfordvillagehall.org.uk/event/karate-9-3/
LOCATION:Main hall
END:VEVENT
BEGIN:VEVENT
DTSTART;TZID=Europe/London:20220614T143000
DTEND;TZID=Europe/London:20220614T153000
DTSTAMP:20260425T153107
CREATED:20220608T183008Z
LAST-MODIFIED:20220608T183008Z
UID:2431-1655217000-1655220600@sibfordvillagehall.org.uk
SUMMARY:SHS Committee Meeting
DESCRIPTION:
URL:https://sibfordvillagehall.org.uk/event/sibford-history-society-6/
LOCATION:Small hall
END:VEVENT
BEGIN:VEVENT
DTSTART;TZID=Europe/London:20220614T090000
DTEND;TZID=Europe/London:20220614T100000
DTSTAMP:20260425T153107
CREATED:20220512T183013Z
LAST-MODIFIED:20220512T183013Z
UID:2209-1655197200-1655200800@sibfordvillagehall.org.uk
SUMMARY:Slow and Gentle Yoga
DESCRIPTION:
URL:https://sibfordvillagehall.org.uk/event/slow-and-gentle-yoga-4-23/
LOCATION:Main hall
END:VEVENT
BEGIN:VEVENT
DTSTART;TZID=Europe/London:20220611T083000
DTEND;TZID=Europe/London:20220611T100000
DTSTAMP:20260425T153107
CREATED:20220528T183013Z
LAST-MODIFIED:20220528T183013Z
UID:2371-1654936200-1654941600@sibfordvillagehall.org.uk
SUMMARY:Karate
DESCRIPTION:
URL:https://sibfordvillagehall.org.uk/event/karate-10-2/
LOCATION:Main hall
END:VEVENT
BEGIN:VEVENT
DTSTART;TZID=Europe/London:20220610T173000
DTEND;TZID=Europe/London:20220610T190000
DTSTAMP:20260425T153107
CREATED:20220605T183007Z
LAST-MODIFIED:20220605T183007Z
UID:2411-1654882200-1654887600@sibfordvillagehall.org.uk
SUMMARY:Cubs
DESCRIPTION:
URL:https://sibfordvillagehall.org.uk/event/cubs-19/
LOCATION:Main hall
END:VEVENT
BEGIN:VEVENT
DTSTART;TZID=Europe/London:20220610T173000
DTEND;TZID=Europe/London:20220610T190000
DTSTAMP:20260425T153107
CREATED:20220605T183007Z
LAST-MODIFIED:20220605T183007Z
UID:2412-1654882200-1654887600@sibfordvillagehall.org.uk
SUMMARY:Scouts
DESCRIPTION:
URL:https://sibfordvillagehall.org.uk/event/scouts-19/
LOCATION:Small hall
END:VEVENT
BEGIN:VEVENT
DTSTART;TZID=Europe/London:20220610T160000
DTEND;TZID=Europe/London:20220610T173000
DTSTAMP:20260425T153107
CREATED:20220605T183007Z
LAST-MODIFIED:20220605T183007Z
UID:2410-1654876800-1654882200@sibfordvillagehall.org.uk
SUMMARY:Beavers
DESCRIPTION:
URL:https://sibfordvillagehall.org.uk/event/beavers-16/
LOCATION:Main hall
END:VEVENT
BEGIN:VEVENT
DTSTART;TZID=Europe/London:20220610T133000
DTEND;TZID=Europe/London:20220610T153000
DTSTAMP:20260425T153107
CREATED:20220525T183018Z
LAST-MODIFIED:20220525T183018Z
UID:2321-1654867800-1654875000@sibfordvillagehall.org.uk
SUMMARY:Watercolour Painting Class
DESCRIPTION:Learn the basics in a friendly informal class with easy to follow demonstrations. \nFor more information please contact Nigel Fletcher \nnvfletcher@btinternet.com \nwww.nigelfletcher.co.uk \n07792 657 248
URL:https://sibfordvillagehall.org.uk/event/watercolour-painting-class-12/
LOCATION:Main hall
END:VEVENT
BEGIN:VEVENT
DTSTART;TZID=Europe/London:20220610T093000
DTEND;TZID=Europe/London:20220610T123000
DTSTAMP:20260425T153107
CREATED:20220504T183017Z
LAST-MODIFIED:20220504T183017Z
UID:2114-1654853400-1654864200@sibfordvillagehall.org.uk
SUMMARY:Oil Painting Art Class
DESCRIPTION:Learn the basics of oil painting in a friendly informal class with easy to follow demonstrations. \nFor more information please contact Nigel Fletcher \nnvfletcher@btinternet.com \nwww.nigelfletcher.co.uk \n07792 657 248
URL:https://sibfordvillagehall.org.uk/event/art-class-2-19/
LOCATION:Main hall
END:VEVENT
BEGIN:VEVENT
DTSTART;TZID=Europe/London:20220610T093000
DTEND;TZID=Europe/London:20220610T113000
DTSTAMP:20260425T153107
CREATED:20220422T183035Z
LAST-MODIFIED:20220422T183035Z
UID:2003-1654853400-1654860600@sibfordvillagehall.org.uk
SUMMARY:Sibford Tots and Babes Group
DESCRIPTION:
URL:https://sibfordvillagehall.org.uk/event/sibford-tots-and-babes-group-3-8/
LOCATION:Small hall
END:VEVENT
BEGIN:VEVENT
DTSTART;TZID=Europe/London:20220609T173000
DTEND;TZID=Europe/London:20220609T183000
DTSTAMP:20260425T153107
CREATED:20220422T183034Z
LAST-MODIFIED:20220422T183034Z
UID:2002-1654795800-1654799400@sibfordvillagehall.org.uk
SUMMARY:Sibford Young Performers
DESCRIPTION:
URL:https://sibfordvillagehall.org.uk/event/sibford-young-performers-4-11/
LOCATION:Main hall
END:VEVENT
BEGIN:VEVENT
DTSTART;TZID=Europe/London:20220609T151500
DTEND;TZID=Europe/London:20220609T161500
DTSTAMP:20260425T153107
CREATED:20220406T183023Z
LAST-MODIFIED:20220406T183023Z
UID:1885-1654787700-1654791300@sibfordvillagehall.org.uk
SUMMARY:Private hire
DESCRIPTION:
URL:https://sibfordvillagehall.org.uk/event/private-hire-68-11/
LOCATION:Main hall
END:VEVENT
BEGIN:VEVENT
DTSTART;TZID=Europe/London:20220609T101500
DTEND;TZID=Europe/London:20220609T111500
DTSTAMP:20260425T153107
CREATED:20220525T183017Z
LAST-MODIFIED:20220525T183017Z
UID:2320-1654769700-1654773300@sibfordvillagehall.org.uk
SUMMARY:Chair Yoga
DESCRIPTION:
URL:https://sibfordvillagehall.org.uk/event/chair-yoga-34-22/
LOCATION:Main hall
END:VEVENT
BEGIN:VEVENT
DTSTART;TZID=Europe/London:20220609T090000
DTEND;TZID=Europe/London:20220609T100000
DTSTAMP:20260425T153107
CREATED:20220525T183017Z
LAST-MODIFIED:20220525T183017Z
UID:2319-1654765200-1654768800@sibfordvillagehall.org.uk
SUMMARY:Flow Yoga
DESCRIPTION:
URL:https://sibfordvillagehall.org.uk/event/flow-yoga-2-22/
LOCATION:Main hall
END:VEVENT
END:VCALENDAR