BEGIN:VCALENDAR
VERSION:2.0
PRODID:-//Sibford Village Hall - ECPv6.15.20//NONSGML v1.0//EN
CALSCALE:GREGORIAN
METHOD:PUBLISH
X-ORIGINAL-URL:https://sibfordvillagehall.org.uk
X-WR-CALDESC:Events for Sibford Village Hall
REFRESH-INTERVAL;VALUE=DURATION:PT1H
X-Robots-Tag:noindex
X-PUBLISHED-TTL:PT1H
BEGIN:VTIMEZONE
TZID:Europe/London
BEGIN:DAYLIGHT
TZOFFSETFROM:+0000
TZOFFSETTO:+0100
TZNAME:BST
DTSTART:20220327T010000
END:DAYLIGHT
BEGIN:STANDARD
TZOFFSETFROM:+0100
TZOFFSETTO:+0000
TZNAME:GMT
DTSTART:20221030T010000
END:STANDARD
BEGIN:DAYLIGHT
TZOFFSETFROM:+0000
TZOFFSETTO:+0100
TZNAME:BST
DTSTART:20230326T010000
END:DAYLIGHT
BEGIN:STANDARD
TZOFFSETFROM:+0100
TZOFFSETTO:+0000
TZNAME:GMT
DTSTART:20231029T010000
END:STANDARD
BEGIN:DAYLIGHT
TZOFFSETFROM:+0000
TZOFFSETTO:+0100
TZNAME:BST
DTSTART:20240331T010000
END:DAYLIGHT
BEGIN:STANDARD
TZOFFSETFROM:+0100
TZOFFSETTO:+0000
TZNAME:GMT
DTSTART:20241027T010000
END:STANDARD
END:VTIMEZONE
BEGIN:VEVENT
DTSTART;TZID=Europe/London:20230525T193000
DTEND;TZID=Europe/London:20230525T213000
DTSTAMP:20260421T204205
CREATED:20230502T183009Z
LAST-MODIFIED:20230502T183009Z
UID:5278-1685043000-1685050200@sibfordvillagehall.org.uk
SUMMARY:Film Night
DESCRIPTION:Village Hall movies presents Living \nLiving is a 2022 British drama film directed by Oliver Hermanus from a screenplay by Kazuo Ishiguro\, adapted from the 1952 Japanese film Ikiru directed by Akira Kurosawa\, which in turn was inspired by the 1886 Russian novella The Death of Ivan Ilyich by Leo Tolstoy. \nThe film is set in 1953 London. Having lived in a stupor since his wife’s death\, Mr Williams (Bill Nighy) lives out his life through the observance of daily rituals. But then the civil servant receives some shocking news. A modest man\, Williams embarks on an odyssey of discovery\, encountering seaside bohemian Sutherland and opening up to co-worker Margaret.  \nDoors open from 7pm. No charge for the film show but donations welcome. Tea/coffee available for small charge.
URL:https://sibfordvillagehall.org.uk/event/film-night-10/
LOCATION:Main hall
END:VEVENT
BEGIN:VEVENT
DTSTART;TZID=Europe/London:20230526T160000
DTEND;TZID=Europe/London:20230526T173000
DTSTAMP:20260421T204205
CREATED:20230416T183011Z
LAST-MODIFIED:20230416T183011Z
UID:5197-1685116800-1685122200@sibfordvillagehall.org.uk
SUMMARY:Beavers
DESCRIPTION:
URL:https://sibfordvillagehall.org.uk/event/beavers-24-5/
LOCATION:Main hall
END:VEVENT
BEGIN:VEVENT
DTSTART;TZID=Europe/London:20230526T173000
DTEND;TZID=Europe/London:20230526T190000
DTSTAMP:20260421T204205
CREATED:20230416T183011Z
LAST-MODIFIED:20230416T183011Z
UID:5198-1685122200-1685127600@sibfordvillagehall.org.uk
SUMMARY:Cubs
DESCRIPTION:
URL:https://sibfordvillagehall.org.uk/event/cubs-26-3/
LOCATION:Main hall
END:VEVENT
BEGIN:VEVENT
DTSTART;TZID=Europe/London:20230526T173000
DTEND;TZID=Europe/London:20230526T190000
DTSTAMP:20260421T204205
CREATED:20230416T183011Z
LAST-MODIFIED:20230416T183011Z
UID:5199-1685122200-1685127600@sibfordvillagehall.org.uk
SUMMARY:Scouts
DESCRIPTION:
URL:https://sibfordvillagehall.org.uk/event/scouts-50/
LOCATION:Small hall
END:VEVENT
BEGIN:VEVENT
DTSTART;TZID=Europe/London:20230526T191500
DTEND;TZID=Europe/London:20230526T220000
DTSTAMP:20260421T204205
CREATED:20230502T183010Z
LAST-MODIFIED:20230502T183010Z
UID:5281-1685128500-1685138400@sibfordvillagehall.org.uk
SUMMARY:Private hire
DESCRIPTION:
URL:https://sibfordvillagehall.org.uk/event/private-hire-88/
LOCATION:Main hall
END:VEVENT
BEGIN:VEVENT
DTSTART;TZID=Europe/London:20230527T080000
DTEND;TZID=Europe/London:20230527T200000
DTSTAMP:20260421T204205
CREATED:20221129T183019Z
LAST-MODIFIED:20221129T183019Z
UID:3548-1685174400-1685217600@sibfordvillagehall.org.uk
SUMMARY:Private hire
DESCRIPTION:
URL:https://sibfordvillagehall.org.uk/event/private-hire-86/
LOCATION:Main hall
END:VEVENT
BEGIN:VEVENT
DTSTART;TZID=Europe/London:20230528T080000
DTEND;TZID=Europe/London:20230528T200000
DTSTAMP:20260421T204205
CREATED:20221129T183019Z
LAST-MODIFIED:20221129T183019Z
UID:3549-1685260800-1685304000@sibfordvillagehall.org.uk
SUMMARY:Private hire
DESCRIPTION:
URL:https://sibfordvillagehall.org.uk/event/private-hire-87/
LOCATION:Main hall
END:VEVENT
BEGIN:VEVENT
DTSTART;TZID=Europe/London:20230529T080000
DTEND;TZID=Europe/London:20230529T150000
DTSTAMP:20260421T204205
CREATED:20230115T183020Z
LAST-MODIFIED:20230115T183020Z
UID:4112-1685347200-1685372400@sibfordvillagehall.org.uk
SUMMARY:Private hire
DESCRIPTION:
URL:https://sibfordvillagehall.org.uk/event/private-hire-89/
LOCATION:Main hall
END:VEVENT
BEGIN:VEVENT
DTSTART;TZID=Europe/London:20230530T193000
DTEND;TZID=Europe/London:20230530T213000
DTSTAMP:20260421T204205
CREATED:20220713T183017Z
LAST-MODIFIED:20220713T183017Z
UID:2604-1685475000-1685482200@sibfordvillagehall.org.uk
SUMMARY:Sibford Photography Club
DESCRIPTION:
URL:https://sibfordvillagehall.org.uk/event/sibford-photography-club-22/
LOCATION:Main hall
END:VEVENT
BEGIN:VEVENT
DTSTART;TZID=Europe/London:20230531T120000
DTEND;TZID=Europe/London:20230531T143000
DTSTAMP:20260421T204205
CREATED:20230329T183021Z
LAST-MODIFIED:20230329T183021Z
UID:5033-1685534400-1685543400@sibfordvillagehall.org.uk
SUMMARY:Sibford Lunch Club
DESCRIPTION:
URL:https://sibfordvillagehall.org.uk/event/sibford-lunch-club-10-21/
LOCATION:Main hall
END:VEVENT
BEGIN:VEVENT
DTSTART;TZID=Europe/London:20230602T093000
DTEND;TZID=Europe/London:20230602T123000
DTSTAMP:20260421T204205
CREATED:20230506T183010Z
LAST-MODIFIED:20230506T183010Z
UID:5344-1685698200-1685709000@sibfordvillagehall.org.uk
SUMMARY:Art Class /Oil painting
DESCRIPTION:
URL:https://sibfordvillagehall.org.uk/event/art-class-oil-painting-2/
LOCATION:Main hall
END:VEVENT
BEGIN:VEVENT
DTSTART;TZID=Europe/London:20230602T130000
DTEND;TZID=Europe/London:20230602T153000
DTSTAMP:20260421T204205
CREATED:20230506T183010Z
LAST-MODIFIED:20230506T183010Z
UID:5345-1685710800-1685719800@sibfordvillagehall.org.uk
SUMMARY:Watercolour Art Class
DESCRIPTION:
URL:https://sibfordvillagehall.org.uk/event/watercolour-art-class-2/
LOCATION:Main hall
END:VEVENT
BEGIN:VEVENT
DTSTART;TZID=Europe/London:20230603T090000
DTEND;TZID=Europe/London:20230603T100000
DTSTAMP:20260421T204205
CREATED:20230418T183010Z
LAST-MODIFIED:20230418T183010Z
UID:5218-1685782800-1685786400@sibfordvillagehall.org.uk
SUMMARY:Karate
DESCRIPTION:
URL:https://sibfordvillagehall.org.uk/event/karate-18-18/
LOCATION:Main hall
END:VEVENT
BEGIN:VEVENT
DTSTART;TZID=Europe/London:20230605T183000
DTEND;TZID=Europe/London:20230605T193000
DTSTAMP:20260421T204205
CREATED:20230515T183016Z
LAST-MODIFIED:20230515T183016Z
UID:5381-1685989800-1685993400@sibfordvillagehall.org.uk
SUMMARY:Karate
DESCRIPTION:
URL:https://sibfordvillagehall.org.uk/event/karate-19-17/
LOCATION:Main hall
END:VEVENT
BEGIN:VEVENT
DTSTART;TZID=Europe/London:20230605T193000
DTEND;TZID=Europe/London:20230605T210000
DTSTAMP:20260421T204205
CREATED:20230523T183006Z
LAST-MODIFIED:20230523T183006Z
UID:5432-1685993400-1685998800@sibfordvillagehall.org.uk
SUMMARY:Sibford Players
DESCRIPTION:
URL:https://sibfordvillagehall.org.uk/event/sibford-players-38/
LOCATION:Main hall
END:VEVENT
BEGIN:VEVENT
DTSTART;TZID=Europe/London:20230606T140000
DTEND;TZID=Europe/London:20230606T160000
DTSTAMP:20260421T204205
CREATED:20230408T183009Z
LAST-MODIFIED:20230408T183009Z
UID:5143-1686060000-1686067200@sibfordvillagehall.org.uk
SUMMARY:Friendship Club
DESCRIPTION:
URL:https://sibfordvillagehall.org.uk/event/friendship-club-10-5/
LOCATION:Main hall
END:VEVENT
BEGIN:VEVENT
DTSTART;TZID=Europe/London:20230607T120000
DTEND;TZID=Europe/London:20230607T143000
DTSTAMP:20260421T204205
CREATED:20230329T183021Z
LAST-MODIFIED:20230329T183021Z
UID:5035-1686139200-1686148200@sibfordvillagehall.org.uk
SUMMARY:Sibford Lunch Club
DESCRIPTION:
URL:https://sibfordvillagehall.org.uk/event/sibford-lunch-club-10-22/
LOCATION:Main hall
END:VEVENT
BEGIN:VEVENT
DTSTART;TZID=Europe/London:20230608T090000
DTEND;TZID=Europe/London:20230608T100000
DTSTAMP:20260421T204205
CREATED:20230524T183005Z
LAST-MODIFIED:20230524T183005Z
UID:5444-1686214800-1686218400@sibfordvillagehall.org.uk
SUMMARY:Flow Yoga
DESCRIPTION:
URL:https://sibfordvillagehall.org.uk/event/flow-yoga-6-18/
LOCATION:Main hall
END:VEVENT
BEGIN:VEVENT
DTSTART;TZID=Europe/London:20230608T101500
DTEND;TZID=Europe/London:20230608T111500
DTSTAMP:20260421T204205
CREATED:20230524T183005Z
LAST-MODIFIED:20230524T183005Z
UID:5445-1686219300-1686222900@sibfordvillagehall.org.uk
SUMMARY:Chair Yoga
DESCRIPTION:
URL:https://sibfordvillagehall.org.uk/event/chair-yoga-37-18/
LOCATION:Main hall
END:VEVENT
BEGIN:VEVENT
DTSTART;TZID=Europe/London:20230608T173000
DTEND;TZID=Europe/London:20230608T183000
DTSTAMP:20260421T204205
CREATED:20230222T183017Z
LAST-MODIFIED:20230222T183017Z
UID:4579-1686245400-1686249000@sibfordvillagehall.org.uk
SUMMARY:Sibford Young Performers
DESCRIPTION:
URL:https://sibfordvillagehall.org.uk/event/sibford-young-perfomers-7/
LOCATION:Main hall
END:VEVENT
BEGIN:VEVENT
DTSTART;TZID=Europe/London:20230609T093000
DTEND;TZID=Europe/London:20230609T113000
DTSTAMP:20260421T204205
CREATED:20230526T183008Z
LAST-MODIFIED:20230526T183008Z
UID:5454-1686303000-1686310200@sibfordvillagehall.org.uk
SUMMARY:Sibford Tots & Babes Group
DESCRIPTION:
URL:https://sibfordvillagehall.org.uk/event/sibford-tots-babes-group-17/
LOCATION:Small hall
END:VEVENT
BEGIN:VEVENT
DTSTART;TZID=Europe/London:20230609T093000
DTEND;TZID=Europe/London:20230609T123000
DTSTAMP:20260421T204205
CREATED:20230506T183011Z
LAST-MODIFIED:20230506T183011Z
UID:5347-1686303000-1686313800@sibfordvillagehall.org.uk
SUMMARY:Art Class /Oil painting
DESCRIPTION:
URL:https://sibfordvillagehall.org.uk/event/art-class-oil-painting-3/
LOCATION:Main hall
END:VEVENT
BEGIN:VEVENT
DTSTART;TZID=Europe/London:20230609T100000
DTEND;TZID=Europe/London:20230609T160000
DTSTAMP:20260421T204205
CREATED:20230608T183006Z
LAST-MODIFIED:20230608T183006Z
UID:5494-1686304800-1686326400@sibfordvillagehall.org.uk
SUMMARY:Cherington Art Exhibition at Cherington and Stourton Village Hall
DESCRIPTION:Sibford artist Ginny Bennett and her art group friends are showing their art at Cherington Hall\, CV36 5HG. \nPaintings in oil\, acrylics\, watercolours and  mixed media in a large variety of styles. Affordable art \nCards\, cakes\, tea and coffee available. \nEntry is free . Lots of parking and disabled access.  We look forward to seeing you! \nFrom Brailes  going west turn left to Sutton under Brailes and left again to Stourton and Cherington. 
URL:https://sibfordvillagehall.org.uk/event/cherington-art-exhibition/
LOCATION:Main hall
END:VEVENT
BEGIN:VEVENT
DTSTART;TZID=Europe/London:20230609T130000
DTEND;TZID=Europe/London:20230609T153000
DTSTAMP:20260421T204205
CREATED:20230506T183011Z
LAST-MODIFIED:20230506T183011Z
UID:5348-1686315600-1686324600@sibfordvillagehall.org.uk
SUMMARY:Watercolour Art Class
DESCRIPTION:
URL:https://sibfordvillagehall.org.uk/event/watercolour-art-class-3/
LOCATION:Main hall
END:VEVENT
BEGIN:VEVENT
DTSTART;TZID=Europe/London:20230609T160000
DTEND;TZID=Europe/London:20230609T173000
DTSTAMP:20260421T204205
CREATED:20230601T183007Z
LAST-MODIFIED:20230601T183007Z
UID:5477-1686326400-1686331800@sibfordvillagehall.org.uk
SUMMARY:Beavers
DESCRIPTION:
URL:https://sibfordvillagehall.org.uk/event/beavers-25/
LOCATION:Main hall
END:VEVENT
BEGIN:VEVENT
DTSTART;TZID=Europe/London:20230610T090000
DTEND;TZID=Europe/London:20230610T100000
DTSTAMP:20260421T204205
CREATED:20230418T183010Z
LAST-MODIFIED:20230418T183010Z
UID:5219-1686387600-1686391200@sibfordvillagehall.org.uk
SUMMARY:Karate
DESCRIPTION:
URL:https://sibfordvillagehall.org.uk/event/karate-18-19/
LOCATION:Main hall
END:VEVENT
BEGIN:VEVENT
DTSTART;TZID=Europe/London:20230612T183000
DTEND;TZID=Europe/London:20230612T193000
DTSTAMP:20260421T204205
CREATED:20230515T183016Z
LAST-MODIFIED:20230515T183016Z
UID:5382-1686594600-1686598200@sibfordvillagehall.org.uk
SUMMARY:Karate
DESCRIPTION:
URL:https://sibfordvillagehall.org.uk/event/karate-19-18/
LOCATION:Main hall
END:VEVENT
BEGIN:VEVENT
DTSTART;TZID=Europe/London:20230614T120000
DTEND;TZID=Europe/London:20230614T143000
DTSTAMP:20260421T204205
CREATED:20230329T183022Z
LAST-MODIFIED:20230329T183022Z
UID:5037-1686744000-1686753000@sibfordvillagehall.org.uk
SUMMARY:Sibford Lunch Club
DESCRIPTION:
URL:https://sibfordvillagehall.org.uk/event/sibford-lunch-club-10-23/
LOCATION:Main hall
END:VEVENT
BEGIN:VEVENT
DTSTART;TZID=Europe/London:20230614T173000
DTEND;TZID=Europe/London:20230614T200000
DTSTAMP:20260421T204205
CREATED:20230520T183007Z
LAST-MODIFIED:20230520T183007Z
UID:5422-1686763800-1686772800@sibfordvillagehall.org.uk
SUMMARY:Village Hall Trustees meeting
DESCRIPTION:
URL:https://sibfordvillagehall.org.uk/event/village-hall-trustees-meeting-15/
LOCATION:Main hall
END:VEVENT
BEGIN:VEVENT
DTSTART;TZID=Europe/London:20230615T090000
DTEND;TZID=Europe/London:20230615T100000
DTSTAMP:20260421T204205
CREATED:20230524T183006Z
LAST-MODIFIED:20230524T183006Z
UID:5446-1686819600-1686823200@sibfordvillagehall.org.uk
SUMMARY:Flow Yoga
DESCRIPTION:
URL:https://sibfordvillagehall.org.uk/event/flow-yoga-6-19/
LOCATION:Main hall
END:VEVENT
END:VCALENDAR