BEGIN:VCALENDAR
VERSION:2.0
PRODID:-//Sibford Village Hall - ECPv6.15.20//NONSGML v1.0//EN
CALSCALE:GREGORIAN
METHOD:PUBLISH
X-WR-CALNAME:Sibford Village Hall
X-ORIGINAL-URL:https://sibfordvillagehall.org.uk
X-WR-CALDESC:Events for Sibford Village Hall
REFRESH-INTERVAL;VALUE=DURATION:PT1H
X-Robots-Tag:noindex
X-PUBLISHED-TTL:PT1H
BEGIN:VTIMEZONE
TZID:Europe/London
BEGIN:DAYLIGHT
TZOFFSETFROM:+0000
TZOFFSETTO:+0100
TZNAME:BST
DTSTART:20220327T010000
END:DAYLIGHT
BEGIN:STANDARD
TZOFFSETFROM:+0100
TZOFFSETTO:+0000
TZNAME:GMT
DTSTART:20221030T010000
END:STANDARD
BEGIN:DAYLIGHT
TZOFFSETFROM:+0000
TZOFFSETTO:+0100
TZNAME:BST
DTSTART:20230326T010000
END:DAYLIGHT
BEGIN:STANDARD
TZOFFSETFROM:+0100
TZOFFSETTO:+0000
TZNAME:GMT
DTSTART:20231029T010000
END:STANDARD
BEGIN:DAYLIGHT
TZOFFSETFROM:+0000
TZOFFSETTO:+0100
TZNAME:BST
DTSTART:20240331T010000
END:DAYLIGHT
BEGIN:STANDARD
TZOFFSETFROM:+0100
TZOFFSETTO:+0000
TZNAME:GMT
DTSTART:20241027T010000
END:STANDARD
END:VTIMEZONE
BEGIN:VEVENT
DTSTART;TZID=Europe/London:20230418T090000
DTEND;TZID=Europe/London:20230418T100000
DTSTAMP:20260421T204202
CREATED:20230308T183019Z
LAST-MODIFIED:20230308T183019Z
UID:4749-1681808400-1681812000@sibfordvillagehall.org.uk
SUMMARY:Slow and gentle Yoga
DESCRIPTION:
URL:https://sibfordvillagehall.org.uk/event/slow-and-gentle-yoga-7-12/
LOCATION:Main hall
END:VEVENT
BEGIN:VEVENT
DTSTART;TZID=Europe/London:20230417T193000
DTEND;TZID=Europe/London:20230417T210000
DTSTAMP:20260421T204202
CREATED:20230325T183010Z
LAST-MODIFIED:20230325T183010Z
UID:4961-1681759800-1681765200@sibfordvillagehall.org.uk
SUMMARY:Band practice
DESCRIPTION:
URL:https://sibfordvillagehall.org.uk/event/band-practice/
LOCATION:Main hall
END:VEVENT
BEGIN:VEVENT
DTSTART;TZID=Europe/London:20230417T193000
DTEND;TZID=Europe/London:20230417T210000
DTSTAMP:20260421T204202
CREATED:20230315T183015Z
LAST-MODIFIED:20230315T183015Z
UID:4850-1681759800-1681765200@sibfordvillagehall.org.uk
SUMMARY:Sibford Players
DESCRIPTION:
URL:https://sibfordvillagehall.org.uk/event/sibford-players-30-10/
LOCATION:Small hall
END:VEVENT
BEGIN:VEVENT
DTSTART;TZID=Europe/London:20230417T183000
DTEND;TZID=Europe/London:20230417T193000
DTSTAMP:20260421T204202
CREATED:20230315T183015Z
LAST-MODIFIED:20230315T183015Z
UID:4849-1681756200-1681759800@sibfordvillagehall.org.uk
SUMMARY:Karate
DESCRIPTION:
URL:https://sibfordvillagehall.org.uk/event/karate-19-13/
LOCATION:Main hall
END:VEVENT
BEGIN:VEVENT
DTSTART;TZID=Europe/London:20230415T100000
DTEND;TZID=Europe/London:20230415T120000
DTSTAMP:20260421T204202
CREATED:20230209T183011Z
LAST-MODIFIED:20230209T183011Z
UID:4399-1681552800-1681560000@sibfordvillagehall.org.uk
SUMMARY:Book Swap and Café
DESCRIPTION:Welcome to our monthly chance to have coffee/cake and a chat in the warm. Browse our large selection of books and borrow any you like . \nNo need to bring a book to swap. \nNo charge. Donations welcome.
URL:https://sibfordvillagehall.org.uk/event/book-swap-and-cafe-8/
LOCATION:Small hall
END:VEVENT
BEGIN:VEVENT
DTSTART;TZID=Europe/London:20230415T090000
DTEND;TZID=Europe/London:20230415T100000
DTSTAMP:20260421T204202
CREATED:20230331T183010Z
LAST-MODIFIED:20230331T183010Z
UID:5078-1681549200-1681552800@sibfordvillagehall.org.uk
SUMMARY:Karate
DESCRIPTION:
URL:https://sibfordvillagehall.org.uk/event/karate-18-13/
LOCATION:Main hall
END:VEVENT
BEGIN:VEVENT
DTSTART;TZID=Europe/London:20230414T130000
DTEND;TZID=Europe/London:20230414T153000
DTSTAMP:20260421T204202
CREATED:20230307T183010Z
LAST-MODIFIED:20230307T183010Z
UID:4718-1681477200-1681486200@sibfordvillagehall.org.uk
SUMMARY:Watercolour painting class
DESCRIPTION:
URL:https://sibfordvillagehall.org.uk/event/watercolour-painting-class-3-14/
LOCATION:Main hall
END:VEVENT
BEGIN:VEVENT
DTSTART;TZID=Europe/London:20230414T093000
DTEND;TZID=Europe/London:20230414T123000
DTSTAMP:20260421T204202
CREATED:20230325T183010Z
LAST-MODIFIED:20230325T183010Z
UID:4960-1681464600-1681475400@sibfordvillagehall.org.uk
SUMMARY:Oil painting class
DESCRIPTION:
URL:https://sibfordvillagehall.org.uk/event/oil-painting-class-22-13/
LOCATION:Main hall
END:VEVENT
BEGIN:VEVENT
DTSTART;TZID=Europe/London:20230412T190000
DTEND;TZID=Europe/London:20230412T213000
DTSTAMP:20260421T204202
CREATED:20230304T183008Z
LAST-MODIFIED:20230304T183008Z
UID:4701-1681326000-1681335000@sibfordvillagehall.org.uk
SUMMARY:Horti Society meeting - Colour through the seasons
DESCRIPTION:Simon Gulliver on Colour through the seasons – How to achieve 365 days of colour. \nDoors open at 7pm for refreshments. Non-members are always welcome.
URL:https://sibfordvillagehall.org.uk/event/horti-society-meeting-4/
LOCATION:Main hall
END:VEVENT
BEGIN:VEVENT
DTSTART;TZID=Europe/London:20230412T150000
DTEND;TZID=Europe/London:20230412T170000
DTSTAMP:20260421T204202
CREATED:20230329T183018Z
LAST-MODIFIED:20230329T183018Z
UID:5018-1681311600-1681318800@sibfordvillagehall.org.uk
SUMMARY:Sibford Lunch Club/ Afternoon Tea
DESCRIPTION:
URL:https://sibfordvillagehall.org.uk/event/sibford-lunch-club-11/
LOCATION:Main hall
END:VEVENT
BEGIN:VEVENT
DTSTART;TZID=Europe/London:20230411T120000
DTEND;TZID=Europe/London:20230411T170000
DTSTAMP:20260421T204202
CREATED:20230222T183014Z
LAST-MODIFIED:20230222T183014Z
UID:4561-1681214400-1681232400@sibfordvillagehall.org.uk
SUMMARY:Model Railway Group
DESCRIPTION:
URL:https://sibfordvillagehall.org.uk/event/model-railway-group-6/
LOCATION:Main hall
END:VEVENT
BEGIN:VEVENT
DTSTART;TZID=Europe/London:20230407T140000
DTEND;TZID=Europe/London:20230407T160000
DTSTAMP:20260421T204202
CREATED:20230402T183007Z
LAST-MODIFIED:20230402T183007Z
UID:5103-1680876000-1680883200@sibfordvillagehall.org.uk
SUMMARY:Easter Egg Hunt
DESCRIPTION:Start at the Village Hall. Last trail at 4pm\, to finish by 5pm. \nEntry fee £2.50\, including chocolate egg on completion. Shorter trail for younger children. \nTea\, coffee\, cakes available in the Village Hall.
URL:https://sibfordvillagehall.org.uk/event/easter-egg-hunt/
LOCATION:Main hall
END:VEVENT
BEGIN:VEVENT
DTSTART;TZID=Europe/London:20230407T093000
DTEND;TZID=Europe/London:20230407T123000
DTSTAMP:20260421T204203
CREATED:20230331T183009Z
LAST-MODIFIED:20230331T183009Z
UID:5076-1680859800-1680870600@sibfordvillagehall.org.uk
SUMMARY:Oil Painting Class
DESCRIPTION:
URL:https://sibfordvillagehall.org.uk/event/oil-painting-class-23/
LOCATION:Main hall
END:VEVENT
BEGIN:VEVENT
DTSTART;TZID=Europe/London:20230405T194500
DTEND;TZID=Europe/London:20230405T203000
DTSTAMP:20260421T204203
CREATED:20230404T183013Z
LAST-MODIFIED:20230404T183013Z
UID:5113-1680723900-1680726600@sibfordvillagehall.org.uk
SUMMARY:Sibford Gower Parish Council Extraordinary Meeting
DESCRIPTION:SGPC Extraordinary Agenda 05.04.23
URL:https://sibfordvillagehall.org.uk/event/sibford-gower-parish-council-extraordinary-meeting-6/
LOCATION:Small hall
END:VEVENT
BEGIN:VEVENT
DTSTART;TZID=Europe/London:20230405T190000
DTEND;TZID=Europe/London:20230405T210000
DTSTAMP:20260421T204203
CREATED:20230325T183010Z
LAST-MODIFIED:20230325T183010Z
UID:4959-1680721200-1680728400@sibfordvillagehall.org.uk
SUMMARY:Bridge class
DESCRIPTION:
URL:https://sibfordvillagehall.org.uk/event/bridge-classes-5/
LOCATION:Main hall
END:VEVENT
BEGIN:VEVENT
DTSTART;TZID=Europe/London:20230405T120000
DTEND;TZID=Europe/London:20230405T143000
DTSTAMP:20260421T204203
CREATED:20230329T183018Z
LAST-MODIFIED:20230329T183018Z
UID:5017-1680696000-1680705000@sibfordvillagehall.org.uk
SUMMARY:Sibford Lunch Club
DESCRIPTION:
URL:https://sibfordvillagehall.org.uk/event/sibford-lunch-club-10-14/
LOCATION:Main hall
END:VEVENT
BEGIN:VEVENT
DTSTART;TZID=Europe/London:20230404T180000
DTEND;TZID=Europe/London:20230404T203000
DTSTAMP:20260421T204203
CREATED:20230404T183012Z
LAST-MODIFIED:20230404T183012Z
UID:5112-1680631200-1680640200@sibfordvillagehall.org.uk
SUMMARY:CPR training session
DESCRIPTION:Cardiac Arrest or a heart attack can happen to anyone. When it does\, having someone on hand who knows how to perform CPR (Cardio Pulmonary Resuscitation) and use a defibrillator is critical and can save a life. \nWe have had defibrillators in place for some time on both sides of the valley\, but many people have told us in the past they would not be confident in using resuscitation techniques and have asked for training to be laid on. \nWe would especially encourage you to join up if you run or take part in any social or sporting events in the villages. \nTo book your place\, please contact Parish Clerk Kirsty Buttle at sfpc@thesibfords.org.uk
URL:https://sibfordvillagehall.org.uk/event/cpr-training-session-tbc/
LOCATION:Main hall
END:VEVENT
BEGIN:VEVENT
DTSTART;TZID=Europe/London:20230404T140000
DTEND;TZID=Europe/London:20230404T160000
DTSTAMP:20260421T204203
CREATED:20230404T183012Z
LAST-MODIFIED:20230404T183012Z
UID:5111-1680616800-1680624000@sibfordvillagehall.org.uk
SUMMARY:Friendship Club
DESCRIPTION:
URL:https://sibfordvillagehall.org.uk/event/friendship-club-10-3/
LOCATION:Main hall
END:VEVENT
BEGIN:VEVENT
DTSTART;TZID=Europe/London:20230403T193000
DTEND;TZID=Europe/London:20230403T210000
DTSTAMP:20260421T204203
CREATED:20230315T183015Z
LAST-MODIFIED:20230315T183015Z
UID:4846-1680550200-1680555600@sibfordvillagehall.org.uk
SUMMARY:Sibford Players
DESCRIPTION:
URL:https://sibfordvillagehall.org.uk/event/sibford-players-30-9/
LOCATION:Small hall
END:VEVENT
BEGIN:VEVENT
DTSTART;TZID=Europe/London:20230403T183000
DTEND;TZID=Europe/London:20230403T193000
DTSTAMP:20260421T204203
CREATED:20230315T183015Z
LAST-MODIFIED:20230315T183015Z
UID:4845-1680546600-1680550200@sibfordvillagehall.org.uk
SUMMARY:Karate
DESCRIPTION:
URL:https://sibfordvillagehall.org.uk/event/karate-19-12/
LOCATION:Main hall
END:VEVENT
BEGIN:VEVENT
DTSTART;TZID=Europe/London:20230403T090000
DTEND;TZID=Europe/London:20230403T120000
DTSTAMP:20260421T204203
CREATED:20230329T183018Z
LAST-MODIFIED:20230329T183018Z
UID:5016-1680512400-1680523200@sibfordvillagehall.org.uk
SUMMARY:Warm Hub
DESCRIPTION:Last session of “Warm Hub” before the Spring  weather starts -hopefully . The “Warm Hub” will start again in October . \nDrop in anytime between 9am and 12 midday for a hot drink \, conversation\, crafting \,painting or bring your knitting! \nAll free and open to all. \nContact Ginny for more info on 01295 780373
URL:https://sibfordvillagehall.org.uk/event/warm-hub-2-2/
LOCATION:Small hall
END:VEVENT
BEGIN:VEVENT
DTSTART;TZID=Europe/London:20230402T100000
DTEND;TZID=Europe/London:20230402T120000
DTSTAMP:20260421T204203
CREATED:20230303T183010Z
LAST-MODIFIED:20230303T183010Z
UID:4676-1680429600-1680436800@sibfordvillagehall.org.uk
SUMMARY:VH garden tidy up session
DESCRIPTION:If you can spare an hour or two\, please come along with your secateurs\, trowels\, edgers and loppers etc to help tidy up the gardens ready for the spring and summer. We would also welcome any easy care plants or bulbs if you have any spares. A great community gathering and fun if we all pull together to spruce up the surroundings to our invaluable village hall! Tea and biscuits will be provided. \nFor more information\, contact Carolyn White on 07711 897 902
URL:https://sibfordvillagehall.org.uk/event/garden-tidy-up-session/
LOCATION:Main hall
END:VEVENT
BEGIN:VEVENT
DTSTART;TZID=Europe/London:20230401T100000
DTEND;TZID=Europe/London:20230401T150000
DTSTAMP:20260421T204203
CREATED:20230308T183019Z
LAST-MODIFIED:20230308T183019Z
UID:4744-1680343200-1680361200@sibfordvillagehall.org.uk
SUMMARY:Private hire/Party
DESCRIPTION:
URL:https://sibfordvillagehall.org.uk/event/private-hire-83/
LOCATION:Main hall
END:VEVENT
BEGIN:VEVENT
DTSTART;TZID=Europe/London:20230331T173000
DTEND;TZID=Europe/London:20230331T190000
DTSTAMP:20260421T204203
CREATED:20230219T183012Z
LAST-MODIFIED:20230219T183012Z
UID:4517-1680283800-1680289200@sibfordvillagehall.org.uk
SUMMARY:Cubs
DESCRIPTION:
URL:https://sibfordvillagehall.org.uk/event/cubs-25-10/
LOCATION:Main hall
END:VEVENT
BEGIN:VEVENT
DTSTART;TZID=Europe/London:20230331T130000
DTEND;TZID=Europe/London:20230331T153000
DTSTAMP:20260421T204203
CREATED:20230307T183010Z
LAST-MODIFIED:20230307T183010Z
UID:4717-1680267600-1680276600@sibfordvillagehall.org.uk
SUMMARY:Watercolour painting class
DESCRIPTION:
URL:https://sibfordvillagehall.org.uk/event/watercolour-painting-class-3-13/
LOCATION:Main hall
END:VEVENT
BEGIN:VEVENT
DTSTART;TZID=Europe/London:20230331T093000
DTEND;TZID=Europe/London:20230331T123000
DTSTAMP:20260421T204203
CREATED:20230325T183010Z
LAST-MODIFIED:20230325T183010Z
UID:4958-1680255000-1680265800@sibfordvillagehall.org.uk
SUMMARY:Oil painting class
DESCRIPTION:
URL:https://sibfordvillagehall.org.uk/event/oil-painting-class-22-12/
LOCATION:Main hall
END:VEVENT
BEGIN:VEVENT
DTSTART;TZID=Europe/London:20230331T093000
DTEND;TZID=Europe/London:20230331T113000
DTSTAMP:20260421T204203
CREATED:20230205T183011Z
LAST-MODIFIED:20230205T183011Z
UID:4324-1680255000-1680262200@sibfordvillagehall.org.uk
SUMMARY:Sibford Tots & Babes Group
DESCRIPTION:
URL:https://sibfordvillagehall.org.uk/event/sibford-tots-babes-group-11/
LOCATION:Small hall
END:VEVENT
BEGIN:VEVENT
DTSTART;TZID=Europe/London:20230330T193000
DTEND;TZID=Europe/London:20230330T213000
DTSTAMP:20260421T204203
CREATED:20230328T183008Z
LAST-MODIFIED:20230328T183008Z
UID:5008-1680204600-1680211800@sibfordvillagehall.org.uk
SUMMARY:Film Night
DESCRIPTION:Village Hall movies presents Mrs Harris Goes to Paris \nMrs Harris Goes to Paris is a 2022 historical comedy-drama film directed and produced by Anthony Fabian\, from a screenplay he co-wrote with Carroll Cartwright\, Keith Thompson\, and Olivia Hetreed. It is the third film adaptation of the 1958 novel Mrs. ‘Arris Goes to Paris by Paul Gallico. \nDoors open from 7pm \nNo charge for the film show but donations welcome. Tea/coffee available for small charge.
URL:https://sibfordvillagehall.org.uk/event/film-night-9/
LOCATION:Main hall
END:VEVENT
BEGIN:VEVENT
DTSTART;TZID=Europe/London:20230330T193000
DTEND;TZID=Europe/London:20230330T210000
DTSTAMP:20260421T204203
CREATED:20230207T183014Z
LAST-MODIFIED:20230207T183014Z
UID:4359-1680204600-1680210000@sibfordvillagehall.org.uk
SUMMARY:Village Hall Trustees Meeting
DESCRIPTION:
URL:https://sibfordvillagehall.org.uk/event/village-hall-trustees-meeting-14/
LOCATION:Small hall
END:VEVENT
BEGIN:VEVENT
DTSTART;TZID=Europe/London:20230330T173000
DTEND;TZID=Europe/London:20230330T183000
DTSTAMP:20260421T204203
CREATED:20230321T183009Z
LAST-MODIFIED:20230321T183009Z
UID:4925-1680197400-1680201000@sibfordvillagehall.org.uk
SUMMARY:Sibford Young Performers
DESCRIPTION:
URL:https://sibfordvillagehall.org.uk/event/sibford-young-performers-7-11/
LOCATION:Main hall
END:VEVENT
END:VCALENDAR