BEGIN:VCALENDAR
VERSION:2.0
PRODID:-//Sibford Village Hall - ECPv6.15.20//NONSGML v1.0//EN
CALSCALE:GREGORIAN
METHOD:PUBLISH
X-WR-CALNAME:Sibford Village Hall
X-ORIGINAL-URL:https://sibfordvillagehall.org.uk
X-WR-CALDESC:Events for Sibford Village Hall
REFRESH-INTERVAL;VALUE=DURATION:PT1H
X-Robots-Tag:noindex
X-PUBLISHED-TTL:PT1H
BEGIN:VTIMEZONE
TZID:Europe/London
BEGIN:DAYLIGHT
TZOFFSETFROM:+0000
TZOFFSETTO:+0100
TZNAME:BST
DTSTART:20210328T010000
END:DAYLIGHT
BEGIN:STANDARD
TZOFFSETFROM:+0100
TZOFFSETTO:+0000
TZNAME:GMT
DTSTART:20211031T010000
END:STANDARD
BEGIN:DAYLIGHT
TZOFFSETFROM:+0000
TZOFFSETTO:+0100
TZNAME:BST
DTSTART:20220327T010000
END:DAYLIGHT
BEGIN:STANDARD
TZOFFSETFROM:+0100
TZOFFSETTO:+0000
TZNAME:GMT
DTSTART:20221030T010000
END:STANDARD
BEGIN:DAYLIGHT
TZOFFSETFROM:+0000
TZOFFSETTO:+0100
TZNAME:BST
DTSTART:20230326T010000
END:DAYLIGHT
BEGIN:STANDARD
TZOFFSETFROM:+0100
TZOFFSETTO:+0000
TZNAME:GMT
DTSTART:20231029T010000
END:STANDARD
END:VTIMEZONE
BEGIN:VEVENT
DTSTART;TZID=Europe/London:20220916T160000
DTEND;TZID=Europe/London:20220916T173000
DTSTAMP:20260424T184712
CREATED:20220831T183015Z
LAST-MODIFIED:20220831T183015Z
UID:2925-1663344000-1663349400@sibfordvillagehall.org.uk
SUMMARY:Beavers
DESCRIPTION:
URL:https://sibfordvillagehall.org.uk/event/beavers-19/
LOCATION:Main hall
END:VEVENT
BEGIN:VEVENT
DTSTART;TZID=Europe/London:20220916T100000
DTEND;TZID=Europe/London:20220916T150000
DTSTAMP:20260424T184712
CREATED:20220816T183011Z
LAST-MODIFIED:20220816T183011Z
UID:2776-1663322400-1663340400@sibfordvillagehall.org.uk
SUMMARY:Abstract Painting Workshop
DESCRIPTION:
URL:https://sibfordvillagehall.org.uk/event/abstract-painting-workshop-3/
LOCATION:Main hall
END:VEVENT
BEGIN:VEVENT
DTSTART;TZID=Europe/London:20220915T193000
DTEND;TZID=Europe/London:20220915T210000
DTSTAMP:20260424T184712
CREATED:20220910T183008Z
LAST-MODIFIED:20220910T183008Z
UID:2962-1663270200-1663275600@sibfordvillagehall.org.uk
SUMMARY:CANCELLED - Tales from the Auction Room
DESCRIPTION:In view of the period of National Mourning and after discussion with Steven Bruce\, the speaker\, this event has been cancelled. The Committee hopes to arrange it for another date.
URL:https://sibfordvillagehall.org.uk/event/sibford-history-society-4/
LOCATION:Main hall
END:VEVENT
BEGIN:VEVENT
DTSTART;TZID=Europe/London:20220915T173000
DTEND;TZID=Europe/London:20220915T183000
DTSTAMP:20260424T184712
CREATED:20220821T183015Z
LAST-MODIFIED:20220821T183015Z
UID:2855-1663263000-1663266600@sibfordvillagehall.org.uk
SUMMARY:Sibford Young Performers
DESCRIPTION:
URL:https://sibfordvillagehall.org.uk/event/sibford-young-performers-6/
LOCATION:Main hall
END:VEVENT
BEGIN:VEVENT
DTSTART;TZID=Europe/London:20220915T101500
DTEND;TZID=Europe/London:20220915T111500
DTSTAMP:20260424T184712
CREATED:20220820T183015Z
LAST-MODIFIED:20220820T183015Z
UID:2801-1663236900-1663240500@sibfordvillagehall.org.uk
SUMMARY:Chair Yoga
DESCRIPTION:
URL:https://sibfordvillagehall.org.uk/event/chair-yoga-35-2/
LOCATION:Main hall
END:VEVENT
BEGIN:VEVENT
DTSTART;TZID=Europe/London:20220915T090000
DTEND;TZID=Europe/London:20220915T100000
DTSTAMP:20260424T184712
CREATED:20220820T183015Z
LAST-MODIFIED:20220820T183015Z
UID:2800-1663232400-1663236000@sibfordvillagehall.org.uk
SUMMARY:Flow Yoga
DESCRIPTION:
URL:https://sibfordvillagehall.org.uk/event/flow-yoga-4-2/
LOCATION:Main hall
END:VEVENT
BEGIN:VEVENT
DTSTART;TZID=Europe/London:20220914T193000
DTEND;TZID=Europe/London:20220914T213000
DTSTAMP:20260424T184712
CREATED:20220820T183014Z
LAST-MODIFIED:20220820T183014Z
UID:2799-1663183800-1663191000@sibfordvillagehall.org.uk
SUMMARY:Village Hall Trustees meeting
DESCRIPTION:
URL:https://sibfordvillagehall.org.uk/event/village-hall-trustees-meeting-11/
LOCATION:Main hall
END:VEVENT
BEGIN:VEVENT
DTSTART;TZID=Europe/London:20220914T120000
DTEND;TZID=Europe/London:20220914T143000
DTSTAMP:20260424T184712
CREATED:20220825T183023Z
LAST-MODIFIED:20220825T183023Z
UID:2884-1663156800-1663165800@sibfordvillagehall.org.uk
SUMMARY:Sibford Lunch Club
DESCRIPTION:
URL:https://sibfordvillagehall.org.uk/event/sibford-lunch-club-8-20/
LOCATION:Main hall
END:VEVENT
BEGIN:VEVENT
DTSTART;TZID=Europe/London:20220913T183000
DTEND;TZID=Europe/London:20220913T193000
DTSTAMP:20260424T184712
CREATED:20220804T183012Z
LAST-MODIFIED:20220804T183012Z
UID:2734-1663093800-1663097400@sibfordvillagehall.org.uk
SUMMARY:Karate
DESCRIPTION:
URL:https://sibfordvillagehall.org.uk/event/karate-14-2/
LOCATION:Main hall
END:VEVENT
BEGIN:VEVENT
DTSTART;TZID=Europe/London:20220913T090000
DTEND;TZID=Europe/London:20220913T100000
DTSTAMP:20260424T184712
CREATED:20220820T183014Z
LAST-MODIFIED:20220820T183014Z
UID:2798-1663059600-1663063200@sibfordvillagehall.org.uk
SUMMARY:Slow and Gentle Yoga
DESCRIPTION:
URL:https://sibfordvillagehall.org.uk/event/slow-and-gentle-yoga-5/
LOCATION:Main hall
END:VEVENT
BEGIN:VEVENT
DTSTART;TZID=Europe/London:20220910T091500
DTEND;TZID=Europe/London:20220910T100000
DTSTAMP:20260424T184712
CREATED:20220821T183014Z
LAST-MODIFIED:20220821T183014Z
UID:2854-1662801300-1662804000@sibfordvillagehall.org.uk
SUMMARY:Karate
DESCRIPTION:
URL:https://sibfordvillagehall.org.uk/event/karate-15-3/
LOCATION:Main hall
END:VEVENT
BEGIN:VEVENT
DTSTART;TZID=Europe/London:20220909T173000
DTEND;TZID=Europe/London:20220909T190000
DTSTAMP:20260424T184712
CREATED:20220901T183012Z
LAST-MODIFIED:20220901T183012Z
UID:2932-1662744600-1662750000@sibfordvillagehall.org.uk
SUMMARY:Cubs
DESCRIPTION:
URL:https://sibfordvillagehall.org.uk/event/cubs-23/
LOCATION:Main hall
END:VEVENT
BEGIN:VEVENT
DTSTART;TZID=Europe/London:20220909T173000
DTEND;TZID=Europe/London:20220909T190000
DTSTAMP:20260424T184712
CREATED:20220831T183014Z
LAST-MODIFIED:20220831T183014Z
UID:2924-1662744600-1662750000@sibfordvillagehall.org.uk
SUMMARY:Scouts
DESCRIPTION:
URL:https://sibfordvillagehall.org.uk/event/scouts-22/
LOCATION:Small hall
END:VEVENT
BEGIN:VEVENT
DTSTART;TZID=Europe/London:20220909T093000
DTEND;TZID=Europe/London:20220909T113000
DTSTAMP:20260424T184712
CREATED:20220820T183014Z
LAST-MODIFIED:20220820T183014Z
UID:2796-1662715800-1662723000@sibfordvillagehall.org.uk
SUMMARY:Sibford Tots and Babes Group
DESCRIPTION:
URL:https://sibfordvillagehall.org.uk/event/sibford-tots-and-babes-group-4/
LOCATION:Small hall
END:VEVENT
BEGIN:VEVENT
DTSTART;TZID=Europe/London:20220908T101500
DTEND;TZID=Europe/London:20220908T111500
DTSTAMP:20260424T184712
CREATED:20220820T183013Z
LAST-MODIFIED:20220820T183013Z
UID:2795-1662632100-1662635700@sibfordvillagehall.org.uk
SUMMARY:Chair Yoga
DESCRIPTION:
URL:https://sibfordvillagehall.org.uk/event/chair-yoga-35/
LOCATION:Main hall
END:VEVENT
BEGIN:VEVENT
DTSTART;TZID=Europe/London:20220908T090000
DTEND;TZID=Europe/London:20220908T100000
DTSTAMP:20260424T184712
CREATED:20220820T183013Z
LAST-MODIFIED:20220820T183013Z
UID:2794-1662627600-1662631200@sibfordvillagehall.org.uk
SUMMARY:Flow Yoga
DESCRIPTION:
URL:https://sibfordvillagehall.org.uk/event/flow-yoga-4/
LOCATION:Main hall
END:VEVENT
BEGIN:VEVENT
DTSTART;TZID=Europe/London:20220907T120000
DTEND;TZID=Europe/London:20220907T143000
DTSTAMP:20260424T184712
CREATED:20220825T183023Z
LAST-MODIFIED:20220825T183023Z
UID:2883-1662552000-1662561000@sibfordvillagehall.org.uk
SUMMARY:Sibford Lunch Club
DESCRIPTION:
URL:https://sibfordvillagehall.org.uk/event/sibford-lunch-club-8-19/
LOCATION:Main hall
END:VEVENT
BEGIN:VEVENT
DTSTART;TZID=Europe/London:20220906T190000
DTEND;TZID=Europe/London:20220906T210000
DTSTAMP:20260424T184712
CREATED:20220901T183012Z
LAST-MODIFIED:20220901T183012Z
UID:2931-1662490800-1662498000@sibfordvillagehall.org.uk
SUMMARY:Sibford Gower Parish Council meeting
DESCRIPTION:06 Sep 2022 – SGPC Agenda
URL:https://sibfordvillagehall.org.uk/event/sibford-gower-parish-council-meeting-15/
LOCATION:Small hall
END:VEVENT
BEGIN:VEVENT
DTSTART;TZID=Europe/London:20220906T183000
DTEND;TZID=Europe/London:20220906T193000
DTSTAMP:20260424T184712
CREATED:20220804T183012Z
LAST-MODIFIED:20220804T183012Z
UID:2733-1662489000-1662492600@sibfordvillagehall.org.uk
SUMMARY:Karate
DESCRIPTION:
URL:https://sibfordvillagehall.org.uk/event/karate-14/
LOCATION:Main hall
END:VEVENT
BEGIN:VEVENT
DTSTART;TZID=Europe/London:20220906T140000
DTEND;TZID=Europe/London:20220906T160000
DTSTAMP:20260424T184712
CREATED:20220820T183013Z
LAST-MODIFIED:20220820T183013Z
UID:2793-1662472800-1662480000@sibfordvillagehall.org.uk
SUMMARY:Friendship Club
DESCRIPTION:
URL:https://sibfordvillagehall.org.uk/event/friendship-club-7/
LOCATION:Small hall
END:VEVENT
BEGIN:VEVENT
DTSTART;TZID=Europe/London:20220903T091500
DTEND;TZID=Europe/London:20220903T100000
DTSTAMP:20260424T184712
CREATED:20220821T183014Z
LAST-MODIFIED:20220821T183014Z
UID:2853-1662196500-1662199200@sibfordvillagehall.org.uk
SUMMARY:Karate
DESCRIPTION:
URL:https://sibfordvillagehall.org.uk/event/karate-15-2/
LOCATION:Main hall
END:VEVENT
BEGIN:VEVENT
DTSTART;TZID=Europe/London:20220831T120000
DTEND;TZID=Europe/London:20220831T143000
DTSTAMP:20260424T184712
CREATED:20220825T183022Z
LAST-MODIFIED:20220825T183022Z
UID:2882-1661947200-1661956200@sibfordvillagehall.org.uk
SUMMARY:Sibford Lunch Club
DESCRIPTION:
URL:https://sibfordvillagehall.org.uk/event/sibford-lunch-club-8-18/
LOCATION:Main hall
END:VEVENT
BEGIN:VEVENT
DTSTART;TZID=Europe/London:20220830T193000
DTEND;TZID=Europe/London:20220830T213000
DTSTAMP:20260424T184712
CREATED:20220713T183015Z
LAST-MODIFIED:20220713T183015Z
UID:2596-1661887800-1661895000@sibfordvillagehall.org.uk
SUMMARY:Sibford Photography Club
DESCRIPTION:
URL:https://sibfordvillagehall.org.uk/event/sibford-photography-club-14/
LOCATION:Main hall
END:VEVENT
BEGIN:VEVENT
DTSTART;TZID=Europe/London:20220827T143000
DTEND;TZID=Europe/London:20220827T160000
DTSTAMP:20260424T184712
CREATED:20220820T183013Z
LAST-MODIFIED:20220820T183013Z
UID:2791-1661610600-1661616000@sibfordvillagehall.org.uk
SUMMARY:The Horti
DESCRIPTION:Please come and join us for the Sibfords’ Horticultural and Produce Show at Sibford Village Hall. \nSubmit your entry form on Wednesday 24th\, 7pm-8pm at the Village Hall; bring your exhibits on the day\, 8.30am to 10.45am. Details of the classes and an entry form are attached below. \nEnjoy the show from 2.30 to 4pm with fantastic home made teas and cake and a chance to catch up with all your friends in the village! \nEnter your jams\, jellies\, cordials and wines! Show your fruits and vegetables or vases of garden flowers. Children’s classes include creating an animal made from fruits/veg and jam jars or vases of flowers – classes for all the family! \nhorti-show-schedule \nhorti-show-entry-form
URL:https://sibfordvillagehall.org.uk/event/horti-summer-show/
LOCATION:Main hall
END:VEVENT
BEGIN:VEVENT
DTSTART;TZID=Europe/London:20220826T180000
DTEND;TZID=Europe/London:20220826T190000
DTSTAMP:20260424T184712
CREATED:20211108T215650Z
LAST-MODIFIED:20211108T215650Z
UID:905-1661536800-1661540400@sibfordvillagehall.org.uk
SUMMARY:Horti set up
DESCRIPTION:
URL:https://sibfordvillagehall.org.uk/event/horti-set-up-2/
LOCATION:Main hall
END:VEVENT
BEGIN:VEVENT
DTSTART;TZID=Europe/London:20220824T190000
DTEND;TZID=Europe/London:20220824T200000
DTSTAMP:20260424T184712
CREATED:20220820T183012Z
LAST-MODIFIED:20220820T183012Z
UID:2789-1661367600-1661371200@sibfordvillagehall.org.uk
SUMMARY:Horti Entry night
DESCRIPTION:The show is on Saturday\, but you need to submit your entry form tonight. \nHere are copies of the schedule and entry form: \nhorti-show-schedule \nhorti-show-entry-form
URL:https://sibfordvillagehall.org.uk/event/horti-entry-night-6/
LOCATION:Small hall
END:VEVENT
BEGIN:VEVENT
DTSTART;TZID=Europe/London:20220824T120000
DTEND;TZID=Europe/London:20220824T143000
DTSTAMP:20260424T184712
CREATED:20220802T183011Z
LAST-MODIFIED:20220802T183011Z
UID:2703-1661342400-1661351400@sibfordvillagehall.org.uk
SUMMARY:Sibford Lunch Club
DESCRIPTION:
URL:https://sibfordvillagehall.org.uk/event/sibford-lunch-club-8-17/
LOCATION:Main hall
END:VEVENT
BEGIN:VEVENT
DTSTART;TZID=Europe/London:20220820T100000
DTEND;TZID=Europe/London:20220820T120000
DTSTAMP:20260424T184712
CREATED:20220817T183014Z
LAST-MODIFIED:20220817T183014Z
UID:2779-1660989600-1660996800@sibfordvillagehall.org.uk
SUMMARY:Book Swap cafe
DESCRIPTION:We have a large library of books to suit all tastes and ages. All free to borrow. Come and browse and have a coffee or tea and a chat.
URL:https://sibfordvillagehall.org.uk/event/book-swap-cafe-10/
LOCATION:Small hall
END:VEVENT
BEGIN:VEVENT
DTSTART;TZID=Europe/London:20220820T091500
DTEND;TZID=Europe/London:20220820T100000
DTSTAMP:20260424T184712
CREATED:20220820T183012Z
LAST-MODIFIED:20220820T183012Z
UID:2788-1660986900-1660989600@sibfordvillagehall.org.uk
SUMMARY:Karate
DESCRIPTION:
URL:https://sibfordvillagehall.org.uk/event/karate-15/
LOCATION:Main hall
END:VEVENT
BEGIN:VEVENT
DTSTART;TZID=Europe/London:20220820T091500
DTEND;TZID=Europe/London:20220820T100000
DTSTAMP:20260424T184712
CREATED:20220726T183014Z
LAST-MODIFIED:20220726T183014Z
UID:2648-1660986900-1660989600@sibfordvillagehall.org.uk
SUMMARY:Karate
DESCRIPTION:
URL:https://sibfordvillagehall.org.uk/event/karate-13-3/
LOCATION:Main hall
END:VEVENT
END:VCALENDAR