BEGIN:VCALENDAR
VERSION:2.0
PRODID:-//Sibford Village Hall - ECPv6.15.20//NONSGML v1.0//EN
CALSCALE:GREGORIAN
METHOD:PUBLISH
X-WR-CALNAME:Sibford Village Hall
X-ORIGINAL-URL:https://sibfordvillagehall.org.uk
X-WR-CALDESC:Events for Sibford Village Hall
REFRESH-INTERVAL;VALUE=DURATION:PT1H
X-Robots-Tag:noindex
X-PUBLISHED-TTL:PT1H
BEGIN:VTIMEZONE
TZID:Europe/London
BEGIN:DAYLIGHT
TZOFFSETFROM:+0000
TZOFFSETTO:+0100
TZNAME:BST
DTSTART:20210328T010000
END:DAYLIGHT
BEGIN:STANDARD
TZOFFSETFROM:+0100
TZOFFSETTO:+0000
TZNAME:GMT
DTSTART:20211031T010000
END:STANDARD
BEGIN:DAYLIGHT
TZOFFSETFROM:+0000
TZOFFSETTO:+0100
TZNAME:BST
DTSTART:20220327T010000
END:DAYLIGHT
BEGIN:STANDARD
TZOFFSETFROM:+0100
TZOFFSETTO:+0000
TZNAME:GMT
DTSTART:20221030T010000
END:STANDARD
BEGIN:DAYLIGHT
TZOFFSETFROM:+0000
TZOFFSETTO:+0100
TZNAME:BST
DTSTART:20230326T010000
END:DAYLIGHT
BEGIN:STANDARD
TZOFFSETFROM:+0100
TZOFFSETTO:+0000
TZNAME:GMT
DTSTART:20231029T010000
END:STANDARD
END:VTIMEZONE
BEGIN:VEVENT
DTSTART;TZID=Europe/London:20221007T160000
DTEND;TZID=Europe/London:20221007T173000
DTSTAMP:20260424T142749
CREATED:20220831T183015Z
LAST-MODIFIED:20220831T183015Z
UID:2927-1665158400-1665163800@sibfordvillagehall.org.uk
SUMMARY:Beavers
DESCRIPTION:
URL:https://sibfordvillagehall.org.uk/event/beavers-21/
LOCATION:Main hall
END:VEVENT
BEGIN:VEVENT
DTSTART;TZID=Europe/London:20221007T133000
DTEND;TZID=Europe/London:20221007T153000
DTSTAMP:20260424T142749
CREATED:20220726T183016Z
LAST-MODIFIED:20220726T183016Z
UID:2656-1665149400-1665156600@sibfordvillagehall.org.uk
SUMMARY:Watercolour Painting Class
DESCRIPTION:
URL:https://sibfordvillagehall.org.uk/event/watercolour-painting-class-2-4/
LOCATION:Main hall
END:VEVENT
BEGIN:VEVENT
DTSTART;TZID=Europe/London:20221007T093000
DTEND;TZID=Europe/London:20221007T123000
DTSTAMP:20260424T142749
CREATED:20220726T183016Z
LAST-MODIFIED:20220726T183016Z
UID:2655-1665135000-1665145800@sibfordvillagehall.org.uk
SUMMARY:Oil Painting Class
DESCRIPTION:
URL:https://sibfordvillagehall.org.uk/event/oil-painting-class-20-3/
LOCATION:Main hall
END:VEVENT
BEGIN:VEVENT
DTSTART;TZID=Europe/London:20221007T093000
DTEND;TZID=Europe/London:20221007T113000
DTSTAMP:20260424T142749
CREATED:20220915T183024Z
LAST-MODIFIED:20220915T183024Z
UID:2997-1665135000-1665142200@sibfordvillagehall.org.uk
SUMMARY:Sibford Tots and Babes Group
DESCRIPTION:
URL:https://sibfordvillagehall.org.uk/event/sibford-tots-and-babes-group-4-4/
LOCATION:Small hall
END:VEVENT
BEGIN:VEVENT
DTSTART;TZID=Europe/London:20221006T173000
DTEND;TZID=Europe/London:20221006T183000
DTSTAMP:20260424T142749
CREATED:20220821T183016Z
LAST-MODIFIED:20220821T183016Z
UID:2861-1665077400-1665081000@sibfordvillagehall.org.uk
SUMMARY:Sibford Young Performers
DESCRIPTION:
URL:https://sibfordvillagehall.org.uk/event/sibford-young-performers-6-4/
LOCATION:Main hall
END:VEVENT
BEGIN:VEVENT
DTSTART;TZID=Europe/London:20221006T113000
DTEND;TZID=Europe/London:20221006T143000
DTSTAMP:20260424T142749
CREATED:20220825T183028Z
LAST-MODIFIED:20220825T183028Z
UID:2894-1665055800-1665066600@sibfordvillagehall.org.uk
SUMMARY:Sibford Surgery
DESCRIPTION:
URL:https://sibfordvillagehall.org.uk/event/sibford-surgery-5/
LOCATION:Main hall
END:VEVENT
BEGIN:VEVENT
DTSTART;TZID=Europe/London:20221006T101500
DTEND;TZID=Europe/London:20221006T111500
DTSTAMP:20260424T142749
CREATED:20220820T183017Z
LAST-MODIFIED:20220820T183017Z
UID:2815-1665051300-1665054900@sibfordvillagehall.org.uk
SUMMARY:Chair Yoga
DESCRIPTION:
URL:https://sibfordvillagehall.org.uk/event/chair-yoga-35-5/
LOCATION:Main hall
END:VEVENT
BEGIN:VEVENT
DTSTART;TZID=Europe/London:20221006T090000
DTEND;TZID=Europe/London:20221006T100000
DTSTAMP:20260424T142749
CREATED:20220820T183017Z
LAST-MODIFIED:20220820T183017Z
UID:2814-1665046800-1665050400@sibfordvillagehall.org.uk
SUMMARY:Flow Yoga
DESCRIPTION:
URL:https://sibfordvillagehall.org.uk/event/flow-yoga-4-5/
LOCATION:Main hall
END:VEVENT
BEGIN:VEVENT
DTSTART;TZID=Europe/London:20221005T120000
DTEND;TZID=Europe/London:20221005T143000
DTSTAMP:20260424T142749
CREATED:20220825T183027Z
LAST-MODIFIED:20220825T183027Z
UID:2893-1664971200-1664980200@sibfordvillagehall.org.uk
SUMMARY:Sibford Lunch Club
DESCRIPTION:
URL:https://sibfordvillagehall.org.uk/event/sibford-lunch-club-8-22/
LOCATION:Main hall
END:VEVENT
BEGIN:VEVENT
DTSTART;TZID=Europe/London:20221004T140000
DTEND;TZID=Europe/London:20221004T160000
DTSTAMP:20260424T142749
CREATED:20220507T183007Z
LAST-MODIFIED:20220507T183007Z
UID:2177-1664892000-1664899200@sibfordvillagehall.org.uk
SUMMARY:Friendship Club
DESCRIPTION:
URL:https://sibfordvillagehall.org.uk/event/friendship-club-8/
LOCATION:Small hall
END:VEVENT
BEGIN:VEVENT
DTSTART;TZID=Europe/London:20221004T111500
DTEND;TZID=Europe/London:20221004T143000
DTSTAMP:20260424T142749
CREATED:20220915T183023Z
LAST-MODIFIED:20220915T183023Z
UID:2995-1664882100-1664893800@sibfordvillagehall.org.uk
SUMMARY:Sibford Surgery
DESCRIPTION:
URL:https://sibfordvillagehall.org.uk/event/sibford-surgery-4/
LOCATION:Main hall
END:VEVENT
BEGIN:VEVENT
DTSTART;TZID=Europe/London:20221004T090000
DTEND;TZID=Europe/London:20221004T100000
DTSTAMP:20260424T142749
CREATED:20220820T183017Z
LAST-MODIFIED:20220820T183017Z
UID:2813-1664874000-1664877600@sibfordvillagehall.org.uk
SUMMARY:Slow and Gentle Yoga
DESCRIPTION:
URL:https://sibfordvillagehall.org.uk/event/slow-and-gentle-yoga-5-4/
LOCATION:Main hall
END:VEVENT
BEGIN:VEVENT
DTSTART;TZID=Europe/London:20221003T183000
DTEND;TZID=Europe/London:20221003T193000
DTSTAMP:20260424T142749
CREATED:20220929T183024Z
LAST-MODIFIED:20220929T183024Z
UID:3131-1664821800-1664825400@sibfordvillagehall.org.uk
SUMMARY:Karate
DESCRIPTION:
URL:https://sibfordvillagehall.org.uk/event/karate-16/
LOCATION:Main hall
END:VEVENT
BEGIN:VEVENT
DTSTART;TZID=Europe/London:20221001T110000
DTEND;TZID=Europe/London:20221001T150000
DTSTAMP:20260424T142749
CREATED:20220915T183023Z
LAST-MODIFIED:20220915T183023Z
UID:2994-1664622000-1664636400@sibfordvillagehall.org.uk
SUMMARY:Private hire
DESCRIPTION:
URL:https://sibfordvillagehall.org.uk/event/private-hire-tbc-7/
LOCATION:Main hall
END:VEVENT
BEGIN:VEVENT
DTSTART;TZID=Europe/London:20221001T090000
DTEND;TZID=Europe/London:20221001T100000
DTSTAMP:20260424T142749
CREATED:20220930T183020Z
LAST-MODIFIED:20220930T183020Z
UID:3145-1664614800-1664618400@sibfordvillagehall.org.uk
SUMMARY:Karate
DESCRIPTION:
URL:https://sibfordvillagehall.org.uk/event/karate-15-6/
LOCATION:Main hall
END:VEVENT
BEGIN:VEVENT
DTSTART;TZID=Europe/London:20220930T173000
DTEND;TZID=Europe/London:20220930T190000
DTSTAMP:20260424T142749
CREATED:20220901T183013Z
LAST-MODIFIED:20220901T183013Z
UID:2934-1664559000-1664564400@sibfordvillagehall.org.uk
SUMMARY:Cubs
DESCRIPTION:
URL:https://sibfordvillagehall.org.uk/event/cubs-23-3/
LOCATION:Main hall
END:VEVENT
BEGIN:VEVENT
DTSTART;TZID=Europe/London:20220930T160000
DTEND;TZID=Europe/London:20220930T173000
DTSTAMP:20260424T142749
CREATED:20220831T183015Z
LAST-MODIFIED:20220831T183015Z
UID:2926-1664553600-1664559000@sibfordvillagehall.org.uk
SUMMARY:Beavers
DESCRIPTION:
URL:https://sibfordvillagehall.org.uk/event/beavers-20/
LOCATION:Main hall
END:VEVENT
BEGIN:VEVENT
DTSTART;TZID=Europe/London:20220930T133000
DTEND;TZID=Europe/London:20220930T153000
DTSTAMP:20260424T142749
CREATED:20220726T183015Z
LAST-MODIFIED:20220726T183015Z
UID:2653-1664544600-1664551800@sibfordvillagehall.org.uk
SUMMARY:Watercolour Painting Class
DESCRIPTION:
URL:https://sibfordvillagehall.org.uk/event/watercolour-painting-class-2-3/
LOCATION:Main hall
END:VEVENT
BEGIN:VEVENT
DTSTART;TZID=Europe/London:20220930T093000
DTEND;TZID=Europe/London:20220930T123000
DTSTAMP:20260424T142749
CREATED:20220726T183015Z
LAST-MODIFIED:20220726T183015Z
UID:2652-1664530200-1664541000@sibfordvillagehall.org.uk
SUMMARY:Oil Painting Class
DESCRIPTION:
URL:https://sibfordvillagehall.org.uk/event/oil-painting-class-20-2/
LOCATION:Main hall
END:VEVENT
BEGIN:VEVENT
DTSTART;TZID=Europe/London:20220930T093000
DTEND;TZID=Europe/London:20220930T113000
DTSTAMP:20260424T142749
CREATED:20220915T183023Z
LAST-MODIFIED:20220915T183023Z
UID:2993-1664530200-1664537400@sibfordvillagehall.org.uk
SUMMARY:Sibford Tots and Babes Group
DESCRIPTION:
URL:https://sibfordvillagehall.org.uk/event/sibford-tots-and-babes-group-4-3/
LOCATION:Small hall
END:VEVENT
BEGIN:VEVENT
DTSTART;TZID=Europe/London:20220929T173000
DTEND;TZID=Europe/London:20220929T183000
DTSTAMP:20260424T142749
CREATED:20220821T183016Z
LAST-MODIFIED:20220821T183016Z
UID:2859-1664472600-1664476200@sibfordvillagehall.org.uk
SUMMARY:Sibford Young Performers
DESCRIPTION:
URL:https://sibfordvillagehall.org.uk/event/sibford-young-performers-6-3/
LOCATION:Main hall
END:VEVENT
BEGIN:VEVENT
DTSTART;TZID=Europe/London:20220929T113000
DTEND;TZID=Europe/London:20220929T143000
DTSTAMP:20260424T142749
CREATED:20220825T183025Z
LAST-MODIFIED:20220825T183025Z
UID:2890-1664451000-1664461800@sibfordvillagehall.org.uk
SUMMARY:Sibford Surgery
DESCRIPTION:
URL:https://sibfordvillagehall.org.uk/event/sibford-surgery-3/
LOCATION:Main hall
END:VEVENT
BEGIN:VEVENT
DTSTART;TZID=Europe/London:20220929T101500
DTEND;TZID=Europe/London:20220929T111500
DTSTAMP:20260424T142749
CREATED:20220820T183016Z
LAST-MODIFIED:20220820T183016Z
UID:2810-1664446500-1664450100@sibfordvillagehall.org.uk
SUMMARY:Chair Yoga
DESCRIPTION:
URL:https://sibfordvillagehall.org.uk/event/chair-yoga-35-4/
LOCATION:Main hall
END:VEVENT
BEGIN:VEVENT
DTSTART;TZID=Europe/London:20220929T090000
DTEND;TZID=Europe/London:20220929T100000
DTSTAMP:20260424T142749
CREATED:20220820T183016Z
LAST-MODIFIED:20220820T183016Z
UID:2809-1664442000-1664445600@sibfordvillagehall.org.uk
SUMMARY:Flow Yoga
DESCRIPTION:
URL:https://sibfordvillagehall.org.uk/event/flow-yoga-4-4/
LOCATION:Main hall
END:VEVENT
BEGIN:VEVENT
DTSTART;TZID=Europe/London:20220928T120000
DTEND;TZID=Europe/London:20220928T143000
DTSTAMP:20260424T142749
CREATED:20220825T183025Z
LAST-MODIFIED:20220825T183025Z
UID:2889-1664366400-1664375400@sibfordvillagehall.org.uk
SUMMARY:Sibford Lunch Club
DESCRIPTION:
URL:https://sibfordvillagehall.org.uk/event/sibford-lunch-club-9/
LOCATION:Small hall
END:VEVENT
BEGIN:VEVENT
DTSTART;TZID=Europe/London:20220928T113000
DTEND;TZID=Europe/London:20220928T143000
DTSTAMP:20260424T142749
CREATED:20220825T183025Z
LAST-MODIFIED:20220825T183025Z
UID:2888-1664364600-1664375400@sibfordvillagehall.org.uk
SUMMARY:Sibford Surgery
DESCRIPTION:
URL:https://sibfordvillagehall.org.uk/event/sibford-surgery-2/
LOCATION:Main hall
END:VEVENT
BEGIN:VEVENT
DTSTART;TZID=Europe/London:20220927T193000
DTEND;TZID=Europe/London:20220927T213000
DTSTAMP:20260424T142749
CREATED:20220713T183015Z
LAST-MODIFIED:20220713T183015Z
UID:2597-1664307000-1664314200@sibfordvillagehall.org.uk
SUMMARY:Sibford Photography Club
DESCRIPTION:
URL:https://sibfordvillagehall.org.uk/event/sibford-photography-club-15/
LOCATION:Main hall
END:VEVENT
BEGIN:VEVENT
DTSTART;TZID=Europe/London:20220927T183000
DTEND;TZID=Europe/London:20220927T193000
DTSTAMP:20260424T142749
CREATED:20220915T183023Z
LAST-MODIFIED:20220915T183023Z
UID:2992-1664303400-1664307000@sibfordvillagehall.org.uk
SUMMARY:Karate
DESCRIPTION:
URL:https://sibfordvillagehall.org.uk/event/karate-14-4/
LOCATION:Main hall
END:VEVENT
BEGIN:VEVENT
DTSTART;TZID=Europe/London:20220927T130000
DTEND;TZID=Europe/London:20220927T183000
DTSTAMP:20260424T142749
CREATED:20220914T183015Z
LAST-MODIFIED:20220914T183015Z
UID:2975-1664283600-1664303400@sibfordvillagehall.org.uk
SUMMARY:Private hire
DESCRIPTION:
URL:https://sibfordvillagehall.org.uk/event/private-hire-80/
LOCATION:Main hall
END:VEVENT
BEGIN:VEVENT
DTSTART;TZID=Europe/London:20220927T090000
DTEND;TZID=Europe/London:20220927T100000
DTSTAMP:20260424T142749
CREATED:20220820T183016Z
LAST-MODIFIED:20220820T183016Z
UID:2808-1664269200-1664272800@sibfordvillagehall.org.uk
SUMMARY:Slow and Gentle Yoga
DESCRIPTION:
URL:https://sibfordvillagehall.org.uk/event/slow-and-gentle-yoga-5-3/
LOCATION:Main hall
END:VEVENT
END:VCALENDAR