BEGIN:VCALENDAR
VERSION:2.0
PRODID:-//Sibford Village Hall - ECPv6.15.20//NONSGML v1.0//EN
CALSCALE:GREGORIAN
METHOD:PUBLISH
X-WR-CALNAME:Sibford Village Hall
X-ORIGINAL-URL:https://sibfordvillagehall.org.uk
X-WR-CALDESC:Events for Sibford Village Hall
REFRESH-INTERVAL;VALUE=DURATION:PT1H
X-Robots-Tag:noindex
X-PUBLISHED-TTL:PT1H
BEGIN:VTIMEZONE
TZID:Europe/London
BEGIN:DAYLIGHT
TZOFFSETFROM:+0000
TZOFFSETTO:+0100
TZNAME:BST
DTSTART:20220327T010000
END:DAYLIGHT
BEGIN:STANDARD
TZOFFSETFROM:+0100
TZOFFSETTO:+0000
TZNAME:GMT
DTSTART:20221030T010000
END:STANDARD
BEGIN:DAYLIGHT
TZOFFSETFROM:+0000
TZOFFSETTO:+0100
TZNAME:BST
DTSTART:20230326T010000
END:DAYLIGHT
BEGIN:STANDARD
TZOFFSETFROM:+0100
TZOFFSETTO:+0000
TZNAME:GMT
DTSTART:20231029T010000
END:STANDARD
BEGIN:DAYLIGHT
TZOFFSETFROM:+0000
TZOFFSETTO:+0100
TZNAME:BST
DTSTART:20240331T010000
END:DAYLIGHT
BEGIN:STANDARD
TZOFFSETFROM:+0100
TZOFFSETTO:+0000
TZNAME:GMT
DTSTART:20241027T010000
END:STANDARD
END:VTIMEZONE
BEGIN:VEVENT
DTSTART;TZID=Europe/London:20230831T193000
DTEND;TZID=Europe/London:20230831T213000
DTSTAMP:20260421T133425
CREATED:20230815T183008Z
LAST-MODIFIED:20230815T183008Z
UID:5703-1693510200-1693517400@sibfordvillagehall.org.uk
SUMMARY:Film Night
DESCRIPTION:Following the economic collapse of a company town in rural Nevada\, Fern (Frances McDormand) packs her van and sets off on the road exploring a life outside of conventional society as a modern-day nomad. The third feature film from director Chloé Zhao\, Nomadland features real nomads Linda May\, Swankie and Bob Wells as Fern’s mentors and comrades in her exploration through the vast landscape of the American West. \nDoors open at 7. Film starts at 7.30. Refreshments available. Admission £3.
URL:https://sibfordvillagehall.org.uk/event/film-night-16/
LOCATION:Main hall
END:VEVENT
BEGIN:VEVENT
DTSTART;TZID=Europe/London:20230901T093000
DTEND;TZID=Europe/London:20230901T123000
DTSTAMP:20260421T133425
CREATED:20230803T183006Z
LAST-MODIFIED:20230803T183006Z
UID:5670-1693560600-1693571400@sibfordvillagehall.org.uk
SUMMARY:Art Class - Oil painting
DESCRIPTION:
URL:https://sibfordvillagehall.org.uk/event/art-class-oil-painti-3-2/
LOCATION:Main hall
END:VEVENT
BEGIN:VEVENT
DTSTART;TZID=Europe/London:20230903T100000
DTEND;TZID=Europe/London:20230903T130000
DTSTAMP:20260421T133425
CREATED:20230705T183008Z
LAST-MODIFIED:20230705T183008Z
UID:5550-1693735200-1693746000@sibfordvillagehall.org.uk
SUMMARY:Private event
DESCRIPTION:
URL:https://sibfordvillagehall.org.uk/event/private-event-6/
LOCATION:Main hall
END:VEVENT
BEGIN:VEVENT
DTSTART;TZID=Europe/London:20230904T100000
DTEND;TZID=Europe/London:20230904T130000
DTSTAMP:20260421T133425
CREATED:20230808T183007Z
LAST-MODIFIED:20230808T183007Z
UID:5698-1693821600-1693832400@sibfordvillagehall.org.uk
SUMMARY:Private event
DESCRIPTION:
URL:https://sibfordvillagehall.org.uk/event/private-event-15/
LOCATION:Main hall
END:VEVENT
BEGIN:VEVENT
DTSTART;TZID=Europe/London:20230904T183000
DTEND;TZID=Europe/London:20230904T193000
DTSTAMP:20260421T133425
CREATED:20230822T183010Z
LAST-MODIFIED:20230822T183010Z
UID:5833-1693852200-1693855800@sibfordvillagehall.org.uk
SUMMARY:Karate Class
DESCRIPTION:
URL:https://sibfordvillagehall.org.uk/event/karate-class-2-2/
LOCATION:Main hall
END:VEVENT
BEGIN:VEVENT
DTSTART;TZID=Europe/London:20230905T140000
DTEND;TZID=Europe/London:20230905T160000
DTSTAMP:20260421T133425
CREATED:20230408T183009Z
LAST-MODIFIED:20230408T183009Z
UID:5146-1693922400-1693929600@sibfordvillagehall.org.uk
SUMMARY:Friendship Club
DESCRIPTION:
URL:https://sibfordvillagehall.org.uk/event/friendship-club-10-8/
LOCATION:Main hall
END:VEVENT
BEGIN:VEVENT
DTSTART;TZID=Europe/London:20230906T120000
DTEND;TZID=Europe/London:20230906T143000
DTSTAMP:20260421T133425
CREATED:20230723T183008Z
LAST-MODIFIED:20230723T183008Z
UID:5609-1694001600-1694010600@sibfordvillagehall.org.uk
SUMMARY:Sibford Lunch Club
DESCRIPTION:
URL:https://sibfordvillagehall.org.uk/event/sibford-lunch-club-10-35/
LOCATION:Main hall
END:VEVENT
BEGIN:VEVENT
DTSTART;TZID=Europe/London:20230906T173000
DTEND;TZID=Europe/London:20230906T183000
DTSTAMP:20260421T133425
CREATED:20230822T183010Z
LAST-MODIFIED:20230822T183010Z
UID:5834-1694021400-1694025000@sibfordvillagehall.org.uk
SUMMARY:Youth drama & dance group
DESCRIPTION:
URL:https://sibfordvillagehall.org.uk/event/youth-drama-dance-g/
LOCATION:Main hall
END:VEVENT
BEGIN:VEVENT
DTSTART;TZID=Europe/London:20230907T090000
DTEND;TZID=Europe/London:20230907T100000
DTSTAMP:20260421T133425
CREATED:20230804T183005Z
LAST-MODIFIED:20230804T183005Z
UID:5681-1694077200-1694080800@sibfordvillagehall.org.uk
SUMMARY:Flow Yoga
DESCRIPTION:
URL:https://sibfordvillagehall.org.uk/event/flow-yoga-8/
LOCATION:Main hall
END:VEVENT
BEGIN:VEVENT
DTSTART;TZID=Europe/London:20230907T100000
DTEND;TZID=Europe/London:20230907T110000
DTSTAMP:20260421T133425
CREATED:20230804T183005Z
LAST-MODIFIED:20230804T183005Z
UID:5682-1694080800-1694084400@sibfordvillagehall.org.uk
SUMMARY:Chair Yoga
DESCRIPTION:
URL:https://sibfordvillagehall.org.uk/event/chair-yoga-39/
LOCATION:Main hall
END:VEVENT
BEGIN:VEVENT
DTSTART;TZID=Europe/London:20230908T093000
DTEND;TZID=Europe/London:20230908T123000
DTSTAMP:20260421T133425
CREATED:20230904T183011Z
LAST-MODIFIED:20230904T183011Z
UID:5893-1694165400-1694176200@sibfordvillagehall.org.uk
SUMMARY:Art Class - Oil painting
DESCRIPTION:
URL:https://sibfordvillagehall.org.uk/event/art-class-oil-painti-3-3/
LOCATION:Main hall
END:VEVENT
BEGIN:VEVENT
DTSTART;TZID=Europe/London:20230909T090000
DTEND;TZID=Europe/London:20230909T100000
DTSTAMP:20260421T133425
CREATED:20230822T183010Z
LAST-MODIFIED:20230822T183010Z
UID:5835-1694250000-1694253600@sibfordvillagehall.org.uk
SUMMARY:Karate Class
DESCRIPTION:
URL:https://sibfordvillagehall.org.uk/event/karate-class-3/
LOCATION:Main hall
END:VEVENT
BEGIN:VEVENT
DTSTART;TZID=Europe/London:20230911T183000
DTEND;TZID=Europe/London:20230911T193000
DTSTAMP:20260421T133425
CREATED:20230822T183010Z
LAST-MODIFIED:20230822T183010Z
UID:5836-1694457000-1694460600@sibfordvillagehall.org.uk
SUMMARY:Karate Class
DESCRIPTION:
URL:https://sibfordvillagehall.org.uk/event/karate-class-2-3/
LOCATION:Main hall
END:VEVENT
BEGIN:VEVENT
DTSTART;TZID=Europe/London:20230912T120000
DTEND;TZID=Europe/London:20230912T160000
DTSTAMP:20260421T133425
CREATED:20230622T183007Z
LAST-MODIFIED:20230622T183007Z
UID:5538-1694520000-1694534400@sibfordvillagehall.org.uk
SUMMARY:Private event
DESCRIPTION:
URL:https://sibfordvillagehall.org.uk/event/private-event-7-3/
LOCATION:Main hall
END:VEVENT
BEGIN:VEVENT
DTSTART;TZID=Europe/London:20230913T120000
DTEND;TZID=Europe/London:20230913T143000
DTSTAMP:20260421T133425
CREATED:20230723T183009Z
LAST-MODIFIED:20230723T183009Z
UID:5610-1694606400-1694615400@sibfordvillagehall.org.uk
SUMMARY:Sibford Lunch Club
DESCRIPTION:
URL:https://sibfordvillagehall.org.uk/event/sibford-lunch-club-10-36/
LOCATION:Main hall
END:VEVENT
BEGIN:VEVENT
DTSTART;TZID=Europe/London:20230913T173000
DTEND;TZID=Europe/London:20230913T183000
DTSTAMP:20260421T133425
CREATED:20230822T183011Z
LAST-MODIFIED:20230822T183011Z
UID:5837-1694626200-1694629800@sibfordvillagehall.org.uk
SUMMARY:Youth drama & dance group
DESCRIPTION:
URL:https://sibfordvillagehall.org.uk/event/youth-drama-dance-g-2/
LOCATION:Main hall
END:VEVENT
BEGIN:VEVENT
DTSTART;TZID=Europe/London:20230914T090000
DTEND;TZID=Europe/London:20230914T100000
DTSTAMP:20260421T133425
CREATED:20230804T183005Z
LAST-MODIFIED:20230804T183005Z
UID:5683-1694682000-1694685600@sibfordvillagehall.org.uk
SUMMARY:Flow Yoga
DESCRIPTION:
URL:https://sibfordvillagehall.org.uk/event/flow-yoga-8-2/
LOCATION:Main hall
END:VEVENT
BEGIN:VEVENT
DTSTART;TZID=Europe/London:20230914T100000
DTEND;TZID=Europe/London:20230914T110000
DTSTAMP:20260421T133425
CREATED:20230804T183005Z
LAST-MODIFIED:20230804T183005Z
UID:5684-1694685600-1694689200@sibfordvillagehall.org.uk
SUMMARY:Chair Yoga
DESCRIPTION:
URL:https://sibfordvillagehall.org.uk/event/chair-yoga-39-2/
LOCATION:Main hall
END:VEVENT
BEGIN:VEVENT
DTSTART;TZID=Europe/London:20230915T100000
DTEND;TZID=Europe/London:20230915T150000
DTSTAMP:20260421T133425
CREATED:20230803T183006Z
LAST-MODIFIED:20230803T183006Z
UID:5674-1694772000-1694790000@sibfordvillagehall.org.uk
SUMMARY:Art Class - Oil painting
DESCRIPTION:
URL:https://sibfordvillagehall.org.uk/event/art-class-oil-painting-2-3/
LOCATION:Main hall
END:VEVENT
BEGIN:VEVENT
DTSTART;TZID=Europe/London:20230915T173000
DTEND;TZID=Europe/London:20230915T190000
DTSTAMP:20260421T133425
CREATED:20230913T183008Z
LAST-MODIFIED:20230913T183008Z
UID:5908-1694799000-1694804400@sibfordvillagehall.org.uk
SUMMARY:Beavers\, Cubs and Scouts
DESCRIPTION:
URL:https://sibfordvillagehall.org.uk/event/private-event-14/
LOCATION:Main hall
END:VEVENT
BEGIN:VEVENT
DTSTART;TZID=Europe/London:20230916T090000
DTEND;TZID=Europe/London:20230916T100000
DTSTAMP:20260421T133425
CREATED:20230822T183011Z
LAST-MODIFIED:20230822T183011Z
UID:5839-1694854800-1694858400@sibfordvillagehall.org.uk
SUMMARY:Karate Class
DESCRIPTION:
URL:https://sibfordvillagehall.org.uk/event/karate-class-4/
LOCATION:Main hall
END:VEVENT
BEGIN:VEVENT
DTSTART;TZID=Europe/London:20230916T100000
DTEND;TZID=Europe/London:20230916T120000
DTSTAMP:20260421T133425
CREATED:20230905T183007Z
LAST-MODIFIED:20230905T183007Z
UID:5899-1694858400-1694865600@sibfordvillagehall.org.uk
SUMMARY:Book Swap and Café
DESCRIPTION:Welcome to our monthly chance to have coffee/cake and a chat. Browse our large selection of books and borrow any you like . \nNo need to bring a book to swap. \nNo charge. Donations welcome.
URL:https://sibfordvillagehall.org.uk/event/book-swap-and-cafe-4/
LOCATION:Small hall
END:VEVENT
BEGIN:VEVENT
DTSTART;TZID=Europe/London:20230918T093000
DTEND;TZID=Europe/London:20230918T113000
DTSTAMP:20260421T133425
CREATED:20230915T183011Z
LAST-MODIFIED:20230915T183011Z
UID:5950-1695029400-1695036600@sibfordvillagehall.org.uk
SUMMARY:Private event
DESCRIPTION:
URL:https://sibfordvillagehall.org.uk/event/private-event-21/
LOCATION:Main hall
END:VEVENT
BEGIN:VEVENT
DTSTART;TZID=Europe/London:20230918T183000
DTEND;TZID=Europe/London:20230918T193000
DTSTAMP:20260421T133425
CREATED:20230822T183011Z
LAST-MODIFIED:20230822T183011Z
UID:5840-1695061800-1695065400@sibfordvillagehall.org.uk
SUMMARY:Karate Class
DESCRIPTION:
URL:https://sibfordvillagehall.org.uk/event/karate-class-2-4/
LOCATION:Main hall
END:VEVENT
BEGIN:VEVENT
DTSTART;TZID=Europe/London:20230918T193000
DTEND;TZID=Europe/London:20230918T213000
DTSTAMP:20260421T133425
CREATED:20230913T183008Z
LAST-MODIFIED:20230913T183008Z
UID:5909-1695065400-1695072600@sibfordvillagehall.org.uk
SUMMARY:Sibford Players
DESCRIPTION:
URL:https://sibfordvillagehall.org.uk/event/sibford-players-37/
LOCATION:Main hall
END:VEVENT
BEGIN:VEVENT
DTSTART;TZID=Europe/London:20230920T090000
DTEND;TZID=Europe/London:20230920T110000
DTSTAMP:20260421T133425
CREATED:20230807T183005Z
LAST-MODIFIED:20230807T183005Z
UID:5692-1695200400-1695207600@sibfordvillagehall.org.uk
SUMMARY:Toddler music and dancing
DESCRIPTION:
URL:https://sibfordvillagehall.org.uk/event/toddler-music-and-dan-2/
LOCATION:Main hall
END:VEVENT
BEGIN:VEVENT
DTSTART;TZID=Europe/London:20230920T120000
DTEND;TZID=Europe/London:20230920T143000
DTSTAMP:20260421T133425
CREATED:20230723T183009Z
LAST-MODIFIED:20230723T183009Z
UID:5611-1695211200-1695220200@sibfordvillagehall.org.uk
SUMMARY:Sibford Lunch Club
DESCRIPTION:
URL:https://sibfordvillagehall.org.uk/event/sibford-lunch-club-10-37/
LOCATION:Main hall
END:VEVENT
BEGIN:VEVENT
DTSTART;TZID=Europe/London:20230920T173000
DTEND;TZID=Europe/London:20230920T193000
DTSTAMP:20260421T133425
CREATED:20230719T183007Z
LAST-MODIFIED:20230719T183007Z
UID:5588-1695231000-1695238200@sibfordvillagehall.org.uk
SUMMARY:Village Hall Trustees meeting
DESCRIPTION:
URL:https://sibfordvillagehall.org.uk/event/village-hall-trustees-2/
LOCATION:Main hall
END:VEVENT
BEGIN:VEVENT
DTSTART;TZID=Europe/London:20230920T190000
DTEND;TZID=Europe/London:20230920T203000
DTSTAMP:20260421T133425
CREATED:20230916T183009Z
LAST-MODIFIED:20230916T183009Z
UID:5952-1695236400-1695241800@sibfordvillagehall.org.uk
SUMMARY:Sibford Gower Parish Council Meeting
DESCRIPTION:PC Agenda 20.09.23    \nSpend to budget as at meeting 20.09.23
URL:https://sibfordvillagehall.org.uk/event/sibford-gower-parish-council-meeting-21/
LOCATION:Small hall
END:VEVENT
BEGIN:VEVENT
DTSTART;TZID=Europe/London:20230921T090000
DTEND;TZID=Europe/London:20230921T110000
DTSTAMP:20260421T133425
CREATED:20230822T183011Z
LAST-MODIFIED:20230822T183011Z
UID:5841-1695286800-1695294000@sibfordvillagehall.org.uk
SUMMARY:Yoga sessions
DESCRIPTION:
URL:https://sibfordvillagehall.org.uk/event/private-event-17/
LOCATION:Main hall
END:VEVENT
END:VCALENDAR