BEGIN:VCALENDAR
VERSION:2.0
PRODID:-//Sibford Village Hall - ECPv6.15.20//NONSGML v1.0//EN
CALSCALE:GREGORIAN
METHOD:PUBLISH
X-WR-CALNAME:Sibford Village Hall
X-ORIGINAL-URL:https://sibfordvillagehall.org.uk
X-WR-CALDESC:Events for Sibford Village Hall
REFRESH-INTERVAL;VALUE=DURATION:PT1H
X-Robots-Tag:noindex
X-PUBLISHED-TTL:PT1H
BEGIN:VTIMEZONE
TZID:Europe/London
BEGIN:DAYLIGHT
TZOFFSETFROM:+0000
TZOFFSETTO:+0100
TZNAME:BST
DTSTART:20220327T010000
END:DAYLIGHT
BEGIN:STANDARD
TZOFFSETFROM:+0100
TZOFFSETTO:+0000
TZNAME:GMT
DTSTART:20221030T010000
END:STANDARD
BEGIN:DAYLIGHT
TZOFFSETFROM:+0000
TZOFFSETTO:+0100
TZNAME:BST
DTSTART:20230326T010000
END:DAYLIGHT
BEGIN:STANDARD
TZOFFSETFROM:+0100
TZOFFSETTO:+0000
TZNAME:GMT
DTSTART:20231029T010000
END:STANDARD
BEGIN:DAYLIGHT
TZOFFSETFROM:+0000
TZOFFSETTO:+0100
TZNAME:BST
DTSTART:20240331T010000
END:DAYLIGHT
BEGIN:STANDARD
TZOFFSETFROM:+0100
TZOFFSETTO:+0000
TZNAME:GMT
DTSTART:20241027T010000
END:STANDARD
END:VTIMEZONE
BEGIN:VEVENT
DTSTART;TZID=Europe/London:20230829T120000
DTEND;TZID=Europe/London:20230829T160000
DTSTAMP:20260421T180655
CREATED:20230622T183007Z
LAST-MODIFIED:20230622T183007Z
UID:5537-1693310400-1693324800@sibfordvillagehall.org.uk
SUMMARY:Private event
DESCRIPTION:
URL:https://sibfordvillagehall.org.uk/event/private-event-7-2/
LOCATION:Main hall
END:VEVENT
BEGIN:VEVENT
DTSTART;TZID=Europe/London:20230827T140000
DTEND;TZID=Europe/London:20230827T163000
DTSTAMP:20260421T180655
CREATED:20230628T183007Z
LAST-MODIFIED:20230628T183007Z
UID:5543-1693144800-1693153800@sibfordvillagehall.org.uk
SUMMARY:Private event
DESCRIPTION:
URL:https://sibfordvillagehall.org.uk/event/private-event-4/
LOCATION:Main hall
END:VEVENT
BEGIN:VEVENT
DTSTART;TZID=Europe/London:20230826T143000
DTEND;TZID=Europe/London:20230826T160000
DTSTAMP:20260421T180655
CREATED:20230821T183006Z
LAST-MODIFIED:20230821T183006Z
UID:5832-1693060200-1693065600@sibfordvillagehall.org.uk
SUMMARY:Horti Summer Show
DESCRIPTION:
URL:https://sibfordvillagehall.org.uk/event/horti-summer-show-2/
LOCATION:Main hall
END:VEVENT
BEGIN:VEVENT
DTSTART;TZID=Europe/London:20230825T180000
DTEND;TZID=Europe/London:20230825T190000
DTSTAMP:20260421T180655
CREATED:20230222T183018Z
LAST-MODIFIED:20230222T183018Z
UID:4591-1692986400-1692990000@sibfordvillagehall.org.uk
SUMMARY:Horti Summer Show set up
DESCRIPTION:
URL:https://sibfordvillagehall.org.uk/event/horti-summer-show-set-up/
LOCATION:Main hall
END:VEVENT
BEGIN:VEVENT
DTSTART;TZID=Europe/London:20230825T093000
DTEND;TZID=Europe/London:20230825T123000
DTSTAMP:20260421T180655
CREATED:20230803T183005Z
LAST-MODIFIED:20230803T183005Z
UID:5668-1692955800-1692966600@sibfordvillagehall.org.uk
SUMMARY:Art Class - Oil painting
DESCRIPTION:
URL:https://sibfordvillagehall.org.uk/event/art-class-oil-painti-3/
LOCATION:Main hall
END:VEVENT
BEGIN:VEVENT
DTSTART;TZID=Europe/London:20230823T190000
DTEND;TZID=Europe/London:20230823T200000
DTSTAMP:20260421T180655
CREATED:20230819T183012Z
LAST-MODIFIED:20230819T183012Z
UID:5790-1692817200-1692820800@sibfordvillagehall.org.uk
SUMMARY:Horti Summer Show entry night
DESCRIPTION:
URL:https://sibfordvillagehall.org.uk/event/horti-summer-show-entry-night/
LOCATION:Small hall
END:VEVENT
BEGIN:VEVENT
DTSTART;TZID=Europe/London:20230823T120000
DTEND;TZID=Europe/London:20230823T143000
DTSTAMP:20260421T180655
CREATED:20230723T183008Z
LAST-MODIFIED:20230723T183008Z
UID:5607-1692792000-1692801000@sibfordvillagehall.org.uk
SUMMARY:Sibford Lunch Club
DESCRIPTION:
URL:https://sibfordvillagehall.org.uk/event/sibford-lunch-club-10-33/
LOCATION:Main hall
END:VEVENT
BEGIN:VEVENT
DTSTART;TZID=Europe/London:20230821T190000
DTEND;TZID=Europe/London:20230821T220000
DTSTAMP:20260421T180655
CREATED:20230712T183006Z
LAST-MODIFIED:20230712T183006Z
UID:5560-1692644400-1692655200@sibfordvillagehall.org.uk
SUMMARY:Private event
DESCRIPTION:
URL:https://sibfordvillagehall.org.uk/event/private-event-10/
LOCATION:Small hall
END:VEVENT
BEGIN:VEVENT
DTSTART;TZID=Europe/London:20230821T183000
DTEND;TZID=Europe/London:20230821T193000
DTSTAMP:20260421T180655
CREATED:20230719T183006Z
LAST-MODIFIED:20230719T183006Z
UID:5580-1692642600-1692646200@sibfordvillagehall.org.uk
SUMMARY:Karate Class
DESCRIPTION:
URL:https://sibfordvillagehall.org.uk/event/karate-class-2/
LOCATION:Main hall
END:VEVENT
BEGIN:VEVENT
DTSTART;TZID=Europe/London:20230820T100000
DTEND;TZID=Europe/London:20230820T130000
DTSTAMP:20260421T180655
CREATED:20230716T183007Z
LAST-MODIFIED:20230716T183007Z
UID:5574-1692525600-1692536400@sibfordvillagehall.org.uk
SUMMARY:Private event
DESCRIPTION:
URL:https://sibfordvillagehall.org.uk/event/private-event-13/
LOCATION:Main hall
END:VEVENT
BEGIN:VEVENT
DTSTART;TZID=Europe/London:20230819T100000
DTEND;TZID=Europe/London:20230819T120000
DTSTAMP:20260421T180655
CREATED:20230716T183007Z
LAST-MODIFIED:20230716T183007Z
UID:5573-1692439200-1692446400@sibfordvillagehall.org.uk
SUMMARY:Book Swap and Cafe
DESCRIPTION:Welcome to our monthly chance to have coffee/cake and a chat. Browse our large selection of books and borrow any you like . \nNo need to bring a book to swap. \nNo charge. Donations welcome.
URL:https://sibfordvillagehall.org.uk/event/book-swap-and-cafe-5/
LOCATION:Small hall
END:VEVENT
BEGIN:VEVENT
DTSTART;TZID=Europe/London:20230819T090000
DTEND;TZID=Europe/London:20230819T100000
DTSTAMP:20260421T180655
CREATED:20230719T183005Z
LAST-MODIFIED:20230719T183005Z
UID:5579-1692435600-1692439200@sibfordvillagehall.org.uk
SUMMARY:Karate Class
DESCRIPTION:
URL:https://sibfordvillagehall.org.uk/event/karate-class/
LOCATION:Main hall
END:VEVENT
BEGIN:VEVENT
DTSTART;TZID=Europe/London:20230818T100000
DTEND;TZID=Europe/London:20230818T150000
DTSTAMP:20260421T180655
CREATED:20230803T183005Z
LAST-MODIFIED:20230803T183005Z
UID:5667-1692352800-1692370800@sibfordvillagehall.org.uk
SUMMARY:Art Class - Oil painting
DESCRIPTION:
URL:https://sibfordvillagehall.org.uk/event/art-class-oil-painting-2-2/
LOCATION:Main hall
END:VEVENT
BEGIN:VEVENT
DTSTART;TZID=Europe/London:20230817T143000
DTEND;TZID=Europe/London:20230817T163000
DTSTAMP:20260421T180655
CREATED:20230731T183006Z
LAST-MODIFIED:20230731T183006Z
UID:5663-1692282600-1692289800@sibfordvillagehall.org.uk
SUMMARY:Afternoon Tea
DESCRIPTION:Ginny Bennett is organising an Afternoon Tea Event to fundraise for Breast Cancer Now\, the research and care charity to support those diagnosed with breast cancer and provide hope for the future\, so that one day no-one will have to die because of breast cancer. \nCome and bring your friends and have a chat and a delicious tea. \nA Raffle Hamper full of afternoon tea goodies will be there to win\, and a Guess the weight of the cake competition. \nA Just Giving page will be set up for anyone to donate in that way.
URL:https://sibfordvillagehall.org.uk/event/afternoon-tea-charity/
LOCATION:Main hall
END:VEVENT
BEGIN:VEVENT
DTSTART;TZID=Europe/London:20230817T100000
DTEND;TZID=Europe/London:20230817T110000
DTSTAMP:20260421T180655
CREATED:20230811T183007Z
LAST-MODIFIED:20230811T183007Z
UID:5701-1692266400-1692270000@sibfordvillagehall.org.uk
SUMMARY:Chair Yoga
DESCRIPTION:
URL:https://sibfordvillagehall.org.uk/event/chair-yoga-37-24/
LOCATION:Main hall
END:VEVENT
BEGIN:VEVENT
DTSTART;TZID=Europe/London:20230817T090000
DTEND;TZID=Europe/London:20230817T100000
DTSTAMP:20260421T180655
CREATED:20230811T183007Z
LAST-MODIFIED:20230811T183007Z
UID:5700-1692262800-1692266400@sibfordvillagehall.org.uk
SUMMARY:Flow Yoga
DESCRIPTION:
URL:https://sibfordvillagehall.org.uk/event/flow-yoga-7-4/
LOCATION:Main hall
END:VEVENT
BEGIN:VEVENT
DTSTART;TZID=Europe/London:20230816T120000
DTEND;TZID=Europe/London:20230816T143000
DTSTAMP:20260421T180655
CREATED:20230723T183008Z
LAST-MODIFIED:20230723T183008Z
UID:5606-1692187200-1692196200@sibfordvillagehall.org.uk
SUMMARY:Sibford Lunch Club
DESCRIPTION:
URL:https://sibfordvillagehall.org.uk/event/sibford-lunch-club-10-32/
LOCATION:Main hall
END:VEVENT
BEGIN:VEVENT
DTSTART;TZID=Europe/London:20230811T093000
DTEND;TZID=Europe/London:20230811T123000
DTSTAMP:20260421T180655
CREATED:20230803T183005Z
LAST-MODIFIED:20230803T183005Z
UID:5666-1691746200-1691757000@sibfordvillagehall.org.uk
SUMMARY:Art Class - Oil painting
DESCRIPTION:
URL:https://sibfordvillagehall.org.uk/event/art-class-oil-painti-2/
LOCATION:Main hall
END:VEVENT
BEGIN:VEVENT
DTSTART;TZID=Europe/London:20230810T100000
DTEND;TZID=Europe/London:20230810T110000
DTSTAMP:20260421T180655
CREATED:20230715T183006Z
LAST-MODIFIED:20230715T183006Z
UID:5568-1691661600-1691665200@sibfordvillagehall.org.uk
SUMMARY:Chair Yoga
DESCRIPTION:
URL:https://sibfordvillagehall.org.uk/event/chair-yoga-37-23/
LOCATION:Main hall
END:VEVENT
BEGIN:VEVENT
DTSTART;TZID=Europe/London:20230810T090000
DTEND;TZID=Europe/London:20230810T100000
DTSTAMP:20260421T180655
CREATED:20230715T183006Z
LAST-MODIFIED:20230715T183006Z
UID:5567-1691658000-1691661600@sibfordvillagehall.org.uk
SUMMARY:Flow Yoga
DESCRIPTION:
URL:https://sibfordvillagehall.org.uk/event/flow-yoga-7-3/
LOCATION:Main hall
END:VEVENT
BEGIN:VEVENT
DTSTART;TZID=Europe/London:20230809T120000
DTEND;TZID=Europe/London:20230809T143000
DTSTAMP:20260421T180655
CREATED:20230723T183008Z
LAST-MODIFIED:20230723T183008Z
UID:5605-1691582400-1691591400@sibfordvillagehall.org.uk
SUMMARY:Sibford Lunch Club
DESCRIPTION:
URL:https://sibfordvillagehall.org.uk/event/sibford-lunch-club-10-31/
LOCATION:Main hall
END:VEVENT
BEGIN:VEVENT
DTSTART;TZID=Europe/London:20230804T093000
DTEND;TZID=Europe/London:20230804T123000
DTSTAMP:20260421T180655
CREATED:20230803T183005Z
LAST-MODIFIED:20230803T183005Z
UID:5665-1691141400-1691152200@sibfordvillagehall.org.uk
SUMMARY:Art Class - Oil painting
DESCRIPTION:
URL:https://sibfordvillagehall.org.uk/event/art-class-oil-painti/
LOCATION:Main hall
END:VEVENT
BEGIN:VEVENT
DTSTART;TZID=Europe/London:20230803T100000
DTEND;TZID=Europe/London:20230803T110000
DTSTAMP:20260421T180655
CREATED:20230715T183006Z
LAST-MODIFIED:20230715T183006Z
UID:5566-1691056800-1691060400@sibfordvillagehall.org.uk
SUMMARY:Chair Yoga
DESCRIPTION:
URL:https://sibfordvillagehall.org.uk/event/chair-yoga-37-22/
LOCATION:Main hall
END:VEVENT
BEGIN:VEVENT
DTSTART;TZID=Europe/London:20230803T090000
DTEND;TZID=Europe/London:20230803T100000
DTSTAMP:20260421T180655
CREATED:20230715T183005Z
LAST-MODIFIED:20230715T183005Z
UID:5565-1691053200-1691056800@sibfordvillagehall.org.uk
SUMMARY:Flow Yoga
DESCRIPTION:
URL:https://sibfordvillagehall.org.uk/event/flow-yoga-7-2/
LOCATION:Main hall
END:VEVENT
BEGIN:VEVENT
DTSTART;TZID=Europe/London:20230802T120000
DTEND;TZID=Europe/London:20230802T143000
DTSTAMP:20260421T180655
CREATED:20230723T183008Z
LAST-MODIFIED:20230723T183008Z
UID:5604-1690977600-1690986600@sibfordvillagehall.org.uk
SUMMARY:Sibford Lunch Club
DESCRIPTION:
URL:https://sibfordvillagehall.org.uk/event/sibford-lunch-club-10-30/
LOCATION:Main hall
END:VEVENT
BEGIN:VEVENT
DTSTART;TZID=Europe/London:20230801T140000
DTEND;TZID=Europe/London:20230801T160000
DTSTAMP:20260421T180655
CREATED:20230408T183009Z
LAST-MODIFIED:20230408T183009Z
UID:5145-1690898400-1690905600@sibfordvillagehall.org.uk
SUMMARY:Friendship Club
DESCRIPTION:
URL:https://sibfordvillagehall.org.uk/event/friendship-club-10-7/
LOCATION:Main hall
END:VEVENT
BEGIN:VEVENT
DTSTART;TZID=Europe/London:20230728T093000
DTEND;TZID=Europe/London:20230728T123000
DTSTAMP:20260421T180655
CREATED:20230724T183004Z
LAST-MODIFIED:20230724T183004Z
UID:5624-1690536600-1690547400@sibfordvillagehall.org.uk
SUMMARY:Art Class - Oil painting
DESCRIPTION:
URL:https://sibfordvillagehall.org.uk/event/art-class-oil-painting-10/
LOCATION:Main hall
END:VEVENT
BEGIN:VEVENT
DTSTART;TZID=Europe/London:20230727T193000
DTEND;TZID=Europe/London:20230727T210000
DTSTAMP:20260421T180655
CREATED:20230711T183011Z
LAST-MODIFIED:20230711T183011Z
UID:5558-1690486200-1690491600@sibfordvillagehall.org.uk
SUMMARY:Film Night - Blinded by the Light
DESCRIPTION:From writer/director/producer Gurinder Chadha (Bend it like Beckham) comes the inspirational drama Blinded by the Light\, set to the music and lyrics of Bruce Springsteen’ s timeless songs. \nThe film tells the story of Javed (Vivelk Kalra) a British teen of Pakistani descent\, growing up in the town of Luton in 1987. Amidst the racial and economic turmoil of the times\, he writes poetry as a means to escape the intolerance of his hometown and the inflexibility of his traditional father. But when a classmate introduces him to the music of ‘the Boss’\, Javed sees parallels to his working-class life in Springsteen’s powerful lyrics. As Javed discovers a cathartic outlet for his own pent-up dreams\, he also begins to find the courage to express himself in his own unique voice. \nBased on Sarfraz Manzoor’s acclaimed memoir Greetings from Bury Park\, Blinded by the Light is a joyful story of courage\, love\, hope\, family and the unique ability of music to lift the human spirit.  \nDoors open at 7. Film starts at 7.30. Refreshments available. Donations only.
URL:https://sibfordvillagehall.org.uk/event/film-night-15/
LOCATION:Main hall
END:VEVENT
BEGIN:VEVENT
DTSTART;TZID=Europe/London:20230727T100000
DTEND;TZID=Europe/London:20230727T110000
DTSTAMP:20260421T180655
CREATED:20230715T183005Z
LAST-MODIFIED:20230715T183005Z
UID:5564-1690452000-1690455600@sibfordvillagehall.org.uk
SUMMARY:Chair Yoga
DESCRIPTION:
URL:https://sibfordvillagehall.org.uk/event/chair-yoga-37-21/
LOCATION:Main hall
END:VEVENT
BEGIN:VEVENT
DTSTART;TZID=Europe/London:20230727T090000
DTEND;TZID=Europe/London:20230727T100000
DTSTAMP:20260421T180655
CREATED:20230715T183005Z
LAST-MODIFIED:20230715T183005Z
UID:5563-1690448400-1690452000@sibfordvillagehall.org.uk
SUMMARY:Flow Yoga
DESCRIPTION:
URL:https://sibfordvillagehall.org.uk/event/flow-yoga-7/
LOCATION:Main hall
END:VEVENT
END:VCALENDAR