BEGIN:VCALENDAR
VERSION:2.0
PRODID:-//Sibford Village Hall - ECPv6.15.20//NONSGML v1.0//EN
CALSCALE:GREGORIAN
METHOD:PUBLISH
X-WR-CALNAME:Sibford Village Hall
X-ORIGINAL-URL:https://sibfordvillagehall.org.uk
X-WR-CALDESC:Events for Sibford Village Hall
REFRESH-INTERVAL;VALUE=DURATION:PT1H
X-Robots-Tag:noindex
X-PUBLISHED-TTL:PT1H
BEGIN:VTIMEZONE
TZID:Europe/London
BEGIN:DAYLIGHT
TZOFFSETFROM:+0000
TZOFFSETTO:+0100
TZNAME:BST
DTSTART:20220327T010000
END:DAYLIGHT
BEGIN:STANDARD
TZOFFSETFROM:+0100
TZOFFSETTO:+0000
TZNAME:GMT
DTSTART:20221030T010000
END:STANDARD
BEGIN:DAYLIGHT
TZOFFSETFROM:+0000
TZOFFSETTO:+0100
TZNAME:BST
DTSTART:20230326T010000
END:DAYLIGHT
BEGIN:STANDARD
TZOFFSETFROM:+0100
TZOFFSETTO:+0000
TZNAME:GMT
DTSTART:20231029T010000
END:STANDARD
BEGIN:DAYLIGHT
TZOFFSETFROM:+0000
TZOFFSETTO:+0100
TZNAME:BST
DTSTART:20240331T010000
END:DAYLIGHT
BEGIN:STANDARD
TZOFFSETFROM:+0100
TZOFFSETTO:+0000
TZNAME:GMT
DTSTART:20241027T010000
END:STANDARD
END:VTIMEZONE
BEGIN:VEVENT
DTSTART;TZID=Europe/London:20230506T090000
DTEND;TZID=Europe/London:20230506T100000
DTSTAMP:20260421T191636
CREATED:20230418T183010Z
LAST-MODIFIED:20230418T183010Z
UID:5214-1683363600-1683367200@sibfordvillagehall.org.uk
SUMMARY:Karate
DESCRIPTION:
URL:https://sibfordvillagehall.org.uk/event/karate-18-16/
LOCATION:Main hall
END:VEVENT
BEGIN:VEVENT
DTSTART;TZID=Europe/London:20230505T173000
DTEND;TZID=Europe/London:20230505T190000
DTSTAMP:20260421T191636
CREATED:20230416T183010Z
LAST-MODIFIED:20230416T183010Z
UID:5193-1683307800-1683313200@sibfordvillagehall.org.uk
SUMMARY:Cubs
DESCRIPTION:
URL:https://sibfordvillagehall.org.uk/event/cubs-26-2/
LOCATION:Main hall
END:VEVENT
BEGIN:VEVENT
DTSTART;TZID=Europe/London:20230505T160000
DTEND;TZID=Europe/London:20230505T173000
DTSTAMP:20260421T191636
CREATED:20230416T183010Z
LAST-MODIFIED:20230416T183010Z
UID:5192-1683302400-1683307800@sibfordvillagehall.org.uk
SUMMARY:Beavers
DESCRIPTION:
URL:https://sibfordvillagehall.org.uk/event/beavers-24-3/
LOCATION:Main hall
END:VEVENT
BEGIN:VEVENT
DTSTART;TZID=Europe/London:20230505T130000
DTEND;TZID=Europe/London:20230505T153000
DTSTAMP:20260421T191636
CREATED:20230502T183008Z
LAST-MODIFIED:20230502T183008Z
UID:5271-1683291600-1683300600@sibfordvillagehall.org.uk
SUMMARY:Watercolour Art Class
DESCRIPTION:
URL:https://sibfordvillagehall.org.uk/event/watercolour-art-class/
LOCATION:Main hall
END:VEVENT
BEGIN:VEVENT
DTSTART;TZID=Europe/London:20230505T093000
DTEND;TZID=Europe/London:20230505T123000
DTSTAMP:20260421T191636
CREATED:20230502T183008Z
LAST-MODIFIED:20230502T183008Z
UID:5270-1683279000-1683289800@sibfordvillagehall.org.uk
SUMMARY:Art Class /Oil painting
DESCRIPTION:
URL:https://sibfordvillagehall.org.uk/event/art-class-oil-painting/
LOCATION:Main hall
END:VEVENT
BEGIN:VEVENT
DTSTART;TZID=Europe/London:20230505T093000
DTEND;TZID=Europe/London:20230505T113000
DTSTAMP:20260421T191636
CREATED:20230205T183011Z
LAST-MODIFIED:20230205T183011Z
UID:4327-1683279000-1683286200@sibfordvillagehall.org.uk
SUMMARY:Sibford Tots & Babes Group
DESCRIPTION:
URL:https://sibfordvillagehall.org.uk/event/sibford-tots-babes-group-14/
LOCATION:Small hall
END:VEVENT
BEGIN:VEVENT
DTSTART;TZID=Europe/London:20230504T173000
DTEND;TZID=Europe/London:20230504T183000
DTSTAMP:20260421T191636
CREATED:20230222T183015Z
LAST-MODIFIED:20230222T183015Z
UID:4568-1683221400-1683225000@sibfordvillagehall.org.uk
SUMMARY:Sibford Young Performers
DESCRIPTION:
URL:https://sibfordvillagehall.org.uk/event/sibford-young-perfomers-3/
LOCATION:Main hall
END:VEVENT
BEGIN:VEVENT
DTSTART;TZID=Europe/London:20230504T101500
DTEND;TZID=Europe/London:20230504T111500
DTSTAMP:20260421T191637
CREATED:20230115T183019Z
LAST-MODIFIED:20230115T183019Z
UID:4101-1683195300-1683198900@sibfordvillagehall.org.uk
SUMMARY:Chair Yoga
DESCRIPTION:
URL:https://sibfordvillagehall.org.uk/event/chair-yoga-37-14/
LOCATION:Main hall
END:VEVENT
BEGIN:VEVENT
DTSTART;TZID=Europe/London:20230504T090000
DTEND;TZID=Europe/London:20230504T100000
DTSTAMP:20260421T191637
CREATED:20230115T183019Z
LAST-MODIFIED:20230115T183019Z
UID:4100-1683190800-1683194400@sibfordvillagehall.org.uk
SUMMARY:Flow Yoga
DESCRIPTION:
URL:https://sibfordvillagehall.org.uk/event/flow-yoga-6-14/
LOCATION:Main hall
END:VEVENT
BEGIN:VEVENT
DTSTART;TZID=Europe/London:20230504T070000
DTEND;TZID=Europe/London:20230504T220000
DTSTAMP:20260421T191637
CREATED:20230504T183006Z
LAST-MODIFIED:20230504T183006Z
UID:5332-1683183600-1683237600@sibfordvillagehall.org.uk
SUMMARY:Election Polling Station
DESCRIPTION:Don’t forget that you will need to show photo ID (Eg: Passport\, Driving Licence\, Bus pass\, etc) to vote at this and subsequent elections. For more information\, visit https://cherwell.gov.uk/voterid \nOur ward\, Cropredy\, Sibfords and Wroxton\, is represented on Cherwell District Council by three councillors\, currently Phil Chapman\, George Reynolds and Douglas Webb (all Conservative). This is an election to replace Douglas Webb who has reached the end of his four-year term in office. The candidates are \n\nVictoria Campbell (Green Party)\nXenia Huntley (Liberal Democrats)\nSiân Tohill-Martin (Labour Party)\nDouglas Webb (The Conservative Party Candidate)\n\nFor official information on the election\, refer to the Cherwell District Council website. \nThe results of previous District Council elections are on Wikipedia. \nElection maps\, showing the electoral boundaries at all levels of government\, may be examined at https://www.ordnancesurvey.co.uk/election-maps/gb/ (Start by typing sibford into the search box at the top of the page.)
URL:https://sibfordvillagehall.org.uk/event/election-polling-station/
LOCATION:Small hall
END:VEVENT
BEGIN:VEVENT
DTSTART;TZID=Europe/London:20230503T190000
DTEND;TZID=Europe/London:20230503T210000
DTSTAMP:20260421T191637
CREATED:20230325T183011Z
LAST-MODIFIED:20230325T183011Z
UID:4966-1683140400-1683147600@sibfordvillagehall.org.uk
SUMMARY:Bridge class
DESCRIPTION:
URL:https://sibfordvillagehall.org.uk/event/bridge-classes-6/
LOCATION:Main hall
END:VEVENT
BEGIN:VEVENT
DTSTART;TZID=Europe/London:20230503T120000
DTEND;TZID=Europe/London:20230503T143000
DTSTAMP:20260421T191637
CREATED:20230329T183020Z
LAST-MODIFIED:20230329T183020Z
UID:5025-1683115200-1683124200@sibfordvillagehall.org.uk
SUMMARY:Sibford Lunch Club
DESCRIPTION:
URL:https://sibfordvillagehall.org.uk/event/sibford-lunch-club-10-17/
LOCATION:Main hall
END:VEVENT
BEGIN:VEVENT
DTSTART;TZID=Europe/London:20230502T190000
DTEND;TZID=Europe/London:20230502T200000
DTSTAMP:20260421T191637
CREATED:20230329T183020Z
LAST-MODIFIED:20230329T183020Z
UID:5024-1683054000-1683057600@sibfordvillagehall.org.uk
SUMMARY:Yogalates
DESCRIPTION:
URL:https://sibfordvillagehall.org.uk/event/yogalates-13/
LOCATION:Main hall
END:VEVENT
BEGIN:VEVENT
DTSTART;TZID=Europe/London:20230502T090000
DTEND;TZID=Europe/London:20230502T100000
DTSTAMP:20260421T191637
CREATED:20230308T183020Z
LAST-MODIFIED:20230308T183020Z
UID:4757-1683018000-1683021600@sibfordvillagehall.org.uk
SUMMARY:Slow and gentle Yoga
DESCRIPTION:
URL:https://sibfordvillagehall.org.uk/event/slow-and-gentle-yoga-7-14/
LOCATION:Main hall
END:VEVENT
BEGIN:VEVENT
DTSTART;TZID=Europe/London:20230429T190000
DTEND;TZID=Europe/London:20230429T233000
DTSTAMP:20260421T191637
CREATED:20230417T183010Z
LAST-MODIFIED:20230417T183010Z
UID:5207-1682794800-1682811000@sibfordvillagehall.org.uk
SUMMARY:Charity Music Night
DESCRIPTION:In aid of Headway (NS) and Dementia Oxon \nTickets £15 including music and curry\, from https://buytickets.at/redandgrey/859696 or text 07714 838 108 \nLicensed bar. \nPerformances by \n\nRed & Grey (eclectic covers band)\nBelle Collective (a capella singers)\n\nwith DJs R&A
URL:https://sibfordvillagehall.org.uk/event/charity-band-night/
LOCATION:Main hall
END:VEVENT
BEGIN:VEVENT
DTSTART;TZID=Europe/London:20230429T090000
DTEND;TZID=Europe/London:20230429T100000
DTSTAMP:20260421T191637
CREATED:20230418T183009Z
LAST-MODIFIED:20230418T183009Z
UID:5213-1682758800-1682762400@sibfordvillagehall.org.uk
SUMMARY:Karate
DESCRIPTION:
URL:https://sibfordvillagehall.org.uk/event/karate-18-15/
LOCATION:Main hall
END:VEVENT
BEGIN:VEVENT
DTSTART;TZID=Europe/London:20230428T173000
DTEND;TZID=Europe/London:20230428T190000
DTSTAMP:20260421T191637
CREATED:20230416T183010Z
LAST-MODIFIED:20230416T183010Z
UID:5191-1682703000-1682708400@sibfordvillagehall.org.uk
SUMMARY:Scouts
DESCRIPTION:
URL:https://sibfordvillagehall.org.uk/event/scouts-51/
LOCATION:Main hall
END:VEVENT
BEGIN:VEVENT
DTSTART;TZID=Europe/London:20230428T160000
DTEND;TZID=Europe/London:20230428T173000
DTSTAMP:20260421T191637
CREATED:20230416T183010Z
LAST-MODIFIED:20230416T183010Z
UID:5190-1682697600-1682703000@sibfordvillagehall.org.uk
SUMMARY:Beavers
DESCRIPTION:
URL:https://sibfordvillagehall.org.uk/event/beavers-24-2/
LOCATION:Main hall
END:VEVENT
BEGIN:VEVENT
DTSTART;TZID=Europe/London:20230428T093000
DTEND;TZID=Europe/London:20230428T113000
DTSTAMP:20260421T191637
CREATED:20230205T183011Z
LAST-MODIFIED:20230205T183011Z
UID:4326-1682674200-1682681400@sibfordvillagehall.org.uk
SUMMARY:Sibford Tots & Babes Group
DESCRIPTION:
URL:https://sibfordvillagehall.org.uk/event/sibford-tots-babes-group-13/
LOCATION:Small hall
END:VEVENT
BEGIN:VEVENT
DTSTART;TZID=Europe/London:20230427T193000
DTEND;TZID=Europe/London:20230427T213000
DTSTAMP:20260421T191637
CREATED:20230404T183013Z
LAST-MODIFIED:20230404T183013Z
UID:5114-1682623800-1682631000@sibfordvillagehall.org.uk
SUMMARY:Film Night - Empire of Light
DESCRIPTION:Village Hall movies presents Empire of Light \nFrom Academy Award – winning director Sam Mendes\, Empire of Light is a moving drama about the power of human connection during turbulent times. Set in and around a faded old cinema in an English coastal town in the early 1980s\, it follows Hilary (Olivia Coleman) a cinema manager struggling with her mental health\, and Stephen (Michael Ward) a new employee who longs to escape this provincial town in which he faces daily adversity. \nDoors open from 7pm \nNo charge for the film show but donations welcome. Tea/coffee available for small charge. \nFilm nights will continue to be on the last Thursday of the month for at least the next couple of months.
URL:https://sibfordvillagehall.org.uk/event/film-night-11/
LOCATION:Main hall
END:VEVENT
BEGIN:VEVENT
DTSTART;TZID=Europe/London:20230427T173000
DTEND;TZID=Europe/London:20230427T183000
DTSTAMP:20260421T191637
CREATED:20230222T183015Z
LAST-MODIFIED:20230222T183015Z
UID:4566-1682616600-1682620200@sibfordvillagehall.org.uk
SUMMARY:Sibford Young Performers
DESCRIPTION:
URL:https://sibfordvillagehall.org.uk/event/sibford-young-perfomers-2/
LOCATION:Main hall
END:VEVENT
BEGIN:VEVENT
DTSTART;TZID=Europe/London:20230427T101500
DTEND;TZID=Europe/London:20230427T111500
DTSTAMP:20260421T191637
CREATED:20230115T183018Z
LAST-MODIFIED:20230115T183018Z
UID:4098-1682590500-1682594100@sibfordvillagehall.org.uk
SUMMARY:Chair Yoga
DESCRIPTION:
URL:https://sibfordvillagehall.org.uk/event/chair-yoga-37-13/
LOCATION:Main hall
END:VEVENT
BEGIN:VEVENT
DTSTART;TZID=Europe/London:20230427T090000
DTEND;TZID=Europe/London:20230427T100000
DTSTAMP:20260421T191637
CREATED:20230115T183018Z
LAST-MODIFIED:20230115T183018Z
UID:4097-1682586000-1682589600@sibfordvillagehall.org.uk
SUMMARY:Flow Yoga
DESCRIPTION:
URL:https://sibfordvillagehall.org.uk/event/flow-yoga-6-13/
LOCATION:Main hall
END:VEVENT
BEGIN:VEVENT
DTSTART;TZID=Europe/London:20230426T190000
DTEND;TZID=Europe/London:20230426T210000
DTSTAMP:20260421T191637
CREATED:20230403T183007Z
LAST-MODIFIED:20230403T183007Z
UID:5106-1682535600-1682542800@sibfordvillagehall.org.uk
SUMMARY:Bridge Class
DESCRIPTION:
URL:https://sibfordvillagehall.org.uk/event/bridge-class/
LOCATION:Main hall
END:VEVENT
BEGIN:VEVENT
DTSTART;TZID=Europe/London:20230426T120000
DTEND;TZID=Europe/London:20230426T143000
DTSTAMP:20260421T191637
CREATED:20230329T183019Z
LAST-MODIFIED:20230329T183019Z
UID:5023-1682510400-1682519400@sibfordvillagehall.org.uk
SUMMARY:Sibford Lunch Club
DESCRIPTION:
URL:https://sibfordvillagehall.org.uk/event/sibford-lunch-club-10-16/
LOCATION:Main hall
END:VEVENT
BEGIN:VEVENT
DTSTART;TZID=Europe/London:20230425T200000
DTEND;TZID=Europe/London:20230425T220000
DTSTAMP:20260421T191637
CREATED:20230417T183010Z
LAST-MODIFIED:20230417T183010Z
UID:5206-1682452800-1682460000@sibfordvillagehall.org.uk
SUMMARY:Charity Band Practice
DESCRIPTION:
URL:https://sibfordvillagehall.org.uk/event/charity-band-practice/
LOCATION:Main hall
END:VEVENT
BEGIN:VEVENT
DTSTART;TZID=Europe/London:20230425T193000
DTEND;TZID=Europe/London:20230425T213000
DTSTAMP:20260421T191637
CREATED:20230203T183009Z
LAST-MODIFIED:20230203T183009Z
UID:4299-1682451000-1682458200@sibfordvillagehall.org.uk
SUMMARY:Sibford Photography Club
DESCRIPTION:
URL:https://sibfordvillagehall.org.uk/event/sibford-photography-club-21/
LOCATION:Small hall
END:VEVENT
BEGIN:VEVENT
DTSTART;TZID=Europe/London:20230425T190000
DTEND;TZID=Europe/London:20230425T200000
DTSTAMP:20260421T191637
CREATED:20230329T183019Z
LAST-MODIFIED:20230329T183019Z
UID:5022-1682449200-1682452800@sibfordvillagehall.org.uk
SUMMARY:Yogalates
DESCRIPTION:
URL:https://sibfordvillagehall.org.uk/event/yogalates-12/
LOCATION:Main hall
END:VEVENT
BEGIN:VEVENT
DTSTART;TZID=Europe/London:20230425T090000
DTEND;TZID=Europe/London:20230425T100000
DTSTAMP:20260421T191637
CREATED:20230308T183020Z
LAST-MODIFIED:20230308T183020Z
UID:4753-1682413200-1682416800@sibfordvillagehall.org.uk
SUMMARY:Slow and gentle Yoga
DESCRIPTION:
URL:https://sibfordvillagehall.org.uk/event/slow-and-gentle-yoga-7-13/
LOCATION:Main hall
END:VEVENT
BEGIN:VEVENT
DTSTART;TZID=Europe/London:20230424T193000
DTEND;TZID=Europe/London:20230424T210000
DTSTAMP:20260421T191637
CREATED:20230325T183011Z
LAST-MODIFIED:20230325T183011Z
UID:4964-1682364600-1682370000@sibfordvillagehall.org.uk
SUMMARY:Band practice
DESCRIPTION:
URL:https://sibfordvillagehall.org.uk/event/band-practice-2/
LOCATION:Main hall
END:VEVENT
END:VCALENDAR