BEGIN:VCALENDAR
VERSION:2.0
PRODID:-//Sibford Village Hall - ECPv6.15.20//NONSGML v1.0//EN
CALSCALE:GREGORIAN
METHOD:PUBLISH
X-WR-CALNAME:Sibford Village Hall
X-ORIGINAL-URL:https://sibfordvillagehall.org.uk
X-WR-CALDESC:Events for Sibford Village Hall
REFRESH-INTERVAL;VALUE=DURATION:PT1H
X-Robots-Tag:noindex
X-PUBLISHED-TTL:PT1H
BEGIN:VTIMEZONE
TZID:Europe/London
BEGIN:DAYLIGHT
TZOFFSETFROM:+0000
TZOFFSETTO:+0100
TZNAME:BST
DTSTART:20210328T010000
END:DAYLIGHT
BEGIN:STANDARD
TZOFFSETFROM:+0100
TZOFFSETTO:+0000
TZNAME:GMT
DTSTART:20211031T010000
END:STANDARD
BEGIN:DAYLIGHT
TZOFFSETFROM:+0000
TZOFFSETTO:+0100
TZNAME:BST
DTSTART:20220327T010000
END:DAYLIGHT
BEGIN:STANDARD
TZOFFSETFROM:+0100
TZOFFSETTO:+0000
TZNAME:GMT
DTSTART:20221030T010000
END:STANDARD
BEGIN:DAYLIGHT
TZOFFSETFROM:+0000
TZOFFSETTO:+0100
TZNAME:BST
DTSTART:20230326T010000
END:DAYLIGHT
BEGIN:STANDARD
TZOFFSETFROM:+0100
TZOFFSETTO:+0000
TZNAME:GMT
DTSTART:20231029T010000
END:STANDARD
END:VTIMEZONE
BEGIN:VEVENT
DTSTART;TZID=Europe/London:20221021T093000
DTEND;TZID=Europe/London:20221021T123000
DTSTAMP:20260424T084519
CREATED:20220726T183017Z
LAST-MODIFIED:20220726T183017Z
UID:2661-1666344600-1666355400@sibfordvillagehall.org.uk
SUMMARY:Oil Painting Class
DESCRIPTION:
URL:https://sibfordvillagehall.org.uk/event/oil-painting-class-20-5/
LOCATION:Main hall
END:VEVENT
BEGIN:VEVENT
DTSTART;TZID=Europe/London:20221021T093000
DTEND;TZID=Europe/London:20221021T113000
DTSTAMP:20260424T084519
CREATED:20220915T183025Z
LAST-MODIFIED:20220915T183025Z
UID:3001-1666344600-1666351800@sibfordvillagehall.org.uk
SUMMARY:Sibford Tots and Babes Group
DESCRIPTION:
URL:https://sibfordvillagehall.org.uk/event/sibford-tots-and-babes-group-4-6/
LOCATION:Small hall
END:VEVENT
BEGIN:VEVENT
DTSTART;TZID=Europe/London:20221020T193000
DTEND;TZID=Europe/London:20221020T210000
DTSTAMP:20260424T084519
CREATED:20220924T183013Z
LAST-MODIFIED:20220924T183013Z
UID:3109-1666294200-1666299600@sibfordvillagehall.org.uk
SUMMARY:Sibfords History Society - Frank Lascelles in Sibford
DESCRIPTION:How did the vicar’s son from a sleepy Cotswold village grow up to be the most famous pageant master the Empire had ever seen? Why did the celebrities of the day flock to his self-created Manor House and pay homage to the visionary\, the great actor and the great artist? And why after having led such an impressive and influential life is he now a virtually forgotten man – lost in history and tinged with a hint of scandal? \nFor some he was charismatic\, kindly and a visionary. For others he was flamboyant\, a poser and a tiresome self publicist. \nJoin with Michael Donovan\, formerly a resident of the Manor House\, and The Sibfords History Society to review and celebrate the life of Frank William Thomas Charles Lascelles (Stevens)\, 1875 – 1934. \nIt will be an entertaining evening! \nDoors open 7.15 p.m. Talk begins 7.30 p.m. \nVisitors £3 p.p. Refreshments served after the talk.
URL:https://sibfordvillagehall.org.uk/event/sibfords-history-society-3/
LOCATION:Main hall
END:VEVENT
BEGIN:VEVENT
DTSTART;TZID=Europe/London:20221020T173000
DTEND;TZID=Europe/London:20221020T183000
DTSTAMP:20260424T084519
CREATED:20220821T183017Z
LAST-MODIFIED:20220821T183017Z
UID:2864-1666287000-1666290600@sibfordvillagehall.org.uk
SUMMARY:Sibford Young Performers
DESCRIPTION:
URL:https://sibfordvillagehall.org.uk/event/sibford-young-performers-6-6/
LOCATION:Main hall
END:VEVENT
BEGIN:VEVENT
DTSTART;TZID=Europe/London:20221020T101500
DTEND;TZID=Europe/London:20221020T111500
DTSTAMP:20260424T084519
CREATED:20220820T183019Z
LAST-MODIFIED:20220820T183019Z
UID:2826-1666260900-1666264500@sibfordvillagehall.org.uk
SUMMARY:Chair Yoga
DESCRIPTION:
URL:https://sibfordvillagehall.org.uk/event/chair-yoga-35-7/
LOCATION:Main hall
END:VEVENT
BEGIN:VEVENT
DTSTART;TZID=Europe/London:20221020T090000
DTEND;TZID=Europe/London:20221020T100000
DTSTAMP:20260424T084519
CREATED:20220820T183019Z
LAST-MODIFIED:20220820T183019Z
UID:2825-1666256400-1666260000@sibfordvillagehall.org.uk
SUMMARY:Flow Yoga
DESCRIPTION:
URL:https://sibfordvillagehall.org.uk/event/flow-yoga-4-7/
LOCATION:Main hall
END:VEVENT
BEGIN:VEVENT
DTSTART;TZID=Europe/London:20221019T120000
DTEND;TZID=Europe/London:20221019T143000
DTSTAMP:20260424T084519
CREATED:20220825T183029Z
LAST-MODIFIED:20220825T183029Z
UID:2896-1666180800-1666189800@sibfordvillagehall.org.uk
SUMMARY:Sibford Lunch Club
DESCRIPTION:
URL:https://sibfordvillagehall.org.uk/event/sibford-lunch-club-8-24/
LOCATION:Main hall
END:VEVENT
BEGIN:VEVENT
DTSTART;TZID=Europe/London:20221018T183000
DTEND;TZID=Europe/London:20221018T193000
DTSTAMP:20260424T084519
CREATED:20221017T183015Z
LAST-MODIFIED:20221017T183015Z
UID:3215-1666117800-1666121400@sibfordvillagehall.org.uk
SUMMARY:Karate
DESCRIPTION:
URL:https://sibfordvillagehall.org.uk/event/karate-14-5/
LOCATION:Main hall
END:VEVENT
BEGIN:VEVENT
DTSTART;TZID=Europe/London:20221018T120000
DTEND;TZID=Europe/London:20221018T160000
DTSTAMP:20260424T084519
CREATED:20220820T183019Z
LAST-MODIFIED:20220820T183019Z
UID:2824-1666094400-1666108800@sibfordvillagehall.org.uk
SUMMARY:Model Railway Group
DESCRIPTION:
URL:https://sibfordvillagehall.org.uk/event/model-railway-group-2/
LOCATION:Main hall
END:VEVENT
BEGIN:VEVENT
DTSTART;TZID=Europe/London:20221018T090000
DTEND;TZID=Europe/London:20221018T100000
DTSTAMP:20260424T084519
CREATED:20220820T183019Z
LAST-MODIFIED:20220820T183019Z
UID:2823-1666083600-1666087200@sibfordvillagehall.org.uk
SUMMARY:Slow and Gentle Yoga
DESCRIPTION:
URL:https://sibfordvillagehall.org.uk/event/slow-and-gentle-yoga-5-6/
LOCATION:Main hall
END:VEVENT
BEGIN:VEVENT
DTSTART;TZID=Europe/London:20221015T110000
DTEND;TZID=Europe/London:20221015T140000
DTSTAMP:20260424T084519
CREATED:20220923T183017Z
LAST-MODIFIED:20220923T183017Z
UID:3092-1665831600-1665842400@sibfordvillagehall.org.uk
SUMMARY:Private hire
DESCRIPTION:
URL:https://sibfordvillagehall.org.uk/event/private-hire-tbc-9/
LOCATION:Main hall
END:VEVENT
BEGIN:VEVENT
DTSTART;TZID=Europe/London:20221015T090000
DTEND;TZID=Europe/London:20221015T100000
DTSTAMP:20260424T084519
CREATED:20220930T183020Z
LAST-MODIFIED:20220930T183020Z
UID:3148-1665824400-1665828000@sibfordvillagehall.org.uk
SUMMARY:Karate
DESCRIPTION:
URL:https://sibfordvillagehall.org.uk/event/karate-15-8/
LOCATION:Main hall
END:VEVENT
BEGIN:VEVENT
DTSTART;TZID=Europe/London:20221014T173000
DTEND;TZID=Europe/London:20221014T190000
DTSTAMP:20260424T084519
CREATED:20220927T183031Z
LAST-MODIFIED:20220927T183031Z
UID:3116-1665768600-1665774000@sibfordvillagehall.org.uk
SUMMARY:Scouts
DESCRIPTION:
URL:https://sibfordvillagehall.org.uk/event/scouts-23/
LOCATION:Small hall
END:VEVENT
BEGIN:VEVENT
DTSTART;TZID=Europe/London:20221014T173000
DTEND;TZID=Europe/London:20221014T190000
DTSTAMP:20260424T084519
CREATED:20220901T183013Z
LAST-MODIFIED:20220901T183013Z
UID:2936-1665768600-1665774000@sibfordvillagehall.org.uk
SUMMARY:Cubs
DESCRIPTION:
URL:https://sibfordvillagehall.org.uk/event/cubs-23-5/
LOCATION:Main hall
END:VEVENT
BEGIN:VEVENT
DTSTART;TZID=Europe/London:20221014T133000
DTEND;TZID=Europe/London:20221014T153000
DTSTAMP:20260424T084519
CREATED:20220726T183017Z
LAST-MODIFIED:20220726T183017Z
UID:2660-1665754200-1665761400@sibfordvillagehall.org.uk
SUMMARY:Watercolour Painting Class
DESCRIPTION:
URL:https://sibfordvillagehall.org.uk/event/watercolour-painting-class-2-5/
LOCATION:Main hall
END:VEVENT
BEGIN:VEVENT
DTSTART;TZID=Europe/London:20221014T093000
DTEND;TZID=Europe/London:20221014T123000
DTSTAMP:20260424T084519
CREATED:20220726T183017Z
LAST-MODIFIED:20220726T183017Z
UID:2659-1665739800-1665750600@sibfordvillagehall.org.uk
SUMMARY:Oil Painting Class
DESCRIPTION:
URL:https://sibfordvillagehall.org.uk/event/oil-painting-class-20-4/
LOCATION:Main hall
END:VEVENT
BEGIN:VEVENT
DTSTART;TZID=Europe/London:20221014T093000
DTEND;TZID=Europe/London:20221014T113000
DTSTAMP:20260424T084519
CREATED:20220915T183025Z
LAST-MODIFIED:20220915T183025Z
UID:2999-1665739800-1665747000@sibfordvillagehall.org.uk
SUMMARY:Sibford Tots and Babes Group
DESCRIPTION:
URL:https://sibfordvillagehall.org.uk/event/sibford-tots-and-babes-group-4-5/
LOCATION:Small hall
END:VEVENT
BEGIN:VEVENT
DTSTART;TZID=Europe/London:20221013T173000
DTEND;TZID=Europe/London:20221013T183000
DTSTAMP:20260424T084519
CREATED:20220821T183016Z
LAST-MODIFIED:20220821T183016Z
UID:2862-1665682200-1665685800@sibfordvillagehall.org.uk
SUMMARY:Sibford Young Performers
DESCRIPTION:
URL:https://sibfordvillagehall.org.uk/event/sibford-young-performers-6-5/
LOCATION:Main hall
END:VEVENT
BEGIN:VEVENT
DTSTART;TZID=Europe/London:20221013T101500
DTEND;TZID=Europe/London:20221013T111500
DTSTAMP:20260424T084519
CREATED:20220820T183018Z
LAST-MODIFIED:20220820T183018Z
UID:2820-1665656100-1665659700@sibfordvillagehall.org.uk
SUMMARY:Chair Yoga
DESCRIPTION:
URL:https://sibfordvillagehall.org.uk/event/chair-yoga-35-6/
LOCATION:Main hall
END:VEVENT
BEGIN:VEVENT
DTSTART;TZID=Europe/London:20221013T090000
DTEND;TZID=Europe/London:20221013T100000
DTSTAMP:20260424T084519
CREATED:20220820T183018Z
LAST-MODIFIED:20220820T183018Z
UID:2819-1665651600-1665655200@sibfordvillagehall.org.uk
SUMMARY:Flow Yoga
DESCRIPTION:
URL:https://sibfordvillagehall.org.uk/event/flow-yoga-4-6/
LOCATION:Main hall
END:VEVENT
BEGIN:VEVENT
DTSTART;TZID=Europe/London:20221012T193000
DTEND;TZID=Europe/London:20221012T223000
DTSTAMP:20260424T084519
CREATED:20220930T183020Z
LAST-MODIFIED:20220930T183020Z
UID:3147-1665603000-1665613800@sibfordvillagehall.org.uk
SUMMARY:Town Estate Charity Trustees meeting
DESCRIPTION:
URL:https://sibfordvillagehall.org.uk/event/town-estate-charity-trustees-meeting-3/
LOCATION:Small hall
END:VEVENT
BEGIN:VEVENT
DTSTART;TZID=Europe/London:20221012T193000
DTEND;TZID=Europe/London:20221012T210000
DTSTAMP:20260424T084519
CREATED:20221005T183015Z
LAST-MODIFIED:20221005T183015Z
UID:3179-1665603000-1665608400@sibfordvillagehall.org.uk
SUMMARY:Horti Society - Planting pots for Winter Interest and Spring Joy
DESCRIPTION:Speaker Harriet Ryecroft \nDoors open at 7.00 for coffee and refreshments before a 7.30 start. \nNon members always welcome £3.00.
URL:https://sibfordvillagehall.org.uk/event/horti-society-3/
LOCATION:Main hall
END:VEVENT
BEGIN:VEVENT
DTSTART;TZID=Europe/London:20221012T120000
DTEND;TZID=Europe/London:20221012T143000
DTSTAMP:20260424T084519
CREATED:20220825T183028Z
LAST-MODIFIED:20220825T183028Z
UID:2895-1665576000-1665585000@sibfordvillagehall.org.uk
SUMMARY:Sibford Lunch Club
DESCRIPTION:
URL:https://sibfordvillagehall.org.uk/event/sibford-lunch-club-8-23/
LOCATION:Main hall
END:VEVENT
BEGIN:VEVENT
DTSTART;TZID=Europe/London:20221011T090000
DTEND;TZID=Europe/London:20221011T100000
DTSTAMP:20260424T084519
CREATED:20220820T183018Z
LAST-MODIFIED:20220820T183018Z
UID:2818-1665478800-1665482400@sibfordvillagehall.org.uk
SUMMARY:Slow and Gentle Yoga
DESCRIPTION:
URL:https://sibfordvillagehall.org.uk/event/slow-and-gentle-yoga-5-5/
LOCATION:Main hall
END:VEVENT
BEGIN:VEVENT
DTSTART;TZID=Europe/London:20221010T183000
DTEND;TZID=Europe/London:20221010T193000
DTSTAMP:20260424T084519
CREATED:20220929T183024Z
LAST-MODIFIED:20220929T183024Z
UID:3132-1665426600-1665430200@sibfordvillagehall.org.uk
SUMMARY:Karate
DESCRIPTION:
URL:https://sibfordvillagehall.org.uk/event/karate-16-2/
LOCATION:Main hall
END:VEVENT
BEGIN:VEVENT
DTSTART;TZID=Europe/London:20221008T090000
DTEND;TZID=Europe/London:20221008T100000
DTSTAMP:20260424T084519
CREATED:20220930T183020Z
LAST-MODIFIED:20220930T183020Z
UID:3146-1665219600-1665223200@sibfordvillagehall.org.uk
SUMMARY:Karate
DESCRIPTION:
URL:https://sibfordvillagehall.org.uk/event/karate-15-7/
LOCATION:Main hall
END:VEVENT
BEGIN:VEVENT
DTSTART;TZID=Europe/London:20221007T173000
DTEND;TZID=Europe/London:20221007T190000
DTSTAMP:20260424T084519
CREATED:20220901T183013Z
LAST-MODIFIED:20220901T183013Z
UID:2935-1665163800-1665169200@sibfordvillagehall.org.uk
SUMMARY:Cubs
DESCRIPTION:
URL:https://sibfordvillagehall.org.uk/event/cubs-23-4/
LOCATION:Main hall
END:VEVENT
BEGIN:VEVENT
DTSTART;TZID=Europe/London:20221007T160000
DTEND;TZID=Europe/London:20221007T173000
DTSTAMP:20260424T084519
CREATED:20220831T183015Z
LAST-MODIFIED:20220831T183015Z
UID:2927-1665158400-1665163800@sibfordvillagehall.org.uk
SUMMARY:Beavers
DESCRIPTION:
URL:https://sibfordvillagehall.org.uk/event/beavers-21/
LOCATION:Main hall
END:VEVENT
BEGIN:VEVENT
DTSTART;TZID=Europe/London:20221007T133000
DTEND;TZID=Europe/London:20221007T153000
DTSTAMP:20260424T084519
CREATED:20220726T183016Z
LAST-MODIFIED:20220726T183016Z
UID:2656-1665149400-1665156600@sibfordvillagehall.org.uk
SUMMARY:Watercolour Painting Class
DESCRIPTION:
URL:https://sibfordvillagehall.org.uk/event/watercolour-painting-class-2-4/
LOCATION:Main hall
END:VEVENT
BEGIN:VEVENT
DTSTART;TZID=Europe/London:20221007T093000
DTEND;TZID=Europe/London:20221007T123000
DTSTAMP:20260424T084519
CREATED:20220726T183016Z
LAST-MODIFIED:20220726T183016Z
UID:2655-1665135000-1665145800@sibfordvillagehall.org.uk
SUMMARY:Oil Painting Class
DESCRIPTION:
URL:https://sibfordvillagehall.org.uk/event/oil-painting-class-20-3/
LOCATION:Main hall
END:VEVENT
END:VCALENDAR