BEGIN:VCALENDAR
VERSION:2.0
PRODID:-//Sibford Village Hall - ECPv6.15.20//NONSGML v1.0//EN
CALSCALE:GREGORIAN
METHOD:PUBLISH
X-WR-CALNAME:Sibford Village Hall
X-ORIGINAL-URL:https://sibfordvillagehall.org.uk
X-WR-CALDESC:Events for Sibford Village Hall
REFRESH-INTERVAL;VALUE=DURATION:PT1H
X-Robots-Tag:noindex
X-PUBLISHED-TTL:PT1H
BEGIN:VTIMEZONE
TZID:Europe/London
BEGIN:DAYLIGHT
TZOFFSETFROM:+0000
TZOFFSETTO:+0100
TZNAME:BST
DTSTART:20240331T010000
END:DAYLIGHT
BEGIN:STANDARD
TZOFFSETFROM:+0100
TZOFFSETTO:+0000
TZNAME:GMT
DTSTART:20241027T010000
END:STANDARD
BEGIN:DAYLIGHT
TZOFFSETFROM:+0000
TZOFFSETTO:+0100
TZNAME:BST
DTSTART:20250330T010000
END:DAYLIGHT
BEGIN:STANDARD
TZOFFSETFROM:+0100
TZOFFSETTO:+0000
TZNAME:GMT
DTSTART:20251026T010000
END:STANDARD
BEGIN:DAYLIGHT
TZOFFSETFROM:+0000
TZOFFSETTO:+0100
TZNAME:BST
DTSTART:20260329T010000
END:DAYLIGHT
BEGIN:STANDARD
TZOFFSETFROM:+0100
TZOFFSETTO:+0000
TZNAME:GMT
DTSTART:20261025T010000
END:STANDARD
END:VTIMEZONE
BEGIN:VEVENT
DTSTART;TZID=Europe/London:20250125T130000
DTEND;TZID=Europe/London:20250125T150000
DTSTAMP:20260420T092044
CREATED:20250104T183048Z
LAST-MODIFIED:20250104T183048Z
UID:8260-1737810000-1737817200@sibfordvillagehall.org.uk
SUMMARY:Jumble Sale in aid of Churchill Cancer Hospital
DESCRIPTION:If you can contribute items such as: \n\nClothes\nShoes\nToys\nBooks\nBric-à-brac\nRaffle prizes\nItems for bottle stall\n\nplease message or phone 07977 841 483 or email billybev25@outlook.com \nThank you!!
URL:https://sibfordvillagehall.org.uk/event/pe-22/
LOCATION:Main hall
END:VEVENT
BEGIN:VEVENT
DTSTART;TZID=Europe/London:20250125T090000
DTEND;TZID=Europe/London:20250125T100000
DTSTAMP:20260420T092044
CREATED:20250111T183026Z
LAST-MODIFIED:20250111T183026Z
UID:8404-1737795600-1737799200@sibfordvillagehall.org.uk
SUMMARY:Private event
DESCRIPTION:
URL:https://sibfordvillagehall.org.uk/event/pe-45-3/
LOCATION:Main hall
END:VEVENT
BEGIN:VEVENT
DTSTART;TZID=Europe/London:20250124T193000
DTEND;TZID=Europe/London:20250124T203000
DTSTAMP:20260420T092044
CREATED:20250110T183025Z
LAST-MODIFIED:20250110T183025Z
UID:8384-1737747000-1737750600@sibfordvillagehall.org.uk
SUMMARY:Private event
DESCRIPTION:
URL:https://sibfordvillagehall.org.uk/event/pe-44/
LOCATION:Main hall
END:VEVENT
BEGIN:VEVENT
DTSTART;TZID=Europe/London:20250124T173000
DTEND;TZID=Europe/London:20250124T190000
DTSTAMP:20260420T092044
CREATED:20250107T183014Z
LAST-MODIFIED:20250107T183014Z
UID:8331-1737739800-1737745200@sibfordvillagehall.org.uk
SUMMARY:Beavers\, Cubs and Scouts
DESCRIPTION:
URL:https://sibfordvillagehall.org.uk/event/pe-40-3/
LOCATION:Main hall
END:VEVENT
BEGIN:VEVENT
DTSTART;TZID=Europe/London:20250124T160000
DTEND;TZID=Europe/London:20250124T173000
DTSTAMP:20260420T092044
CREATED:20250107T183013Z
LAST-MODIFIED:20250107T183013Z
UID:8330-1737734400-1737739800@sibfordvillagehall.org.uk
SUMMARY:Beavers\, Cubs and Scouts
DESCRIPTION:
URL:https://sibfordvillagehall.org.uk/event/pe-39-3/
LOCATION:Main hall
END:VEVENT
BEGIN:VEVENT
DTSTART;TZID=Europe/London:20250124T093000
DTEND;TZID=Europe/London:20250124T113000
DTSTAMP:20260420T092044
CREATED:20250104T183048Z
LAST-MODIFIED:20250104T183048Z
UID:8259-1737711000-1737718200@sibfordvillagehall.org.uk
SUMMARY:Tots and babes
DESCRIPTION:
URL:https://sibfordvillagehall.org.uk/event/tots-and-babes-8-4/
LOCATION:Small hall
END:VEVENT
BEGIN:VEVENT
DTSTART;TZID=Europe/London:20250124T090000
DTEND;TZID=Europe/London:20250124T123000
DTSTAMP:20260420T092044
CREATED:20250111T183025Z
LAST-MODIFIED:20250111T183025Z
UID:8403-1737709200-1737721800@sibfordvillagehall.org.uk
SUMMARY:Private event
DESCRIPTION:
URL:https://sibfordvillagehall.org.uk/event/pe-46-2/
LOCATION:Main hall
END:VEVENT
BEGIN:VEVENT
DTSTART;TZID=Europe/London:20250123T190000
DTEND;TZID=Europe/London:20250123T213000
DTSTAMP:20260420T092044
CREATED:20250113T183015Z
LAST-MODIFIED:20250113T183015Z
UID:8430-1737658800-1737667800@sibfordvillagehall.org.uk
SUMMARY:Sibford Players Drama Group
DESCRIPTION:
URL:https://sibfordvillagehall.org.uk/event/sibford-players-drama-4/
LOCATION:Main hall
END:VEVENT
BEGIN:VEVENT
DTSTART;TZID=Europe/London:20250123T140000
DTEND;TZID=Europe/London:20250123T160000
DTSTAMP:20260420T092044
CREATED:20241215T183011Z
LAST-MODIFIED:20241215T183011Z
UID:8112-1737640800-1737648000@sibfordvillagehall.org.uk
SUMMARY:Warm Hub
DESCRIPTION:Free to attend as kindly sponsored by the Town Estate Charity \nRefreshments available as well as games\, crafts\, books\, puzzles. \nCome and socialise and keep warm in the small hall. \nContact Ginny on 01295 780 373 or ginnybennett@googlemail.com for more information. \nAll welcome!
URL:https://sibfordvillagehall.org.uk/event/warm-hub-2024-5-10/
LOCATION:Small hall
END:VEVENT
BEGIN:VEVENT
DTSTART;TZID=Europe/London:20250122T120000
DTEND;TZID=Europe/London:20250122T143000
DTSTAMP:20260420T092044
CREATED:20250104T183047Z
LAST-MODIFIED:20250104T183047Z
UID:8257-1737547200-1737556200@sibfordvillagehall.org.uk
SUMMARY:Sibford Lunch Club
DESCRIPTION:
URL:https://sibfordvillagehall.org.uk/event/sibford-lunch-club-14-8/
LOCATION:Main hall
END:VEVENT
BEGIN:VEVENT
DTSTART;TZID=Europe/London:20250121T190000
DTEND;TZID=Europe/London:20250121T213000
DTSTAMP:20260420T092044
CREATED:20250109T183012Z
LAST-MODIFIED:20250109T183012Z
UID:8350-1737486000-1737495000@sibfordvillagehall.org.uk
SUMMARY:Bridge Club
DESCRIPTION:
URL:https://sibfordvillagehall.org.uk/event/bridge-club-2/
LOCATION:Small hall
END:VEVENT
BEGIN:VEVENT
DTSTART;TZID=Europe/London:20250120T183000
DTEND;TZID=Europe/London:20250120T193000
DTSTAMP:20260420T092044
CREATED:20250107T183012Z
LAST-MODIFIED:20250107T183012Z
UID:8329-1737397800-1737401400@sibfordvillagehall.org.uk
SUMMARY:Private event
DESCRIPTION:
URL:https://sibfordvillagehall.org.uk/event/pe-41-2/
LOCATION:Main hall
END:VEVENT
BEGIN:VEVENT
DTSTART;TZID=Europe/London:20250119T190000
DTEND;TZID=Europe/London:20250119T210000
DTSTAMP:20260420T092044
CREATED:20250104T183047Z
LAST-MODIFIED:20250104T183047Z
UID:8256-1737313200-1737320400@sibfordvillagehall.org.uk
SUMMARY:Sibford Players Drama Group
DESCRIPTION:
URL:https://sibfordvillagehall.org.uk/event/sibford-players-drama-2-3/
LOCATION:Main hall
END:VEVENT
BEGIN:VEVENT
DTSTART;TZID=Europe/London:20250119T093000
DTEND;TZID=Europe/London:20250119T153000
DTSTAMP:20260420T092044
CREATED:20250102T183010Z
LAST-MODIFIED:20250102T183010Z
UID:8194-1737279000-1737300600@sibfordvillagehall.org.uk
SUMMARY:Private event
DESCRIPTION:
URL:https://sibfordvillagehall.org.uk/event/pe-36/
LOCATION:Main hall
END:VEVENT
BEGIN:VEVENT
DTSTART;TZID=Europe/London:20250118T143000
DTEND;TZID=Europe/London:20250118T143000
DTSTAMP:20260420T092044
CREATED:20250106T183010Z
LAST-MODIFIED:20250106T183010Z
UID:8320-1737210600-1737210600@sibfordvillagehall.org.uk
SUMMARY:Film "Escape from Tibet"
DESCRIPTION:Following the visit of the Tashi Lhunpo monks to Sibford last October\, many people asked if there was a possibility of showing the entire documentary film Escape from Tibet that the director / producer Nick Gray and colleagues so movingly discussed. So here it is! \nNick will be present to introduce the 50-minute film\, made in 1994 for ITV. It is an astonishing\, true record of endurance that follows 11 year-old Tenzin’s efforts to flee the Chinese repression of his homeland\, attempting the most dangerous escape route in the world over the Himalayas\, led by his fearless brother\, Pasang. \nWe’ll be scattering the remains of the monks’ sand mandala on the village hall field before the film\, at about 2pm. \nNo charge\, but a small contribution towards hire of the hall would be appreciated. \nFor more information\, please contact Diana at dianahughesonline@gmail.com \n\nAn astonishing and emotionally gripping film.\nDaily Mail \nBy turns heartbreaking and horrifying … this is documentary making of the highest order.\nThe Independent \nAlthough the conditions for filming this documentary were extremely difficult\, Escape from Tibet accurately conveys the experiences of the refugees. We are grateful to all who made this film possible.\nTempa Tsering. Secretary\, Department of Information and International Relations\, Government of Tibet.
URL:https://sibfordvillagehall.org.uk/event/film-escape-from-tibet/
LOCATION:Main hall
END:VEVENT
BEGIN:VEVENT
DTSTART;TZID=Europe/London:20250118T100000
DTEND;TZID=Europe/London:20250118T120000
DTSTAMP:20260420T092044
CREATED:20241215T183011Z
LAST-MODIFIED:20241215T183011Z
UID:8111-1737194400-1737201600@sibfordvillagehall.org.uk
SUMMARY:Book Swap Café
DESCRIPTION:Welcome to our monthly chance to have coffee/cake and a chat. Browse our large selection of books and borrow any you like. No need to bring a book to swap. No charge. Donations welcome.
URL:https://sibfordvillagehall.org.uk/event/book-swap-cafe-17/
LOCATION:Small hall
END:VEVENT
BEGIN:VEVENT
DTSTART;TZID=Europe/London:20250118T090000
DTEND;TZID=Europe/London:20250118T100000
DTSTAMP:20260420T092044
CREATED:20250111T183025Z
LAST-MODIFIED:20250111T183025Z
UID:8402-1737190800-1737194400@sibfordvillagehall.org.uk
SUMMARY:Private event
DESCRIPTION:
URL:https://sibfordvillagehall.org.uk/event/pe-45-2/
LOCATION:Main hall
END:VEVENT
BEGIN:VEVENT
DTSTART;TZID=Europe/London:20250117T173000
DTEND;TZID=Europe/London:20250117T190000
DTSTAMP:20260420T092044
CREATED:20250107T183012Z
LAST-MODIFIED:20250107T183012Z
UID:8328-1737135000-1737140400@sibfordvillagehall.org.uk
SUMMARY:Beavers\, Cubs and Scouts
DESCRIPTION:
URL:https://sibfordvillagehall.org.uk/event/pe-40-2/
LOCATION:Main hall
END:VEVENT
BEGIN:VEVENT
DTSTART;TZID=Europe/London:20250117T160000
DTEND;TZID=Europe/London:20250117T173000
DTSTAMP:20260420T092044
CREATED:20250107T183012Z
LAST-MODIFIED:20250107T183012Z
UID:8327-1737129600-1737135000@sibfordvillagehall.org.uk
SUMMARY:Beavers\, Cubs and Scouts
DESCRIPTION:
URL:https://sibfordvillagehall.org.uk/event/pe-39-2/
LOCATION:Main hall
END:VEVENT
BEGIN:VEVENT
DTSTART;TZID=Europe/London:20250117T093000
DTEND;TZID=Europe/London:20250117T113000
DTSTAMP:20260420T092044
CREATED:20250104T183046Z
LAST-MODIFIED:20250104T183046Z
UID:8255-1737106200-1737113400@sibfordvillagehall.org.uk
SUMMARY:Tots and babes
DESCRIPTION:
URL:https://sibfordvillagehall.org.uk/event/tots-and-babes-8-3/
LOCATION:Small hall
END:VEVENT
BEGIN:VEVENT
DTSTART;TZID=Europe/London:20250117T090000
DTEND;TZID=Europe/London:20250117T123000
DTSTAMP:20260420T092044
CREATED:20250111T183025Z
LAST-MODIFIED:20250111T183025Z
UID:8401-1737104400-1737117000@sibfordvillagehall.org.uk
SUMMARY:Private event
DESCRIPTION:
URL:https://sibfordvillagehall.org.uk/event/pe-46/
LOCATION:Main hall
END:VEVENT
BEGIN:VEVENT
DTSTART;TZID=Europe/London:20250116T190000
DTEND;TZID=Europe/London:20250116T213000
DTSTAMP:20260420T092044
CREATED:20250104T183046Z
LAST-MODIFIED:20250104T183046Z
UID:8254-1737054000-1737063000@sibfordvillagehall.org.uk
SUMMARY:Sibford Players Drama Group
DESCRIPTION:
URL:https://sibfordvillagehall.org.uk/event/sibford-players-drama-3/
LOCATION:Main hall
END:VEVENT
BEGIN:VEVENT
DTSTART;TZID=Europe/London:20250116T140000
DTEND;TZID=Europe/London:20250116T160000
DTSTAMP:20260420T092044
CREATED:20241215T183011Z
LAST-MODIFIED:20241215T183011Z
UID:8110-1737036000-1737043200@sibfordvillagehall.org.uk
SUMMARY:Warm Hub
DESCRIPTION:Free to attend as kindly sponsored by the Town Estate Charity \nRefreshments available as well as games\, crafts\, books\, puzzles. \nCome and socialise and keep warm in the small hall. \nContact Ginny on 01295 780 373 or ginnybennett@googlemail.com for more information. \nAll welcome!
URL:https://sibfordvillagehall.org.uk/event/warm-hub-2024-5-9/
LOCATION:Small hall
END:VEVENT
BEGIN:VEVENT
DTSTART;TZID=Europe/London:20250116T090000
DTEND;TZID=Europe/London:20250116T110000
DTSTAMP:20260420T092044
CREATED:20250102T183010Z
LAST-MODIFIED:20250102T183010Z
UID:8193-1737018000-1737025200@sibfordvillagehall.org.uk
SUMMARY:Yoga / Chair Yoga
DESCRIPTION:Yoga 9 – 10\, Chair yoga: 10 – 11.
URL:https://sibfordvillagehall.org.uk/event/pe-34-5/
LOCATION:Main hall
END:VEVENT
BEGIN:VEVENT
DTSTART;TZID=Europe/London:20250115T193000
DTEND;TZID=Europe/London:20250115T213000
DTSTAMP:20260420T092044
CREATED:20241031T183007Z
LAST-MODIFIED:20241031T183007Z
UID:7907-1736969400-1736976600@sibfordvillagehall.org.uk
SUMMARY:The Town Estate Charity Trustees Meeting
DESCRIPTION:
URL:https://sibfordvillagehall.org.uk/event/the-town-estate-chari/
LOCATION:Small hall
END:VEVENT
BEGIN:VEVENT
DTSTART;TZID=Europe/London:20250115T120000
DTEND;TZID=Europe/London:20250115T143000
DTSTAMP:20260420T092044
CREATED:20250104T183046Z
LAST-MODIFIED:20250104T183046Z
UID:8253-1736942400-1736951400@sibfordvillagehall.org.uk
SUMMARY:Sibford Lunch Club
DESCRIPTION:
URL:https://sibfordvillagehall.org.uk/event/sibford-lunch-club-14-7/
LOCATION:Main hall
END:VEVENT
BEGIN:VEVENT
DTSTART;TZID=Europe/London:20250114T190000
DTEND;TZID=Europe/London:20250114T210000
DTSTAMP:20260420T092044
CREATED:20250109T183012Z
LAST-MODIFIED:20250109T183012Z
UID:8349-1736881200-1736888400@sibfordvillagehall.org.uk
SUMMARY:Bridge Club
DESCRIPTION:
URL:https://sibfordvillagehall.org.uk/event/bridge-club/
LOCATION:Small hall
END:VEVENT
BEGIN:VEVENT
DTSTART;TZID=Europe/London:20250114T190000
DTEND;TZID=Europe/London:20250114T190000
DTSTAMP:20260420T092044
CREATED:20250111T183024Z
LAST-MODIFIED:20250111T183024Z
UID:8400-1736881200-1736881200@sibfordvillagehall.org.uk
SUMMARY:Sibford Environmental Forum
DESCRIPTION:An open forum to discuss renewables and further environmental improvements in the Sibfords. \nTim Lunel\, one of the founders of Hook Norton Low Carbon will talk about their success in developing an electric car club (open to members here)\, zero carbon housing and other initiatives. \nOf particular interest to us will be the proposed development of Energy Local North Oxfordshire – a renewables microgrid extending from Epwell to Hook Norton via the Sibfords which will allow small-scale generators of solar power to connect to others to create a sustainable low-cost power source at the local level. \nMany Sibford residents are already involved in or considering their own plans to lower emissions and reduce cost\, and the aim of the forum would be to encourage sharing of knowledge and experience and identify one or two projects of community interest which could be developed to general benefit in the short term. \nEveryone is encouraged to attend; there is no formal organising body as yet\, but volunteers are warmly welcome. If you have experience or ideas you would like to talk about or have questions or proposals on the agenda\, please contact Jan Thompson ( janthompson50@hotmail.com 01295 788 751 ) or Stephen Gomersall ( sjgomersall@hotmail.com 01295 788 911 ). \nPlease let Jan or Stephen know by email if you are planning to attend.
URL:https://sibfordvillagehall.org.uk/event/green-energy-forum-wi/
LOCATION:Main hall
END:VEVENT
BEGIN:VEVENT
DTSTART;TZID=Europe/London:20250113T183000
DTEND;TZID=Europe/London:20250113T193000
DTSTAMP:20260420T092044
CREATED:20250107T183011Z
LAST-MODIFIED:20250107T183011Z
UID:8326-1736793000-1736796600@sibfordvillagehall.org.uk
SUMMARY:Private event
DESCRIPTION:
URL:https://sibfordvillagehall.org.uk/event/pe-41/
LOCATION:Main hall
END:VEVENT
BEGIN:VEVENT
DTSTART;TZID=Europe/London:20250113T100000
DTEND;TZID=Europe/London:20250113T110000
DTSTAMP:20260420T092044
CREATED:20250102T183009Z
LAST-MODIFIED:20250102T183009Z
UID:8191-1736762400-1736766000@sibfordvillagehall.org.uk
SUMMARY:Private event
DESCRIPTION:
URL:https://sibfordvillagehall.org.uk/event/pe-33-5/
LOCATION:Main hall
END:VEVENT
END:VCALENDAR