BEGIN:VCALENDAR
VERSION:2.0
PRODID:-//Sibford Village Hall - ECPv6.15.20//NONSGML v1.0//EN
CALSCALE:GREGORIAN
METHOD:PUBLISH
X-WR-CALNAME:Sibford Village Hall
X-ORIGINAL-URL:https://sibfordvillagehall.org.uk
X-WR-CALDESC:Events for Sibford Village Hall
REFRESH-INTERVAL;VALUE=DURATION:PT1H
X-Robots-Tag:noindex
X-PUBLISHED-TTL:PT1H
BEGIN:VTIMEZONE
TZID:Europe/London
BEGIN:DAYLIGHT
TZOFFSETFROM:+0000
TZOFFSETTO:+0100
TZNAME:BST
DTSTART:20220327T010000
END:DAYLIGHT
BEGIN:STANDARD
TZOFFSETFROM:+0100
TZOFFSETTO:+0000
TZNAME:GMT
DTSTART:20221030T010000
END:STANDARD
BEGIN:DAYLIGHT
TZOFFSETFROM:+0000
TZOFFSETTO:+0100
TZNAME:BST
DTSTART:20230326T010000
END:DAYLIGHT
BEGIN:STANDARD
TZOFFSETFROM:+0100
TZOFFSETTO:+0000
TZNAME:GMT
DTSTART:20231029T010000
END:STANDARD
BEGIN:DAYLIGHT
TZOFFSETFROM:+0000
TZOFFSETTO:+0100
TZNAME:BST
DTSTART:20240331T010000
END:DAYLIGHT
BEGIN:STANDARD
TZOFFSETFROM:+0100
TZOFFSETTO:+0000
TZNAME:GMT
DTSTART:20241027T010000
END:STANDARD
END:VTIMEZONE
BEGIN:VEVENT
DTSTART;TZID=Europe/London:20230127T160000
DTEND;TZID=Europe/London:20230127T173000
DTSTAMP:20260423T025105
CREATED:20230112T183107Z
LAST-MODIFIED:20230112T183107Z
UID:3938-1674835200-1674840600@sibfordvillagehall.org.uk
SUMMARY:Beavers
DESCRIPTION:
URL:https://sibfordvillagehall.org.uk/event/beavers-23-3/
LOCATION:Main hall
END:VEVENT
BEGIN:VEVENT
DTSTART;TZID=Europe/London:20230127T133000
DTEND;TZID=Europe/London:20230127T153000
DTSTAMP:20260423T025105
CREATED:20230112T183107Z
LAST-MODIFIED:20230112T183107Z
UID:3937-1674826200-1674833400@sibfordvillagehall.org.uk
SUMMARY:Watercolour painting class
DESCRIPTION:
URL:https://sibfordvillagehall.org.uk/event/watercolour-painting-class-3-4/
LOCATION:Main hall
END:VEVENT
BEGIN:VEVENT
DTSTART;TZID=Europe/London:20230127T093000
DTEND;TZID=Europe/London:20230127T123000
DTSTAMP:20260423T025105
CREATED:20230112T183106Z
LAST-MODIFIED:20230112T183106Z
UID:3936-1674811800-1674822600@sibfordvillagehall.org.uk
SUMMARY:Oil painting class
DESCRIPTION:
URL:https://sibfordvillagehall.org.uk/event/oil-painting-class-22-3/
LOCATION:Main hall
END:VEVENT
BEGIN:VEVENT
DTSTART;TZID=Europe/London:20230127T093000
DTEND;TZID=Europe/London:20230127T113000
DTSTAMP:20260423T025105
CREATED:20230112T183106Z
LAST-MODIFIED:20230112T183106Z
UID:3935-1674811800-1674819000@sibfordvillagehall.org.uk
SUMMARY:Sibford Tots & Babes Group
DESCRIPTION:
URL:https://sibfordvillagehall.org.uk/event/sibford-tots-babes-group-4/
LOCATION:Small hall
END:VEVENT
BEGIN:VEVENT
DTSTART;TZID=Europe/London:20230126T173000
DTEND;TZID=Europe/London:20230126T183000
DTSTAMP:20260423T025105
CREATED:20221130T183024Z
LAST-MODIFIED:20221130T183024Z
UID:3579-1674754200-1674757800@sibfordvillagehall.org.uk
SUMMARY:Sibford Young Performers
DESCRIPTION:
URL:https://sibfordvillagehall.org.uk/event/sibford-young-performers-7-3/
LOCATION:Main hall
END:VEVENT
BEGIN:VEVENT
DTSTART;TZID=Europe/London:20230126T101500
DTEND;TZID=Europe/London:20230126T111500
DTSTAMP:20260423T025105
CREATED:20230115T183012Z
LAST-MODIFIED:20230115T183012Z
UID:4064-1674728100-1674731700@sibfordvillagehall.org.uk
SUMMARY:Chair Yoga
DESCRIPTION:
URL:https://sibfordvillagehall.org.uk/event/chair-yoga-37-3/
LOCATION:Main hall
END:VEVENT
BEGIN:VEVENT
DTSTART;TZID=Europe/London:20230126T090000
DTEND;TZID=Europe/London:20230126T100000
DTSTAMP:20260423T025105
CREATED:20230115T183012Z
LAST-MODIFIED:20230115T183012Z
UID:4063-1674723600-1674727200@sibfordvillagehall.org.uk
SUMMARY:Flow Yoga
DESCRIPTION:
URL:https://sibfordvillagehall.org.uk/event/flow-yoga-6-3/
LOCATION:Main hall
END:VEVENT
BEGIN:VEVENT
DTSTART;TZID=Europe/London:20230125T193000
DTEND;TZID=Europe/London:20230125T210000
DTSTAMP:20260423T025105
CREATED:20230122T183008Z
LAST-MODIFIED:20230122T183008Z
UID:4187-1674675000-1674680400@sibfordvillagehall.org.uk
SUMMARY:Village Hall Trustees Meeting
DESCRIPTION:
URL:https://sibfordvillagehall.org.uk/event/village-hall-trustees-meeting-13/
LOCATION:Main hall
END:VEVENT
BEGIN:VEVENT
DTSTART;TZID=Europe/London:20230125T120000
DTEND;TZID=Europe/London:20230125T143000
DTSTAMP:20260423T025105
CREATED:20221130T183024Z
LAST-MODIFIED:20221130T183024Z
UID:3577-1674648000-1674657000@sibfordvillagehall.org.uk
SUMMARY:Sibford Lunch Club
DESCRIPTION:
URL:https://sibfordvillagehall.org.uk/event/sibford-lunch-club-10-4/
LOCATION:Main hall
END:VEVENT
BEGIN:VEVENT
DTSTART;TZID=Europe/London:20230124T190000
DTEND;TZID=Europe/London:20230124T200000
DTSTAMP:20260423T025105
CREATED:20230110T183016Z
LAST-MODIFIED:20230110T183016Z
UID:3876-1674586800-1674590400@sibfordvillagehall.org.uk
SUMMARY:Yogalates
DESCRIPTION:
URL:https://sibfordvillagehall.org.uk/event/yogalates-3/
LOCATION:Main hall
END:VEVENT
BEGIN:VEVENT
DTSTART;TZID=Europe/London:20230124T090000
DTEND;TZID=Europe/London:20230124T100000
DTSTAMP:20260423T025105
CREATED:20230112T183105Z
LAST-MODIFIED:20230112T183105Z
UID:3932-1674550800-1674554400@sibfordvillagehall.org.uk
SUMMARY:Slow and gentle Yoga
DESCRIPTION:
URL:https://sibfordvillagehall.org.uk/event/slow-and-gentle-yoga-7-3/
LOCATION:Main hall
END:VEVENT
BEGIN:VEVENT
DTSTART;TZID=Europe/London:20230123T183000
DTEND;TZID=Europe/London:20230123T193000
DTSTAMP:20260423T025105
CREATED:20230112T183105Z
LAST-MODIFIED:20230112T183105Z
UID:3931-1674498600-1674502200@sibfordvillagehall.org.uk
SUMMARY:Karate
DESCRIPTION:
URL:https://sibfordvillagehall.org.uk/event/karate-19-3/
LOCATION:Main hall
END:VEVENT
BEGIN:VEVENT
DTSTART;TZID=Europe/London:20230121T090000
DTEND;TZID=Europe/London:20230121T100000
DTSTAMP:20260423T025105
CREATED:20230115T183012Z
LAST-MODIFIED:20230115T183012Z
UID:4062-1674291600-1674295200@sibfordvillagehall.org.uk
SUMMARY:Karate
DESCRIPTION:
URL:https://sibfordvillagehall.org.uk/event/karate-18-3/
LOCATION:Main hall
END:VEVENT
BEGIN:VEVENT
DTSTART;TZID=Europe/London:20230120T173000
DTEND;TZID=Europe/London:20230120T190000
DTSTAMP:20260423T025105
CREATED:20230112T183105Z
LAST-MODIFIED:20230112T183105Z
UID:3929-1674235800-1674241200@sibfordvillagehall.org.uk
SUMMARY:Cubs
DESCRIPTION:
URL:https://sibfordvillagehall.org.uk/event/cubs-25-2/
LOCATION:Main hall
END:VEVENT
BEGIN:VEVENT
DTSTART;TZID=Europe/London:20230120T160000
DTEND;TZID=Europe/London:20230120T173000
DTSTAMP:20260423T025105
CREATED:20230112T183104Z
LAST-MODIFIED:20230112T183104Z
UID:3928-1674230400-1674235800@sibfordvillagehall.org.uk
SUMMARY:Beavers
DESCRIPTION:
URL:https://sibfordvillagehall.org.uk/event/beavers-23-2/
LOCATION:Main hall
END:VEVENT
BEGIN:VEVENT
DTSTART;TZID=Europe/London:20230120T133000
DTEND;TZID=Europe/London:20230120T153000
DTSTAMP:20260423T025105
CREATED:20230112T183104Z
LAST-MODIFIED:20230112T183104Z
UID:3927-1674221400-1674228600@sibfordvillagehall.org.uk
SUMMARY:Watercolour painting class
DESCRIPTION:
URL:https://sibfordvillagehall.org.uk/event/watercolour-painting-class-3-3/
LOCATION:Main hall
END:VEVENT
BEGIN:VEVENT
DTSTART;TZID=Europe/London:20230120T093000
DTEND;TZID=Europe/London:20230120T123000
DTSTAMP:20260423T025105
CREATED:20230112T183104Z
LAST-MODIFIED:20230112T183104Z
UID:3926-1674207000-1674217800@sibfordvillagehall.org.uk
SUMMARY:Oil painting class
DESCRIPTION:
URL:https://sibfordvillagehall.org.uk/event/oil-painting-class-22-2/
LOCATION:Main hall
END:VEVENT
BEGIN:VEVENT
DTSTART;TZID=Europe/London:20230120T093000
DTEND;TZID=Europe/London:20230120T113000
DTSTAMP:20260423T025105
CREATED:20230112T183104Z
LAST-MODIFIED:20230112T183104Z
UID:3925-1674207000-1674214200@sibfordvillagehall.org.uk
SUMMARY:Sibford Tots & Babes Group
DESCRIPTION:
URL:https://sibfordvillagehall.org.uk/event/sibford-tots-babes-group-3/
LOCATION:Small hall
END:VEVENT
BEGIN:VEVENT
DTSTART;TZID=Europe/London:20230119T173000
DTEND;TZID=Europe/London:20230119T183000
DTSTAMP:20260423T025105
CREATED:20221130T183022Z
LAST-MODIFIED:20221130T183022Z
UID:3570-1674149400-1674153000@sibfordvillagehall.org.uk
SUMMARY:Sibford Young Performers
DESCRIPTION:
URL:https://sibfordvillagehall.org.uk/event/sibford-young-performers-7-2/
LOCATION:Main hall
END:VEVENT
BEGIN:VEVENT
DTSTART;TZID=Europe/London:20230119T101500
DTEND;TZID=Europe/London:20230119T111500
DTSTAMP:20260423T025105
CREATED:20230115T183012Z
LAST-MODIFIED:20230115T183012Z
UID:4061-1674123300-1674126900@sibfordvillagehall.org.uk
SUMMARY:Chair Yoga
DESCRIPTION:
URL:https://sibfordvillagehall.org.uk/event/chair-yoga-37-2/
LOCATION:Main hall
END:VEVENT
BEGIN:VEVENT
DTSTART;TZID=Europe/London:20230119T090000
DTEND;TZID=Europe/London:20230119T100000
DTSTAMP:20260423T025105
CREATED:20230115T183011Z
LAST-MODIFIED:20230115T183011Z
UID:4060-1674118800-1674122400@sibfordvillagehall.org.uk
SUMMARY:Flow Yoga
DESCRIPTION:
URL:https://sibfordvillagehall.org.uk/event/flow-yoga-6-2/
LOCATION:Main hall
END:VEVENT
BEGIN:VEVENT
DTSTART;TZID=Europe/London:20230118T193000
DTEND;TZID=Europe/London:20230118T223000
DTSTAMP:20260423T025105
CREATED:20230112T183103Z
LAST-MODIFIED:20230112T183103Z
UID:3922-1674070200-1674081000@sibfordvillagehall.org.uk
SUMMARY:Town Estate Charity meeting
DESCRIPTION:
URL:https://sibfordvillagehall.org.uk/event/town-estate-charity-meeting-2/
LOCATION:Main hall
END:VEVENT
BEGIN:VEVENT
DTSTART;TZID=Europe/London:20230118T190000
DTEND;TZID=Europe/London:20230118T203000
DTSTAMP:20260423T025105
CREATED:20230113T183017Z
LAST-MODIFIED:20230113T183017Z
UID:4019-1674068400-1674073800@sibfordvillagehall.org.uk
SUMMARY:Sibford Gower Parish Council Meeting
DESCRIPTION:SGPC Agenda 18.01.23 \nSGPC Final Draft Budget 202324
URL:https://sibfordvillagehall.org.uk/event/sibford-gower-parish-council-meeting-17/
LOCATION:Small hall
END:VEVENT
BEGIN:VEVENT
DTSTART;TZID=Europe/London:20230118T120000
DTEND;TZID=Europe/London:20230118T143000
DTSTAMP:20260423T025105
CREATED:20221130T183022Z
LAST-MODIFIED:20221130T183022Z
UID:3568-1674043200-1674052200@sibfordvillagehall.org.uk
SUMMARY:Sibford Lunch Club
DESCRIPTION:
URL:https://sibfordvillagehall.org.uk/event/sibford-lunch-club-10-3/
LOCATION:Main hall
END:VEVENT
BEGIN:VEVENT
DTSTART;TZID=Europe/London:20230117T190000
DTEND;TZID=Europe/London:20230117T200000
DTSTAMP:20260423T025105
CREATED:20230110T183016Z
LAST-MODIFIED:20230110T183016Z
UID:3873-1673982000-1673985600@sibfordvillagehall.org.uk
SUMMARY:Yogalates
DESCRIPTION:
URL:https://sibfordvillagehall.org.uk/event/yogalates-2/
LOCATION:Main hall
END:VEVENT
BEGIN:VEVENT
DTSTART;TZID=Europe/London:20230117T120000
DTEND;TZID=Europe/London:20230117T160000
DTSTAMP:20260423T025105
CREATED:20221123T183022Z
LAST-MODIFIED:20221123T183022Z
UID:3465-1673956800-1673971200@sibfordvillagehall.org.uk
SUMMARY:Model railway group
DESCRIPTION:
URL:https://sibfordvillagehall.org.uk/event/private-hire-84/
LOCATION:Main hall
END:VEVENT
BEGIN:VEVENT
DTSTART;TZID=Europe/London:20230117T090000
DTEND;TZID=Europe/London:20230117T100000
DTSTAMP:20260423T025105
CREATED:20230112T183103Z
LAST-MODIFIED:20230112T183103Z
UID:3921-1673946000-1673949600@sibfordvillagehall.org.uk
SUMMARY:Slow and gentle Yoga
DESCRIPTION:
URL:https://sibfordvillagehall.org.uk/event/slow-and-gentle-yoga-7-2/
LOCATION:Main hall
END:VEVENT
BEGIN:VEVENT
DTSTART;TZID=Europe/London:20230116T183000
DTEND;TZID=Europe/London:20230116T193000
DTSTAMP:20260423T025105
CREATED:20230112T183102Z
LAST-MODIFIED:20230112T183102Z
UID:3920-1673893800-1673897400@sibfordvillagehall.org.uk
SUMMARY:Karate
DESCRIPTION:
URL:https://sibfordvillagehall.org.uk/event/karate-19-2/
LOCATION:Main hall
END:VEVENT
BEGIN:VEVENT
DTSTART;TZID=Europe/London:20230114T090000
DTEND;TZID=Europe/London:20230114T100000
DTSTAMP:20260423T025105
CREATED:20230112T183102Z
LAST-MODIFIED:20230112T183102Z
UID:3919-1673686800-1673690400@sibfordvillagehall.org.uk
SUMMARY:Karate
DESCRIPTION:
URL:https://sibfordvillagehall.org.uk/event/karate-18-2/
LOCATION:Main hall
END:VEVENT
BEGIN:VEVENT
DTSTART;TZID=Europe/London:20230113T173000
DTEND;TZID=Europe/London:20230113T190000
DTSTAMP:20260423T025105
CREATED:20230112T183102Z
LAST-MODIFIED:20230112T183102Z
UID:3918-1673631000-1673636400@sibfordvillagehall.org.uk
SUMMARY:Scouts
DESCRIPTION:
URL:https://sibfordvillagehall.org.uk/event/scouts-25/
LOCATION:Small hall
END:VEVENT
END:VCALENDAR