BEGIN:VCALENDAR
VERSION:2.0
PRODID:-//Sibford Village Hall - ECPv6.15.20//NONSGML v1.0//EN
CALSCALE:GREGORIAN
METHOD:PUBLISH
X-WR-CALNAME:Sibford Village Hall
X-ORIGINAL-URL:https://sibfordvillagehall.org.uk
X-WR-CALDESC:Events for Sibford Village Hall
REFRESH-INTERVAL;VALUE=DURATION:PT1H
X-Robots-Tag:noindex
X-PUBLISHED-TTL:PT1H
BEGIN:VTIMEZONE
TZID:Europe/London
BEGIN:DAYLIGHT
TZOFFSETFROM:+0000
TZOFFSETTO:+0100
TZNAME:BST
DTSTART:20210328T010000
END:DAYLIGHT
BEGIN:STANDARD
TZOFFSETFROM:+0100
TZOFFSETTO:+0000
TZNAME:GMT
DTSTART:20211031T010000
END:STANDARD
BEGIN:DAYLIGHT
TZOFFSETFROM:+0000
TZOFFSETTO:+0100
TZNAME:BST
DTSTART:20220327T010000
END:DAYLIGHT
BEGIN:STANDARD
TZOFFSETFROM:+0100
TZOFFSETTO:+0000
TZNAME:GMT
DTSTART:20221030T010000
END:STANDARD
BEGIN:DAYLIGHT
TZOFFSETFROM:+0000
TZOFFSETTO:+0100
TZNAME:BST
DTSTART:20230326T010000
END:DAYLIGHT
BEGIN:STANDARD
TZOFFSETFROM:+0100
TZOFFSETTO:+0000
TZNAME:GMT
DTSTART:20231029T010000
END:STANDARD
END:VTIMEZONE
BEGIN:VEVENT
DTSTART;TZID=Europe/London:20221215T101500
DTEND;TZID=Europe/London:20221215T110500
DTSTAMP:20260423T041624
CREATED:20220820T183024Z
LAST-MODIFIED:20220820T183024Z
UID:2850-1671099300-1671102300@sibfordvillagehall.org.uk
SUMMARY:Chair Yoga
DESCRIPTION:
URL:https://sibfordvillagehall.org.uk/event/chair-yoga-36-7/
LOCATION:Main hall
END:VEVENT
BEGIN:VEVENT
DTSTART;TZID=Europe/London:20221215T090000
DTEND;TZID=Europe/London:20221215T100000
DTSTAMP:20260423T041624
CREATED:20220820T183024Z
LAST-MODIFIED:20220820T183024Z
UID:2849-1671094800-1671098400@sibfordvillagehall.org.uk
SUMMARY:Flow Yoga
DESCRIPTION:
URL:https://sibfordvillagehall.org.uk/event/flow-yoga-5-7/
LOCATION:Main hall
END:VEVENT
BEGIN:VEVENT
DTSTART;TZID=Europe/London:20221214T180000
DTEND;TZID=Europe/London:20221214T200000
DTSTAMP:20260423T041624
CREATED:20221214T183013Z
LAST-MODIFIED:20221214T183013Z
UID:3717-1671040800-1671048000@sibfordvillagehall.org.uk
SUMMARY:CPR training CANCELLED
DESCRIPTION:CANCELLED DUE TO INCLEMENT WEATHER CONDITIONS
URL:https://sibfordvillagehall.org.uk/event/cpr-training-tbc-2/
LOCATION:Main hall
END:VEVENT
BEGIN:VEVENT
DTSTART;TZID=Europe/London:20221214T120000
DTEND;TZID=Europe/London:20221214T143000
DTSTAMP:20260423T041624
CREATED:20221108T183022Z
LAST-MODIFIED:20221108T183022Z
UID:3356-1671019200-1671028200@sibfordvillagehall.org.uk
SUMMARY:Sibford Lunch Club
DESCRIPTION:
URL:https://sibfordvillagehall.org.uk/event/sibford-lunch-club-8-32/
LOCATION:Main hall
END:VEVENT
BEGIN:VEVENT
DTSTART;TZID=Europe/London:20221213T090000
DTEND;TZID=Europe/London:20221213T100000
DTSTAMP:20260423T041624
CREATED:20220820T183023Z
LAST-MODIFIED:20220820T183023Z
UID:2848-1670922000-1670925600@sibfordvillagehall.org.uk
SUMMARY:Slow and Gentle Yoga
DESCRIPTION:
URL:https://sibfordvillagehall.org.uk/event/slow-and-gentle-yoga-6-7/
LOCATION:Main hall
END:VEVENT
BEGIN:VEVENT
DTSTART;TZID=Europe/London:20221212T183000
DTEND;TZID=Europe/London:20221212T193000
DTSTAMP:20260423T041624
CREATED:20221129T183016Z
LAST-MODIFIED:20221129T183016Z
UID:3529-1670869800-1670873400@sibfordvillagehall.org.uk
SUMMARY:Karate
DESCRIPTION:
URL:https://sibfordvillagehall.org.uk/event/karate-16-9/
LOCATION:Main hall
END:VEVENT
BEGIN:VEVENT
DTSTART;TZID=Europe/London:20221211T150000
DTEND;TZID=Europe/London:20221211T170000
DTSTAMP:20260423T041624
CREATED:20221206T183016Z
LAST-MODIFIED:20221206T183016Z
UID:3673-1670770800-1670778000@sibfordvillagehall.org.uk
SUMMARY:Film show
DESCRIPTION:After inheriting a farm at Christmastime\, a widowed father makes a bumpy adjustment to village life — while his kids hatch a plan to stay there forever. \nCome and see the film that Netflix made around the Sibfords and neighbouring villages\, featuring the Wykham Arms and Primary School. \nLicensed bar / snacks available    Free entry \nDoors open at 2.30pm \nChristmas on Mistletoe Farm
URL:https://sibfordvillagehall.org.uk/event/christmas-on-mistletoe-farm/
LOCATION:Main hall
END:VEVENT
BEGIN:VEVENT
DTSTART;TZID=Europe/London:20221210T130000
DTEND;TZID=Europe/London:20221210T170000
DTSTAMP:20260423T041624
CREATED:20221129T183015Z
LAST-MODIFIED:20221129T183015Z
UID:3528-1670677200-1670691600@sibfordvillagehall.org.uk
SUMMARY:Private hire
DESCRIPTION:
URL:https://sibfordvillagehall.org.uk/event/private-hire-85/
LOCATION:Main hall
END:VEVENT
BEGIN:VEVENT
DTSTART;TZID=Europe/London:20221210T090000
DTEND;TZID=Europe/London:20221210T100000
DTSTAMP:20260423T041624
CREATED:20221129T183015Z
LAST-MODIFIED:20221129T183015Z
UID:3527-1670662800-1670666400@sibfordvillagehall.org.uk
SUMMARY:Karate
DESCRIPTION:
URL:https://sibfordvillagehall.org.uk/event/karate-15-15/
LOCATION:Main hall
END:VEVENT
BEGIN:VEVENT
DTSTART;TZID=Europe/London:20221209T173000
DTEND;TZID=Europe/London:20221209T190000
DTSTAMP:20260423T041624
CREATED:20221206T183016Z
LAST-MODIFIED:20221206T183016Z
UID:3672-1670607000-1670612400@sibfordvillagehall.org.uk
SUMMARY:Scouts
DESCRIPTION:
URL:https://sibfordvillagehall.org.uk/event/scouts-24-4/
LOCATION:Small hall
END:VEVENT
BEGIN:VEVENT
DTSTART;TZID=Europe/London:20221209T173000
DTEND;TZID=Europe/London:20221209T190000
DTSTAMP:20260423T041624
CREATED:20221031T183019Z
LAST-MODIFIED:20221031T183019Z
UID:3320-1670607000-1670612400@sibfordvillagehall.org.uk
SUMMARY:Cubs
DESCRIPTION:
URL:https://sibfordvillagehall.org.uk/event/cubs-24-5/
LOCATION:Main hall
END:VEVENT
BEGIN:VEVENT
DTSTART;TZID=Europe/London:20221209T160000
DTEND;TZID=Europe/London:20221209T173000
DTSTAMP:20260423T041624
CREATED:20221031T183019Z
LAST-MODIFIED:20221031T183019Z
UID:3319-1670601600-1670607000@sibfordvillagehall.org.uk
SUMMARY:Beavers
DESCRIPTION:
URL:https://sibfordvillagehall.org.uk/event/beavers-22-5/
LOCATION:Main hall
END:VEVENT
BEGIN:VEVENT
DTSTART;TZID=Europe/London:20221209T133000
DTEND;TZID=Europe/London:20221209T153000
DTSTAMP:20260423T041624
CREATED:20221128T183019Z
LAST-MODIFIED:20221128T183019Z
UID:3505-1670592600-1670599800@sibfordvillagehall.org.uk
SUMMARY:Watercolour Painting Class
DESCRIPTION:
URL:https://sibfordvillagehall.org.uk/event/watercolour-painting-class-2-11/
LOCATION:Main hall
END:VEVENT
BEGIN:VEVENT
DTSTART;TZID=Europe/London:20221209T093000
DTEND;TZID=Europe/London:20221209T123000
DTSTAMP:20260423T041624
CREATED:20221128T183019Z
LAST-MODIFIED:20221128T183019Z
UID:3504-1670578200-1670589000@sibfordvillagehall.org.uk
SUMMARY:Oil Painting Class
DESCRIPTION:
URL:https://sibfordvillagehall.org.uk/event/oil-painting-class-20-10/
LOCATION:Main hall
END:VEVENT
BEGIN:VEVENT
DTSTART;TZID=Europe/London:20221209T093000
DTEND;TZID=Europe/London:20221209T113000
DTSTAMP:20260423T041624
CREATED:20221022T183013Z
LAST-MODIFIED:20221022T183013Z
UID:3255-1670578200-1670585400@sibfordvillagehall.org.uk
SUMMARY:Sibford Tots and Babes Group
DESCRIPTION:
URL:https://sibfordvillagehall.org.uk/event/sibford-tots-and-babes-group-4-12/
LOCATION:Small hall
END:VEVENT
BEGIN:VEVENT
DTSTART;TZID=Europe/London:20221208T173000
DTEND;TZID=Europe/London:20221208T183000
DTSTAMP:20260423T041624
CREATED:20220821T183018Z
LAST-MODIFIED:20220821T183018Z
UID:2870-1670520600-1670524200@sibfordvillagehall.org.uk
SUMMARY:Sibford Young Performers
DESCRIPTION:
URL:https://sibfordvillagehall.org.uk/event/sibford-young-performers-6-12/
LOCATION:Main hall
END:VEVENT
BEGIN:VEVENT
DTSTART;TZID=Europe/London:20221208T101500
DTEND;TZID=Europe/London:20221208T110500
DTSTAMP:20260423T041624
CREATED:20220820T183023Z
LAST-MODIFIED:20220820T183023Z
UID:2847-1670494500-1670497500@sibfordvillagehall.org.uk
SUMMARY:Chair Yoga
DESCRIPTION:
URL:https://sibfordvillagehall.org.uk/event/chair-yoga-36-6/
LOCATION:Main hall
END:VEVENT
BEGIN:VEVENT
DTSTART;TZID=Europe/London:20221208T090000
DTEND;TZID=Europe/London:20221208T100000
DTSTAMP:20260423T041624
CREATED:20220820T183023Z
LAST-MODIFIED:20220820T183023Z
UID:2846-1670490000-1670493600@sibfordvillagehall.org.uk
SUMMARY:Flow Yoga
DESCRIPTION:
URL:https://sibfordvillagehall.org.uk/event/flow-yoga-5-6/
LOCATION:Main hall
END:VEVENT
BEGIN:VEVENT
DTSTART;TZID=Europe/London:20221207T120000
DTEND;TZID=Europe/London:20221207T143000
DTSTAMP:20260423T041624
CREATED:20221108T183022Z
LAST-MODIFIED:20221108T183022Z
UID:3355-1670414400-1670423400@sibfordvillagehall.org.uk
SUMMARY:Sibford Lunch Club
DESCRIPTION:
URL:https://sibfordvillagehall.org.uk/event/sibford-lunch-club-8-31/
LOCATION:Main hall
END:VEVENT
BEGIN:VEVENT
DTSTART;TZID=Europe/London:20221206T090000
DTEND;TZID=Europe/London:20221206T100000
DTSTAMP:20260423T041624
CREATED:20220820T183023Z
LAST-MODIFIED:20220820T183023Z
UID:2845-1670317200-1670320800@sibfordvillagehall.org.uk
SUMMARY:Slow and Gentle Yoga
DESCRIPTION:
URL:https://sibfordvillagehall.org.uk/event/slow-and-gentle-yoga-6-6/
LOCATION:Main hall
END:VEVENT
BEGIN:VEVENT
DTSTART;TZID=Europe/London:20221205T183000
DTEND;TZID=Europe/London:20221205T193000
DTSTAMP:20260423T041624
CREATED:20221129T183015Z
LAST-MODIFIED:20221129T183015Z
UID:3526-1670265000-1670268600@sibfordvillagehall.org.uk
SUMMARY:Karate
DESCRIPTION:
URL:https://sibfordvillagehall.org.uk/event/karate-16-8/
LOCATION:Main hall
END:VEVENT
BEGIN:VEVENT
DTSTART;TZID=Europe/London:20221203T090000
DTEND;TZID=Europe/London:20221203T100000
DTSTAMP:20260423T041624
CREATED:20221129T183015Z
LAST-MODIFIED:20221129T183015Z
UID:3525-1670058000-1670061600@sibfordvillagehall.org.uk
SUMMARY:Karate
DESCRIPTION:
URL:https://sibfordvillagehall.org.uk/event/karate-15-14/
LOCATION:Main hall
END:VEVENT
BEGIN:VEVENT
DTSTART;TZID=Europe/London:20221202T173000
DTEND;TZID=Europe/London:20221202T190000
DTSTAMP:20260423T041624
CREATED:20221031T183019Z
LAST-MODIFIED:20221031T183019Z
UID:3318-1670002200-1670007600@sibfordvillagehall.org.uk
SUMMARY:Cubs
DESCRIPTION:
URL:https://sibfordvillagehall.org.uk/event/cubs-24-4/
LOCATION:Main hall
END:VEVENT
BEGIN:VEVENT
DTSTART;TZID=Europe/London:20221202T160000
DTEND;TZID=Europe/London:20221202T173000
DTSTAMP:20260423T041624
CREATED:20221031T183019Z
LAST-MODIFIED:20221031T183019Z
UID:3317-1669996800-1670002200@sibfordvillagehall.org.uk
SUMMARY:Beavers
DESCRIPTION:
URL:https://sibfordvillagehall.org.uk/event/beavers-22-4/
LOCATION:Main hall
END:VEVENT
BEGIN:VEVENT
DTSTART;TZID=Europe/London:20221202T093000
DTEND;TZID=Europe/London:20221202T113000
DTSTAMP:20260423T041624
CREATED:20221022T183013Z
LAST-MODIFIED:20221022T183013Z
UID:3254-1669973400-1669980600@sibfordvillagehall.org.uk
SUMMARY:Sibford Tots and Babes Group
DESCRIPTION:
URL:https://sibfordvillagehall.org.uk/event/sibford-tots-and-babes-group-4-11/
LOCATION:Small hall
END:VEVENT
BEGIN:VEVENT
DTSTART;TZID=Europe/London:20221201T173000
DTEND;TZID=Europe/London:20221201T183000
DTSTAMP:20260423T041624
CREATED:20220821T183018Z
LAST-MODIFIED:20220821T183018Z
UID:2869-1669915800-1669919400@sibfordvillagehall.org.uk
SUMMARY:Sibford Young Performers
DESCRIPTION:
URL:https://sibfordvillagehall.org.uk/event/sibford-young-performers-6-11/
LOCATION:Main hall
END:VEVENT
BEGIN:VEVENT
DTSTART;TZID=Europe/London:20221201T101500
DTEND;TZID=Europe/London:20221201T110500
DTSTAMP:20260423T041624
CREATED:20220820T183023Z
LAST-MODIFIED:20220820T183023Z
UID:2844-1669889700-1669892700@sibfordvillagehall.org.uk
SUMMARY:Chair Yoga
DESCRIPTION:
URL:https://sibfordvillagehall.org.uk/event/chair-yoga-36-5/
LOCATION:Main hall
END:VEVENT
BEGIN:VEVENT
DTSTART;TZID=Europe/London:20221201T090000
DTEND;TZID=Europe/London:20221201T100000
DTSTAMP:20260423T041624
CREATED:20220820T183022Z
LAST-MODIFIED:20220820T183022Z
UID:2843-1669885200-1669888800@sibfordvillagehall.org.uk
SUMMARY:Flow Yoga
DESCRIPTION:
URL:https://sibfordvillagehall.org.uk/event/flow-yoga-5-5/
LOCATION:Main hall
END:VEVENT
BEGIN:VEVENT
DTSTART;TZID=Europe/London:20221130T183000
DTEND;TZID=Europe/London:20221130T213000
DTSTAMP:20260423T041624
CREATED:20221129T183015Z
LAST-MODIFIED:20221129T183015Z
UID:3524-1669833000-1669843800@sibfordvillagehall.org.uk
SUMMARY:Broughton Castle - What's not in the Guidebook
DESCRIPTION:Martin Fiennes\, owner of our best-loved local castle\, will tell us fascinating and moving stories about his home and family. \nAll seats are now taken\, but there is a waiting list. Contact Sue for more information: sebannister@gmail.com \nAll proceeds to The Mulberry Bush. Julie Gomersall writes: \n\nThe Mulberry Bush transforms the lives of children. The Mulberry Bush School is at the heart of their work\, offering residential care and education to children aged 5 -13 who have suffered early years trauma and have severe social\, emotional and mental health difficulties. It would be wonderful if we could do something meaningful to help change young lives. The children Sue Bannister and I met have had such an impact on us. \n\nThe talk is taking place during the Big Give’s Christmas Challenge week\, when donations are doubled by commercial and other sponsors.
URL:https://sibfordvillagehall.org.uk/event/mulberry-talk/
LOCATION:Main hall
END:VEVENT
BEGIN:VEVENT
DTSTART;TZID=Europe/London:20221130T120000
DTEND;TZID=Europe/London:20221130T143000
DTSTAMP:20260423T041624
CREATED:20221108T183022Z
LAST-MODIFIED:20221108T183022Z
UID:3354-1669809600-1669818600@sibfordvillagehall.org.uk
SUMMARY:Sibford Lunch Club
DESCRIPTION:
URL:https://sibfordvillagehall.org.uk/event/sibford-lunch-club-8-30/
LOCATION:Main hall
END:VEVENT
END:VCALENDAR