BEGIN:VCALENDAR
VERSION:2.0
PRODID:-//Sibford Village Hall - ECPv6.15.20//NONSGML v1.0//EN
CALSCALE:GREGORIAN
METHOD:PUBLISH
X-WR-CALNAME:Sibford Village Hall
X-ORIGINAL-URL:https://sibfordvillagehall.org.uk
X-WR-CALDESC:Events for Sibford Village Hall
REFRESH-INTERVAL;VALUE=DURATION:PT1H
X-Robots-Tag:noindex
X-PUBLISHED-TTL:PT1H
BEGIN:VTIMEZONE
TZID:Europe/London
BEGIN:DAYLIGHT
TZOFFSETFROM:+0000
TZOFFSETTO:+0100
TZNAME:BST
DTSTART:20240331T010000
END:DAYLIGHT
BEGIN:STANDARD
TZOFFSETFROM:+0100
TZOFFSETTO:+0000
TZNAME:GMT
DTSTART:20241027T010000
END:STANDARD
BEGIN:DAYLIGHT
TZOFFSETFROM:+0000
TZOFFSETTO:+0100
TZNAME:BST
DTSTART:20250330T010000
END:DAYLIGHT
BEGIN:STANDARD
TZOFFSETFROM:+0100
TZOFFSETTO:+0000
TZNAME:GMT
DTSTART:20251026T010000
END:STANDARD
BEGIN:DAYLIGHT
TZOFFSETFROM:+0000
TZOFFSETTO:+0100
TZNAME:BST
DTSTART:20260329T010000
END:DAYLIGHT
BEGIN:STANDARD
TZOFFSETFROM:+0100
TZOFFSETTO:+0000
TZNAME:GMT
DTSTART:20261025T010000
END:STANDARD
END:VTIMEZONE
BEGIN:VEVENT
DTSTART;TZID=Europe/London:20250212T170000
DTEND;TZID=Europe/London:20250212T210000
DTSTAMP:20260420T044608
CREATED:20250109T183014Z
LAST-MODIFIED:20250109T183014Z
UID:8355-1739379600-1739394000@sibfordvillagehall.org.uk
SUMMARY:Private event
DESCRIPTION:
URL:https://sibfordvillagehall.org.uk/event/pe-42/
LOCATION:Main hall
END:VEVENT
BEGIN:VEVENT
DTSTART;TZID=Europe/London:20250212T120000
DTEND;TZID=Europe/London:20250212T143000
DTSTAMP:20260420T044608
CREATED:20250104T183050Z
LAST-MODIFIED:20250104T183050Z
UID:8267-1739361600-1739370600@sibfordvillagehall.org.uk
SUMMARY:Sibford Lunch Club
DESCRIPTION:
URL:https://sibfordvillagehall.org.uk/event/sibford-lunch-club-14-11/
LOCATION:Main hall
END:VEVENT
BEGIN:VEVENT
DTSTART;TZID=Europe/London:20250211T190000
DTEND;TZID=Europe/London:20250211T213000
DTSTAMP:20260420T044608
CREATED:20250109T183014Z
LAST-MODIFIED:20250109T183014Z
UID:8354-1739300400-1739309400@sibfordvillagehall.org.uk
SUMMARY:Bridge Club
DESCRIPTION:
URL:https://sibfordvillagehall.org.uk/event/bridge-club-2-3/
LOCATION:Small hall
END:VEVENT
BEGIN:VEVENT
DTSTART;TZID=Europe/London:20250210T193000
DTEND;TZID=Europe/London:20250210T210000
DTSTAMP:20260420T044608
CREATED:20250130T183005Z
LAST-MODIFIED:20250130T183005Z
UID:8447-1739215800-1739221200@sibfordvillagehall.org.uk
SUMMARY:Singing Group
DESCRIPTION:
URL:https://sibfordvillagehall.org.uk/event/singing-group/
LOCATION:Main hall
END:VEVENT
BEGIN:VEVENT
DTSTART;TZID=Europe/London:20250210T183000
DTEND;TZID=Europe/London:20250210T193000
DTSTAMP:20260420T044608
CREATED:20250208T183005Z
LAST-MODIFIED:20250208T183005Z
UID:8473-1739212200-1739215800@sibfordvillagehall.org.uk
SUMMARY:Private event
DESCRIPTION:
URL:https://sibfordvillagehall.org.uk/event/pe-55/
LOCATION:Main hall
END:VEVENT
BEGIN:VEVENT
DTSTART;TZID=Europe/London:20250210T100000
DTEND;TZID=Europe/London:20250210T110000
DTSTAMP:20260420T044608
CREATED:20250202T183005Z
LAST-MODIFIED:20250202T183005Z
UID:8465-1739181600-1739185200@sibfordvillagehall.org.uk
SUMMARY:Chair Yoga
DESCRIPTION:
URL:https://sibfordvillagehall.org.uk/event/pe-33-7/
LOCATION:Main hall
END:VEVENT
BEGIN:VEVENT
DTSTART;TZID=Europe/London:20250209T100000
DTEND;TZID=Europe/London:20250209T120000
DTSTAMP:20260420T044608
CREATED:20240919T183103Z
LAST-MODIFIED:20240919T183103Z
UID:7732-1739095200-1739102400@sibfordvillagehall.org.uk
SUMMARY:Sibford Players
DESCRIPTION:
URL:https://sibfordvillagehall.org.uk/event/sibford-players-57/
LOCATION:Main hall
END:VEVENT
BEGIN:VEVENT
DTSTART;TZID=Europe/London:20250208T193000
DTEND;TZID=Europe/London:20250208T193000
DTSTAMP:20260420T044608
CREATED:20250204T183024Z
LAST-MODIFIED:20250204T183024Z
UID:8468-1739043000-1739043000@sibfordvillagehall.org.uk
SUMMARY:Sibford Players
DESCRIPTION:Trifle recipe by Jane’s Patisserie
URL:https://sibfordvillagehall.org.uk/event/sibford-players-64/
LOCATION:Main hall
END:VEVENT
BEGIN:VEVENT
DTSTART;TZID=Europe/London:20250207T193000
DTEND;TZID=Europe/London:20250207T193000
DTSTAMP:20260420T044608
CREATED:20250204T183022Z
LAST-MODIFIED:20250204T183022Z
UID:8467-1738956600-1738956600@sibfordvillagehall.org.uk
SUMMARY:Sibford Players
DESCRIPTION:Trifle recipe by Jane’s Patisserie
URL:https://sibfordvillagehall.org.uk/event/sibford-players-59/
LOCATION:Main hall
END:VEVENT
BEGIN:VEVENT
DTSTART;TZID=Europe/London:20250206T193000
DTEND;TZID=Europe/London:20250206T193000
DTSTAMP:20260420T044608
CREATED:20250131T183013Z
LAST-MODIFIED:20250131T183013Z
UID:8458-1738870200-1738870200@sibfordvillagehall.org.uk
SUMMARY:Sibford Players
DESCRIPTION:Trifle recipe by Jane’s Patisserie
URL:https://sibfordvillagehall.org.uk/event/sibford-players-55/
LOCATION:Main hall
END:VEVENT
BEGIN:VEVENT
DTSTART;TZID=Europe/London:20250206T090000
DTEND;TZID=Europe/London:20250206T110000
DTSTAMP:20260420T044608
CREATED:20250102T183013Z
LAST-MODIFIED:20250102T183013Z
UID:8201-1738832400-1738839600@sibfordvillagehall.org.uk
SUMMARY:Yoga / Chair Yoga
DESCRIPTION:Yoga 9 – 10\, Chair yoga: 10 – 11.
URL:https://sibfordvillagehall.org.uk/event/pe-34-7/
LOCATION:Main hall
END:VEVENT
BEGIN:VEVENT
DTSTART;TZID=Europe/London:20250205T120000
DTEND;TZID=Europe/London:20250205T143000
DTSTAMP:20260420T044608
CREATED:20250104T183050Z
LAST-MODIFIED:20250104T183050Z
UID:8266-1738756800-1738765800@sibfordvillagehall.org.uk
SUMMARY:Sibford Lunch Club
DESCRIPTION:
URL:https://sibfordvillagehall.org.uk/event/sibford-lunch-club-14-10/
LOCATION:Main hall
END:VEVENT
BEGIN:VEVENT
DTSTART;TZID=Europe/London:20250204T190000
DTEND;TZID=Europe/London:20250204T213000
DTSTAMP:20260420T044608
CREATED:20250109T183013Z
LAST-MODIFIED:20250109T183013Z
UID:8353-1738695600-1738704600@sibfordvillagehall.org.uk
SUMMARY:Bridge Club
DESCRIPTION:
URL:https://sibfordvillagehall.org.uk/event/bridge-club-2-2/
LOCATION:Small hall
END:VEVENT
BEGIN:VEVENT
DTSTART;TZID=Europe/London:20250204T180000
DTEND;TZID=Europe/London:20250204T213000
DTSTAMP:20260420T044608
CREATED:20250126T183009Z
LAST-MODIFIED:20250126T183009Z
UID:8444-1738692000-1738704600@sibfordvillagehall.org.uk
SUMMARY:Sibford Players
DESCRIPTION:
URL:https://sibfordvillagehall.org.uk/event/sibford-players-63/
LOCATION:Main hall
END:VEVENT
BEGIN:VEVENT
DTSTART;TZID=Europe/London:20250204T140000
DTEND;TZID=Europe/London:20250204T160000
DTSTAMP:20260420T044608
CREATED:20241101T183016Z
LAST-MODIFIED:20241101T183016Z
UID:7911-1738677600-1738684800@sibfordvillagehall.org.uk
SUMMARY:Friendship Club
DESCRIPTION:
URL:https://sibfordvillagehall.org.uk/event/friendship-club-meeti/
LOCATION:Small hall
END:VEVENT
BEGIN:VEVENT
DTSTART;TZID=Europe/London:20250203T180000
DTEND;TZID=Europe/London:20250203T213000
DTSTAMP:20260420T044608
CREATED:20250131T183012Z
LAST-MODIFIED:20250131T183012Z
UID:8457-1738605600-1738618200@sibfordvillagehall.org.uk
SUMMARY:Sibford Players
DESCRIPTION:
URL:https://sibfordvillagehall.org.uk/event/sibford-players-51/
LOCATION:Main hall
END:VEVENT
BEGIN:VEVENT
DTSTART;TZID=Europe/London:20250203T100000
DTEND;TZID=Europe/London:20250203T110000
DTSTAMP:20260420T044608
CREATED:20250202T183005Z
LAST-MODIFIED:20250202T183005Z
UID:8464-1738576800-1738580400@sibfordvillagehall.org.uk
SUMMARY:Chair Yoga
DESCRIPTION:
URL:https://sibfordvillagehall.org.uk/event/pe-33-6/
LOCATION:Main hall
END:VEVENT
BEGIN:VEVENT
DTSTART;TZID=Europe/London:20250202T180000
DTEND;TZID=Europe/London:20250202T200000
DTSTAMP:20260420T044608
CREATED:20250104T183049Z
LAST-MODIFIED:20250104T183049Z
UID:8265-1738519200-1738526400@sibfordvillagehall.org.uk
SUMMARY:Private event
DESCRIPTION:
URL:https://sibfordvillagehall.org.uk/event/pe-37/
LOCATION:Small hall
END:VEVENT
BEGIN:VEVENT
DTSTART;TZID=Europe/London:20250202T110000
DTEND;TZID=Europe/London:20250202T170000
DTSTAMP:20260420T044608
CREATED:20250126T183008Z
LAST-MODIFIED:20250126T183008Z
UID:8442-1738494000-1738515600@sibfordvillagehall.org.uk
SUMMARY:Sibford Players
DESCRIPTION:
URL:https://sibfordvillagehall.org.uk/event/sibford-players-62/
LOCATION:Main hall
END:VEVENT
BEGIN:VEVENT
DTSTART;TZID=Europe/London:20250201T130000
DTEND;TZID=Europe/London:20250201T170000
DTSTAMP:20260420T044608
CREATED:20250119T183007Z
LAST-MODIFIED:20250119T183007Z
UID:8436-1738414800-1738429200@sibfordvillagehall.org.uk
SUMMARY:Private event
DESCRIPTION:
URL:https://sibfordvillagehall.org.uk/event/pe-47/
LOCATION:Main hall
END:VEVENT
BEGIN:VEVENT
DTSTART;TZID=Europe/London:20250131T173000
DTEND;TZID=Europe/London:20250131T190000
DTSTAMP:20260420T044608
CREATED:20250107T183016Z
LAST-MODIFIED:20250107T183016Z
UID:8334-1738344600-1738350000@sibfordvillagehall.org.uk
SUMMARY:Beavers\, Cubs and Scouts
DESCRIPTION:
URL:https://sibfordvillagehall.org.uk/event/pe-40-4/
LOCATION:Main hall
END:VEVENT
BEGIN:VEVENT
DTSTART;TZID=Europe/London:20250131T160000
DTEND;TZID=Europe/London:20250131T173000
DTSTAMP:20260420T044608
CREATED:20250107T183015Z
LAST-MODIFIED:20250107T183015Z
UID:8333-1738339200-1738344600@sibfordvillagehall.org.uk
SUMMARY:Beavers\, Cubs and Scouts
DESCRIPTION:
URL:https://sibfordvillagehall.org.uk/event/pe-39-4/
LOCATION:Main hall
END:VEVENT
BEGIN:VEVENT
DTSTART;TZID=Europe/London:20250131T093000
DTEND;TZID=Europe/London:20250131T113000
DTSTAMP:20260420T044608
CREATED:20250104T183049Z
LAST-MODIFIED:20250104T183049Z
UID:8264-1738315800-1738323000@sibfordvillagehall.org.uk
SUMMARY:Tots and babes
DESCRIPTION:
URL:https://sibfordvillagehall.org.uk/event/tots-and-babes-8-5/
LOCATION:Small hall
END:VEVENT
BEGIN:VEVENT
DTSTART;TZID=Europe/London:20250131T090000
DTEND;TZID=Europe/London:20250131T123000
DTSTAMP:20260420T044608
CREATED:20250111T183026Z
LAST-MODIFIED:20250111T183026Z
UID:8405-1738314000-1738326600@sibfordvillagehall.org.uk
SUMMARY:Private event
DESCRIPTION:
URL:https://sibfordvillagehall.org.uk/event/pe-46-3/
LOCATION:Main hall
END:VEVENT
BEGIN:VEVENT
DTSTART;TZID=Europe/London:20250130T193000
DTEND;TZID=Europe/London:20250130T213000
DTSTAMP:20260420T044608
CREATED:20250126T183008Z
LAST-MODIFIED:20250126T183008Z
UID:8441-1738265400-1738272600@sibfordvillagehall.org.uk
SUMMARY:Sibford Players Drama Group
DESCRIPTION:
URL:https://sibfordvillagehall.org.uk/event/sibford-players-drama-5-2/
LOCATION:Main hall
END:VEVENT
BEGIN:VEVENT
DTSTART;TZID=Europe/London:20250130T140000
DTEND;TZID=Europe/London:20250130T160000
DTSTAMP:20260420T044608
CREATED:20241215T183012Z
LAST-MODIFIED:20241215T183012Z
UID:8113-1738245600-1738252800@sibfordvillagehall.org.uk
SUMMARY:Warm Hub
DESCRIPTION:Free to attend as kindly sponsored by the Town Estate Charity \nRefreshments available as well as games\, crafts\, books\, puzzles. \nCome and socialise and keep warm in the small hall. \nContact Ginny on 01295 780 373 or ginnybennett@googlemail.com for more information. \nAll welcome!
URL:https://sibfordvillagehall.org.uk/event/warm-hub-2024-5-11/
LOCATION:Small hall
END:VEVENT
BEGIN:VEVENT
DTSTART;TZID=Europe/London:20250130T090000
DTEND;TZID=Europe/London:20250130T110000
DTSTAMP:20260420T044608
CREATED:20250102T183011Z
LAST-MODIFIED:20250102T183011Z
UID:8197-1738227600-1738234800@sibfordvillagehall.org.uk
SUMMARY:Yoga / Chair Yoga
DESCRIPTION:Yoga 9 – 10\, Chair yoga: 10 – 11.
URL:https://sibfordvillagehall.org.uk/event/pe-34-6/
LOCATION:Main hall
END:VEVENT
BEGIN:VEVENT
DTSTART;TZID=Europe/London:20250129T193000
DTEND;TZID=Europe/London:20250129T193000
DTSTAMP:20260420T044608
CREATED:20241227T183008Z
LAST-MODIFIED:20241227T183008Z
UID:8150-1738179000-1738179000@sibfordvillagehall.org.uk
SUMMARY:Film Night - Another Year
DESCRIPTION:A touching story which follows happily-married couple Tom (Jim Broadbent) and Gerri (Lesley Manville) and their friends and family over four seasons. Featuring love and warmth\, joy and sadness\, hope and despair\, companionship and loneliness. Amusing\, Poignant and Charming. \nRotten tomatoes 93%.  \nDoors open at 7. Film starts at 7.30. Admission £3 pp.
URL:https://sibfordvillagehall.org.uk/event/film-night-another-year/
LOCATION:Main hall
END:VEVENT
BEGIN:VEVENT
DTSTART;TZID=Europe/London:20250129T173000
DTEND;TZID=Europe/London:20250129T190000
DTSTAMP:20260420T044608
CREATED:20241207T183007Z
LAST-MODIFIED:20241207T183007Z
UID:8093-1738171800-1738177200@sibfordvillagehall.org.uk
SUMMARY:Private event
DESCRIPTION:
URL:https://sibfordvillagehall.org.uk/event/pe-29/
LOCATION:Small hall
END:VEVENT
BEGIN:VEVENT
DTSTART;TZID=Europe/London:20250129T120000
DTEND;TZID=Europe/London:20250129T143000
DTSTAMP:20260420T044608
CREATED:20250104T183049Z
LAST-MODIFIED:20250104T183049Z
UID:8262-1738152000-1738161000@sibfordvillagehall.org.uk
SUMMARY:Sibford Lunch Club
DESCRIPTION:
URL:https://sibfordvillagehall.org.uk/event/sibford-lunch-club-14-9/
LOCATION:Main hall
END:VEVENT
END:VCALENDAR