BEGIN:VCALENDAR
VERSION:2.0
PRODID:-//Sibford Village Hall - ECPv6.15.20//NONSGML v1.0//EN
CALSCALE:GREGORIAN
METHOD:PUBLISH
X-ORIGINAL-URL:https://sibfordvillagehall.org.uk
X-WR-CALDESC:Events for Sibford Village Hall
REFRESH-INTERVAL;VALUE=DURATION:PT1H
X-Robots-Tag:noindex
X-PUBLISHED-TTL:PT1H
BEGIN:VTIMEZONE
TZID:Europe/London
BEGIN:DAYLIGHT
TZOFFSETFROM:+0000
TZOFFSETTO:+0100
TZNAME:BST
DTSTART:20220327T010000
END:DAYLIGHT
BEGIN:STANDARD
TZOFFSETFROM:+0100
TZOFFSETTO:+0000
TZNAME:GMT
DTSTART:20221030T010000
END:STANDARD
BEGIN:DAYLIGHT
TZOFFSETFROM:+0000
TZOFFSETTO:+0100
TZNAME:BST
DTSTART:20230326T010000
END:DAYLIGHT
BEGIN:STANDARD
TZOFFSETFROM:+0100
TZOFFSETTO:+0000
TZNAME:GMT
DTSTART:20231029T010000
END:STANDARD
BEGIN:DAYLIGHT
TZOFFSETFROM:+0000
TZOFFSETTO:+0100
TZNAME:BST
DTSTART:20240331T010000
END:DAYLIGHT
BEGIN:STANDARD
TZOFFSETFROM:+0100
TZOFFSETTO:+0000
TZNAME:GMT
DTSTART:20241027T010000
END:STANDARD
END:VTIMEZONE
BEGIN:VEVENT
DTSTART;TZID=Europe/London:20230609T100000
DTEND;TZID=Europe/London:20230609T160000
DTSTAMP:20260421T144734
CREATED:20230608T183006Z
LAST-MODIFIED:20230608T183006Z
UID:5494-1686304800-1686326400@sibfordvillagehall.org.uk
SUMMARY:Cherington Art Exhibition at Cherington and Stourton Village Hall
DESCRIPTION:Sibford artist Ginny Bennett and her art group friends are showing their art at Cherington Hall\, CV36 5HG. \nPaintings in oil\, acrylics\, watercolours and  mixed media in a large variety of styles. Affordable art \nCards\, cakes\, tea and coffee available. \nEntry is free . Lots of parking and disabled access.  We look forward to seeing you! \nFrom Brailes  going west turn left to Sutton under Brailes and left again to Stourton and Cherington. 
URL:https://sibfordvillagehall.org.uk/event/cherington-art-exhibition/
LOCATION:Main hall
END:VEVENT
BEGIN:VEVENT
DTSTART;TZID=Europe/London:20230609T130000
DTEND;TZID=Europe/London:20230609T153000
DTSTAMP:20260421T144734
CREATED:20230506T183011Z
LAST-MODIFIED:20230506T183011Z
UID:5348-1686315600-1686324600@sibfordvillagehall.org.uk
SUMMARY:Watercolour Art Class
DESCRIPTION:
URL:https://sibfordvillagehall.org.uk/event/watercolour-art-class-3/
LOCATION:Main hall
END:VEVENT
BEGIN:VEVENT
DTSTART;TZID=Europe/London:20230609T160000
DTEND;TZID=Europe/London:20230609T173000
DTSTAMP:20260421T144734
CREATED:20230601T183007Z
LAST-MODIFIED:20230601T183007Z
UID:5477-1686326400-1686331800@sibfordvillagehall.org.uk
SUMMARY:Beavers
DESCRIPTION:
URL:https://sibfordvillagehall.org.uk/event/beavers-25/
LOCATION:Main hall
END:VEVENT
BEGIN:VEVENT
DTSTART;TZID=Europe/London:20230610T090000
DTEND;TZID=Europe/London:20230610T100000
DTSTAMP:20260421T144734
CREATED:20230418T183010Z
LAST-MODIFIED:20230418T183010Z
UID:5219-1686387600-1686391200@sibfordvillagehall.org.uk
SUMMARY:Karate
DESCRIPTION:
URL:https://sibfordvillagehall.org.uk/event/karate-18-19/
LOCATION:Main hall
END:VEVENT
BEGIN:VEVENT
DTSTART;TZID=Europe/London:20230612T183000
DTEND;TZID=Europe/London:20230612T193000
DTSTAMP:20260421T144734
CREATED:20230515T183016Z
LAST-MODIFIED:20230515T183016Z
UID:5382-1686594600-1686598200@sibfordvillagehall.org.uk
SUMMARY:Karate
DESCRIPTION:
URL:https://sibfordvillagehall.org.uk/event/karate-19-18/
LOCATION:Main hall
END:VEVENT
BEGIN:VEVENT
DTSTART;TZID=Europe/London:20230614T120000
DTEND;TZID=Europe/London:20230614T143000
DTSTAMP:20260421T144734
CREATED:20230329T183022Z
LAST-MODIFIED:20230329T183022Z
UID:5037-1686744000-1686753000@sibfordvillagehall.org.uk
SUMMARY:Sibford Lunch Club
DESCRIPTION:
URL:https://sibfordvillagehall.org.uk/event/sibford-lunch-club-10-23/
LOCATION:Main hall
END:VEVENT
BEGIN:VEVENT
DTSTART;TZID=Europe/London:20230614T173000
DTEND;TZID=Europe/London:20230614T200000
DTSTAMP:20260421T144734
CREATED:20230520T183007Z
LAST-MODIFIED:20230520T183007Z
UID:5422-1686763800-1686772800@sibfordvillagehall.org.uk
SUMMARY:Village Hall Trustees meeting
DESCRIPTION:
URL:https://sibfordvillagehall.org.uk/event/village-hall-trustees-meeting-15/
LOCATION:Main hall
END:VEVENT
BEGIN:VEVENT
DTSTART;TZID=Europe/London:20230615T090000
DTEND;TZID=Europe/London:20230615T100000
DTSTAMP:20260421T144734
CREATED:20230524T183006Z
LAST-MODIFIED:20230524T183006Z
UID:5446-1686819600-1686823200@sibfordvillagehall.org.uk
SUMMARY:Flow Yoga
DESCRIPTION:
URL:https://sibfordvillagehall.org.uk/event/flow-yoga-6-19/
LOCATION:Main hall
END:VEVENT
BEGIN:VEVENT
DTSTART;TZID=Europe/London:20230615T101500
DTEND;TZID=Europe/London:20230615T111500
DTSTAMP:20260421T144734
CREATED:20230524T183006Z
LAST-MODIFIED:20230524T183006Z
UID:5447-1686824100-1686827700@sibfordvillagehall.org.uk
SUMMARY:Chair Yoga
DESCRIPTION:
URL:https://sibfordvillagehall.org.uk/event/chair-yoga-37-19/
LOCATION:Main hall
END:VEVENT
BEGIN:VEVENT
DTSTART;TZID=Europe/London:20230615T173000
DTEND;TZID=Europe/London:20230615T183000
DTSTAMP:20260421T144734
CREATED:20230222T183017Z
LAST-MODIFIED:20230222T183017Z
UID:4580-1686850200-1686853800@sibfordvillagehall.org.uk
SUMMARY:Sibford Young Performers
DESCRIPTION:
URL:https://sibfordvillagehall.org.uk/event/sibford-young-perfomers-8/
LOCATION:Main hall
END:VEVENT
BEGIN:VEVENT
DTSTART;TZID=Europe/London:20230615T193000
DTEND;TZID=Europe/London:20230615T213000
DTSTAMP:20260421T144734
CREATED:20230613T183007Z
LAST-MODIFIED:20230613T183007Z
UID:5510-1686857400-1686864600@sibfordvillagehall.org.uk
SUMMARY:Sibfords History Society - Morris' motopolis
DESCRIPTION:There was an old adage that things move slowly in Oxford\, but this completely changed when William Morris relocated his factory to the eastern suburbs of the city in 1912. His business became the biggest producer of cars in the country in the interwar period\, which had a massive impact on the local area. This talk by Simon Wenham will explore the ways in which Oxford was transformed\, in the aftermath of becoming the fastest growing city in the country. \nDoors open at 7.15 p.m. and the talk starts at 7.30 p.m. Free to members\, visitors £3. Refreshments follow the talk.
URL:https://sibfordvillagehall.org.uk/event/44892/
LOCATION:Main hall
END:VEVENT
BEGIN:VEVENT
DTSTART;TZID=Europe/London:20230616T093000
DTEND;TZID=Europe/London:20230616T113000
DTSTAMP:20260421T144734
CREATED:20230526T183008Z
LAST-MODIFIED:20230526T183008Z
UID:5455-1686907800-1686915000@sibfordvillagehall.org.uk
SUMMARY:Sibford Tots & Babes Group
DESCRIPTION:
URL:https://sibfordvillagehall.org.uk/event/sibford-tots-babes-group-18/
LOCATION:Small hall
END:VEVENT
BEGIN:VEVENT
DTSTART;TZID=Europe/London:20230616T093000
DTEND;TZID=Europe/London:20230616T123000
DTSTAMP:20260421T144734
CREATED:20230506T183011Z
LAST-MODIFIED:20230506T183011Z
UID:5350-1686907800-1686918600@sibfordvillagehall.org.uk
SUMMARY:Art Class /Oil painting
DESCRIPTION:
URL:https://sibfordvillagehall.org.uk/event/art-class-oil-painting-4/
LOCATION:Main hall
END:VEVENT
BEGIN:VEVENT
DTSTART;TZID=Europe/London:20230616T180000
DTEND;TZID=Europe/London:20230616T200000
DTSTAMP:20260421T144735
CREATED:20230502T183011Z
LAST-MODIFIED:20230502T183011Z
UID:5288-1686938400-1686945600@sibfordvillagehall.org.uk
SUMMARY:Visiting History Group
DESCRIPTION:
URL:https://sibfordvillagehall.org.uk/event/visiting-history-group/
LOCATION:Main hall
END:VEVENT
BEGIN:VEVENT
DTSTART;TZID=Europe/London:20230617T090000
DTEND;TZID=Europe/London:20230617T100000
DTSTAMP:20260421T144735
CREATED:20230418T183010Z
LAST-MODIFIED:20230418T183010Z
UID:5220-1686992400-1686996000@sibfordvillagehall.org.uk
SUMMARY:Karate
DESCRIPTION:
URL:https://sibfordvillagehall.org.uk/event/karate-18-20/
LOCATION:Main hall
END:VEVENT
BEGIN:VEVENT
DTSTART;TZID=Europe/London:20230617T100000
DTEND;TZID=Europe/London:20230617T120000
DTSTAMP:20260421T144735
CREATED:20230616T183005Z
LAST-MODIFIED:20230616T183005Z
UID:5521-1686996000-1687003200@sibfordvillagehall.org.uk
SUMMARY:Book Swap and Café
DESCRIPTION:Welcome to our monthly chance to have coffee/cake and a chat. Browse our large selection of books and borrow any you like . \nNo need to bring a book to swap. \nNo charge. Donations welcome.
URL:https://sibfordvillagehall.org.uk/event/book-swap-and-cafe-9/
LOCATION:Small hall
END:VEVENT
BEGIN:VEVENT
DTSTART;TZID=Europe/London:20230619T110000
DTEND;TZID=Europe/London:20230619T160000
DTSTAMP:20260421T144735
CREATED:20230610T183008Z
LAST-MODIFIED:20230610T183008Z
UID:5500-1687172400-1687190400@sibfordvillagehall.org.uk
SUMMARY:Private event
DESCRIPTION:
URL:https://sibfordvillagehall.org.uk/event/private-hire-wedding-reception/
LOCATION:Main hall
END:VEVENT
BEGIN:VEVENT
DTSTART;TZID=Europe/London:20230619T183000
DTEND;TZID=Europe/London:20230619T193000
DTSTAMP:20260421T144735
CREATED:20230515T183016Z
LAST-MODIFIED:20230515T183016Z
UID:5383-1687199400-1687203000@sibfordvillagehall.org.uk
SUMMARY:Karate
DESCRIPTION:
URL:https://sibfordvillagehall.org.uk/event/karate-19-19/
LOCATION:Main hall
END:VEVENT
BEGIN:VEVENT
DTSTART;TZID=Europe/London:20230620T120000
DTEND;TZID=Europe/London:20230620T160000
DTSTAMP:20260421T144735
CREATED:20230416T183011Z
LAST-MODIFIED:20230416T183011Z
UID:5200-1687262400-1687276800@sibfordvillagehall.org.uk
SUMMARY:Model Railway Group
DESCRIPTION:
URL:https://sibfordvillagehall.org.uk/event/model-railway-group-7/
LOCATION:Main hall
END:VEVENT
BEGIN:VEVENT
DTSTART;TZID=Europe/London:20230621T120000
DTEND;TZID=Europe/London:20230621T143000
DTSTAMP:20260421T144735
CREATED:20230329T183022Z
LAST-MODIFIED:20230329T183022Z
UID:5039-1687348800-1687357800@sibfordvillagehall.org.uk
SUMMARY:Sibford Lunch Club
DESCRIPTION:
URL:https://sibfordvillagehall.org.uk/event/sibford-lunch-club-10-24/
LOCATION:Main hall
END:VEVENT
BEGIN:VEVENT
DTSTART;TZID=Europe/London:20230622T090000
DTEND;TZID=Europe/London:20230622T100000
DTSTAMP:20260421T144735
CREATED:20230524T183006Z
LAST-MODIFIED:20230524T183006Z
UID:5448-1687424400-1687428000@sibfordvillagehall.org.uk
SUMMARY:Flow Yoga
DESCRIPTION:
URL:https://sibfordvillagehall.org.uk/event/flow-yoga-6-20/
LOCATION:Main hall
END:VEVENT
BEGIN:VEVENT
DTSTART;TZID=Europe/London:20230622T100000
DTEND;TZID=Europe/London:20230622T110000
DTSTAMP:20260421T144735
CREATED:20230622T183006Z
LAST-MODIFIED:20230622T183006Z
UID:5533-1687428000-1687431600@sibfordvillagehall.org.uk
SUMMARY:Chair Yoga
DESCRIPTION:
URL:https://sibfordvillagehall.org.uk/event/chair-yoga-38/
LOCATION:Main hall
END:VEVENT
BEGIN:VEVENT
DTSTART;TZID=Europe/London:20230622T101500
DTEND;TZID=Europe/London:20230622T111500
DTSTAMP:20260421T144735
CREATED:20230524T183006Z
LAST-MODIFIED:20230524T183006Z
UID:5449-1687428900-1687432500@sibfordvillagehall.org.uk
SUMMARY:Chair Yoga
DESCRIPTION:
URL:https://sibfordvillagehall.org.uk/event/chair-yoga-37-20/
LOCATION:Main hall
END:VEVENT
BEGIN:VEVENT
DTSTART;TZID=Europe/London:20230622T173000
DTEND;TZID=Europe/London:20230622T183000
DTSTAMP:20260421T144735
CREATED:20230222T183017Z
LAST-MODIFIED:20230222T183017Z
UID:4581-1687455000-1687458600@sibfordvillagehall.org.uk
SUMMARY:Sibford Young Performers
DESCRIPTION:
URL:https://sibfordvillagehall.org.uk/event/sibford-young-perfomers-9/
LOCATION:Main hall
END:VEVENT
BEGIN:VEVENT
DTSTART;TZID=Europe/London:20230623T093000
DTEND;TZID=Europe/London:20230623T123000
DTSTAMP:20260421T144735
CREATED:20230506T183011Z
LAST-MODIFIED:20230506T183011Z
UID:5353-1687512600-1687523400@sibfordvillagehall.org.uk
SUMMARY:Art Class /Oil painting
DESCRIPTION:
URL:https://sibfordvillagehall.org.uk/event/art-class-oil-painting-5/
LOCATION:Main hall
END:VEVENT
BEGIN:VEVENT
DTSTART;TZID=Europe/London:20230623T130000
DTEND;TZID=Europe/London:20230623T153000
DTSTAMP:20260421T144735
CREATED:20230614T183014Z
LAST-MODIFIED:20230614T183014Z
UID:5514-1687525200-1687534200@sibfordvillagehall.org.uk
SUMMARY:Watercolour Art Class
DESCRIPTION:
URL:https://sibfordvillagehall.org.uk/event/watercolour-art-class-4/
LOCATION:Main hall
END:VEVENT
BEGIN:VEVENT
DTSTART;TZID=Europe/London:20230623T173000
DTEND;TZID=Europe/London:20230623T190000
DTSTAMP:20260421T144735
CREATED:20230601T183007Z
LAST-MODIFIED:20230601T183007Z
UID:5478-1687541400-1687546800@sibfordvillagehall.org.uk
SUMMARY:Cubs
DESCRIPTION:
URL:https://sibfordvillagehall.org.uk/event/cubs-28/
LOCATION:Main hall
END:VEVENT
BEGIN:VEVENT
DTSTART;TZID=Europe/London:20230624T090000
DTEND;TZID=Europe/London:20230624T100000
DTSTAMP:20260421T144735
CREATED:20230418T183010Z
LAST-MODIFIED:20230418T183010Z
UID:5221-1687597200-1687600800@sibfordvillagehall.org.uk
SUMMARY:Karate
DESCRIPTION:
URL:https://sibfordvillagehall.org.uk/event/karate-18-21/
LOCATION:Main hall
END:VEVENT
BEGIN:VEVENT
DTSTART;TZID=Europe/London:20230625T140000
DTEND;TZID=Europe/London:20230625T180000
DTSTAMP:20260421T144735
CREATED:20230603T183005Z
LAST-MODIFIED:20230603T183005Z
UID:5490-1687701600-1687716000@sibfordvillagehall.org.uk
SUMMARY:Open Gardens teas
DESCRIPTION:Rest your feet\, chat about the marvellous gardens\, enjoy tea and delicious home-made cakes. \nAlso providing loos and parking for Sibford Gower Gardens. \nIn aid of Holy Trinity Church.
URL:https://sibfordvillagehall.org.uk/event/open-gardens-teas-2/
LOCATION:Main hall
END:VEVENT
BEGIN:VEVENT
DTSTART;TZID=Europe/London:20230626T183000
DTEND;TZID=Europe/London:20230626T193000
DTSTAMP:20260421T144735
CREATED:20230515T183016Z
LAST-MODIFIED:20230515T183016Z
UID:5384-1687804200-1687807800@sibfordvillagehall.org.uk
SUMMARY:Karate
DESCRIPTION:
URL:https://sibfordvillagehall.org.uk/event/karate-19-20/
LOCATION:Main hall
END:VEVENT
END:VCALENDAR