BEGIN:VCALENDAR
VERSION:2.0
PRODID:-//Sibford Village Hall - ECPv6.15.20//NONSGML v1.0//EN
CALSCALE:GREGORIAN
METHOD:PUBLISH
X-WR-CALNAME:Sibford Village Hall
X-ORIGINAL-URL:https://sibfordvillagehall.org.uk
X-WR-CALDESC:Events for Sibford Village Hall
REFRESH-INTERVAL;VALUE=DURATION:PT1H
X-Robots-Tag:noindex
X-PUBLISHED-TTL:PT1H
BEGIN:VTIMEZONE
TZID:Europe/London
BEGIN:DAYLIGHT
TZOFFSETFROM:+0000
TZOFFSETTO:+0100
TZNAME:BST
DTSTART:20240331T010000
END:DAYLIGHT
BEGIN:STANDARD
TZOFFSETFROM:+0100
TZOFFSETTO:+0000
TZNAME:GMT
DTSTART:20241027T010000
END:STANDARD
BEGIN:DAYLIGHT
TZOFFSETFROM:+0000
TZOFFSETTO:+0100
TZNAME:BST
DTSTART:20250330T010000
END:DAYLIGHT
BEGIN:STANDARD
TZOFFSETFROM:+0100
TZOFFSETTO:+0000
TZNAME:GMT
DTSTART:20251026T010000
END:STANDARD
BEGIN:DAYLIGHT
TZOFFSETFROM:+0000
TZOFFSETTO:+0100
TZNAME:BST
DTSTART:20260329T010000
END:DAYLIGHT
BEGIN:STANDARD
TZOFFSETFROM:+0100
TZOFFSETTO:+0000
TZNAME:GMT
DTSTART:20261025T010000
END:STANDARD
END:VTIMEZONE
BEGIN:VEVENT
DTSTART;TZID=Europe/London:20250309T120000
DTEND;TZID=Europe/London:20250309T160000
DTSTAMP:20260419T214817
CREATED:20250205T183007Z
LAST-MODIFIED:20250205T183007Z
UID:8470-1741521600-1741536000@sibfordvillagehall.org.uk
SUMMARY:Private event
DESCRIPTION:
URL:https://sibfordvillagehall.org.uk/event/pe-53/
LOCATION:Small hall
END:VEVENT
BEGIN:VEVENT
DTSTART;TZID=Europe/London:20250308T090000
DTEND;TZID=Europe/London:20250308T100000
DTSTAMP:20260419T214817
CREATED:20250301T183013Z
LAST-MODIFIED:20250301T183013Z
UID:8550-1741424400-1741428000@sibfordvillagehall.org.uk
SUMMARY:Private event
DESCRIPTION:
URL:https://sibfordvillagehall.org.uk/event/pe-69/
LOCATION:Main hall
END:VEVENT
BEGIN:VEVENT
DTSTART;TZID=Europe/London:20250307T173000
DTEND;TZID=Europe/London:20250307T190000
DTSTAMP:20260419T214817
CREATED:20250224T183007Z
LAST-MODIFIED:20250224T183007Z
UID:8511-1741368600-1741374000@sibfordvillagehall.org.uk
SUMMARY:Beavers\, Cubs and Scouts
DESCRIPTION:
URL:https://sibfordvillagehall.org.uk/event/pe-61-2/
LOCATION:Main hall
END:VEVENT
BEGIN:VEVENT
DTSTART;TZID=Europe/London:20250307T160000
DTEND;TZID=Europe/London:20250307T173000
DTSTAMP:20260419T214817
CREATED:20250224T183007Z
LAST-MODIFIED:20250224T183007Z
UID:8510-1741363200-1741368600@sibfordvillagehall.org.uk
SUMMARY:Beavers\, Cubs and Scouts
DESCRIPTION:
URL:https://sibfordvillagehall.org.uk/event/pe-60-2/
LOCATION:Main hall
END:VEVENT
BEGIN:VEVENT
DTSTART;TZID=Europe/London:20250307T093000
DTEND;TZID=Europe/London:20250307T113000
DTSTAMP:20260419T214817
CREATED:20250227T183007Z
LAST-MODIFIED:20250227T183007Z
UID:8532-1741339800-1741347000@sibfordvillagehall.org.uk
SUMMARY:Tots and babes
DESCRIPTION:
URL:https://sibfordvillagehall.org.uk/event/tots-and-babes-9-2/
LOCATION:Small hall
END:VEVENT
BEGIN:VEVENT
DTSTART;TZID=Europe/London:20250307T090000
DTEND;TZID=Europe/London:20250307T123000
DTSTAMP:20260419T214817
CREATED:20250111T183028Z
LAST-MODIFIED:20250111T183028Z
UID:8411-1741338000-1741350600@sibfordvillagehall.org.uk
SUMMARY:Private event
DESCRIPTION:
URL:https://sibfordvillagehall.org.uk/event/pe-46-7/
LOCATION:Main hall
END:VEVENT
BEGIN:VEVENT
DTSTART;TZID=Europe/London:20250306T173000
DTEND;TZID=Europe/London:20250306T183000
DTSTAMP:20260419T214817
CREATED:20250213T183012Z
LAST-MODIFIED:20250213T183012Z
UID:8480-1741282200-1741285800@sibfordvillagehall.org.uk
SUMMARY:Sibford Young Performers
DESCRIPTION:
URL:https://sibfordvillagehall.org.uk/event/sibford-young-perform-2-2/
LOCATION:Main hall
END:VEVENT
BEGIN:VEVENT
DTSTART;TZID=Europe/London:20250306T143000
DTEND;TZID=Europe/London:20250306T163000
DTSTAMP:20260419T214817
CREATED:20250226T183035Z
LAST-MODIFIED:20250226T183035Z
UID:8522-1741271400-1741278600@sibfordvillagehall.org.uk
SUMMARY:Warm Hub
DESCRIPTION:Free to attend as kindly sponsored by the Town Estate Charity \nRefreshments available as well as games\, crafts\, books\, puzzles. \nCome and socialise and keep warm in the small hall. \nContact Ginny on 01295 780 373 or ginnybennett@googlemail.com for more information. \nAll welcome!
URL:https://sibfordvillagehall.org.uk/event/warm-hub-2024-5-15/
LOCATION:Small hall
END:VEVENT
BEGIN:VEVENT
DTSTART;TZID=Europe/London:20250306T090000
DTEND;TZID=Europe/London:20250306T110000
DTSTAMP:20260419T214817
CREATED:20250227T183007Z
LAST-MODIFIED:20250227T183007Z
UID:8531-1741251600-1741258800@sibfordvillagehall.org.uk
SUMMARY:Yoga / Chair Yoga
DESCRIPTION:Yoga 9 – 10\, Chair yoga: 10 – 11.
URL:https://sibfordvillagehall.org.uk/event/pe-65-2/
LOCATION:Main hall
END:VEVENT
BEGIN:VEVENT
DTSTART;TZID=Europe/London:20250305T120000
DTEND;TZID=Europe/London:20250305T143000
DTSTAMP:20260419T214817
CREATED:20250104T183051Z
LAST-MODIFIED:20250104T183051Z
UID:8271-1741176000-1741185000@sibfordvillagehall.org.uk
SUMMARY:Sibford Lunch Club
DESCRIPTION:
URL:https://sibfordvillagehall.org.uk/event/sibford-lunch-club-14-14/
LOCATION:Main hall
END:VEVENT
BEGIN:VEVENT
DTSTART;TZID=Europe/London:20250304T190000
DTEND;TZID=Europe/London:20250304T210000
DTSTAMP:20260419T214817
CREATED:20250301T183012Z
LAST-MODIFIED:20250301T183012Z
UID:8549-1741114800-1741122000@sibfordvillagehall.org.uk
SUMMARY:Bridge Club
DESCRIPTION:
URL:https://sibfordvillagehall.org.uk/event/bridge-club-2-5/
LOCATION:Small hall
END:VEVENT
BEGIN:VEVENT
DTSTART;TZID=Europe/London:20250304T140000
DTEND;TZID=Europe/London:20250304T160000
DTSTAMP:20260419T214817
CREATED:20241101T183017Z
LAST-MODIFIED:20241101T183017Z
UID:7912-1741096800-1741104000@sibfordvillagehall.org.uk
SUMMARY:Friendship Club
DESCRIPTION:
URL:https://sibfordvillagehall.org.uk/event/friendship-club-meeti-2/
LOCATION:Small hall
END:VEVENT
BEGIN:VEVENT
DTSTART;TZID=Europe/London:20250303T193000
DTEND;TZID=Europe/London:20250303T210000
DTSTAMP:20260419T214817
CREATED:20250130T183007Z
LAST-MODIFIED:20250130T183007Z
UID:8450-1741030200-1741035600@sibfordvillagehall.org.uk
SUMMARY:Singing Group
DESCRIPTION:
URL:https://sibfordvillagehall.org.uk/event/singing-group-4/
LOCATION:Main hall
END:VEVENT
BEGIN:VEVENT
DTSTART;TZID=Europe/London:20250303T183000
DTEND;TZID=Europe/London:20250303T193000
DTSTAMP:20260419T214817
CREATED:20250301T183012Z
LAST-MODIFIED:20250301T183012Z
UID:8548-1741026600-1741030200@sibfordvillagehall.org.uk
SUMMARY:Private event
DESCRIPTION:
URL:https://sibfordvillagehall.org.uk/event/pe-68/
LOCATION:Main hall
END:VEVENT
BEGIN:VEVENT
DTSTART;TZID=Europe/London:20250303T100000
DTEND;TZID=Europe/London:20250303T110000
DTSTAMP:20260419T214817
CREATED:20250227T183006Z
LAST-MODIFIED:20250227T183006Z
UID:8530-1740996000-1740999600@sibfordvillagehall.org.uk
SUMMARY:Chair Yoga
DESCRIPTION:
URL:https://sibfordvillagehall.org.uk/event/pe-66/
LOCATION:Main hall
END:VEVENT
BEGIN:VEVENT
DTSTART;TZID=Europe/London:20250228T173000
DTEND;TZID=Europe/London:20250228T190000
DTSTAMP:20260419T214817
CREATED:20250224T183007Z
LAST-MODIFIED:20250224T183007Z
UID:8509-1740763800-1740769200@sibfordvillagehall.org.uk
SUMMARY:Beavers\, Cubs and Scouts
DESCRIPTION:
URL:https://sibfordvillagehall.org.uk/event/pe-61/
LOCATION:Main hall
END:VEVENT
BEGIN:VEVENT
DTSTART;TZID=Europe/London:20250228T160000
DTEND;TZID=Europe/London:20250228T173000
DTSTAMP:20260419T214817
CREATED:20250224T183006Z
LAST-MODIFIED:20250224T183006Z
UID:8508-1740758400-1740763800@sibfordvillagehall.org.uk
SUMMARY:Beavers\, Cubs and Scouts
DESCRIPTION:
URL:https://sibfordvillagehall.org.uk/event/pe-60/
LOCATION:Main hall
END:VEVENT
BEGIN:VEVENT
DTSTART;TZID=Europe/London:20250228T090000
DTEND;TZID=Europe/London:20250228T123000
DTSTAMP:20260419T214817
CREATED:20250111T183027Z
LAST-MODIFIED:20250111T183027Z
UID:8409-1740733200-1740745800@sibfordvillagehall.org.uk
SUMMARY:Private event
DESCRIPTION:
URL:https://sibfordvillagehall.org.uk/event/pe-46-6/
LOCATION:Main hall
END:VEVENT
BEGIN:VEVENT
DTSTART;TZID=Europe/London:20250227T183000
DTEND;TZID=Europe/London:20250227T210000
DTSTAMP:20260419T214817
CREATED:20240822T183007Z
LAST-MODIFIED:20240822T183007Z
UID:7642-1740681000-1740690000@sibfordvillagehall.org.uk
SUMMARY:Private event
DESCRIPTION:
URL:https://sibfordvillagehall.org.uk/event/private-event-158-3/
LOCATION:Main hall
END:VEVENT
BEGIN:VEVENT
DTSTART;TZID=Europe/London:20250227T143000
DTEND;TZID=Europe/London:20250227T163000
DTSTAMP:20260419T214817
CREATED:20250226T183034Z
LAST-MODIFIED:20250226T183034Z
UID:8521-1740666600-1740673800@sibfordvillagehall.org.uk
SUMMARY:Warm Hub
DESCRIPTION:Free to attend as kindly sponsored by the Town Estate Charity \nRefreshments available as well as games\, crafts\, books\, puzzles. \nCome and socialise and keep warm in the small hall. \nContact Ginny on 01295 780 373 or ginnybennett@googlemail.com for more information. \nAll welcome!
URL:https://sibfordvillagehall.org.uk/event/warm-hub-2024-5-14/
LOCATION:Small hall
END:VEVENT
BEGIN:VEVENT
DTSTART;TZID=Europe/London:20250227T090000
DTEND;TZID=Europe/London:20250227T110000
DTSTAMP:20260419T214817
CREATED:20250227T183006Z
LAST-MODIFIED:20250227T183006Z
UID:8529-1740646800-1740654000@sibfordvillagehall.org.uk
SUMMARY:Yoga / Chair Yoga
DESCRIPTION:Yoga 9 – 10\, Chair yoga: 10 – 11.
URL:https://sibfordvillagehall.org.uk/event/pe-65/
LOCATION:Main hall
END:VEVENT
BEGIN:VEVENT
DTSTART;TZID=Europe/London:20250226T193000
DTEND;TZID=Europe/London:20250226T193000
DTSTAMP:20260419T214817
CREATED:20250222T183006Z
LAST-MODIFIED:20250222T183006Z
UID:8504-1740598200-1740598200@sibfordvillagehall.org.uk
SUMMARY:Film Night - Thelma
DESCRIPTION:When 93-year-old Thelma Post gets duped by a phone scammer pretending to be her grandson\, she sets out on a treacherous quest across the city to reclaim what was taken from her. \nThe film was inspired by director Josh Margolin‘s 103-year-old grandma named Thelma\, who was almost duped by scammers pretending to be her grandson into giving them thousands of dollars. Thelma is played by 95-year-old June Squibb. \nDoors open at 7. Film starts at 7.30. Admission £3 pp.
URL:https://sibfordvillagehall.org.uk/event/film-night-49/
LOCATION:Main hall
END:VEVENT
BEGIN:VEVENT
DTSTART;TZID=Europe/London:20250226T120000
DTEND;TZID=Europe/London:20250226T143000
DTSTAMP:20260419T214817
CREATED:20250104T183051Z
LAST-MODIFIED:20250104T183051Z
UID:8270-1740571200-1740580200@sibfordvillagehall.org.uk
SUMMARY:Sibford Lunch Club
DESCRIPTION:
URL:https://sibfordvillagehall.org.uk/event/sibford-lunch-club-14-13/
LOCATION:Main hall
END:VEVENT
BEGIN:VEVENT
DTSTART;TZID=Europe/London:20250225T193000
DTEND;TZID=Europe/London:20250225T213000
DTSTAMP:20260419T214817
CREATED:20250108T183009Z
LAST-MODIFIED:20250108T183009Z
UID:8339-1740511800-1740519000@sibfordvillagehall.org.uk
SUMMARY:Sibford Photography Club
DESCRIPTION:
URL:https://sibfordvillagehall.org.uk/event/sibford-photography-c-2/
LOCATION:Small hall
END:VEVENT
BEGIN:VEVENT
DTSTART;TZID=Europe/London:20250225T190000
DTEND;TZID=Europe/London:20250225T213000
DTSTAMP:20260419T214817
CREATED:20250220T183005Z
LAST-MODIFIED:20250220T183005Z
UID:8502-1740510000-1740519000@sibfordvillagehall.org.uk
SUMMARY:Bridge Club
DESCRIPTION:
URL:https://sibfordvillagehall.org.uk/event/bridge-club-4/
LOCATION:Main hall
END:VEVENT
BEGIN:VEVENT
DTSTART;TZID=Europe/London:20250225T120000
DTEND;TZID=Europe/London:20250225T160000
DTSTAMP:20260419T214817
CREATED:20241004T183008Z
LAST-MODIFIED:20241004T183008Z
UID:7827-1740484800-1740499200@sibfordvillagehall.org.uk
SUMMARY:Model Railway Group
DESCRIPTION:
URL:https://sibfordvillagehall.org.uk/event/model-railway-group-8-2/
LOCATION:Main hall
END:VEVENT
BEGIN:VEVENT
DTSTART;TZID=Europe/London:20250224T193000
DTEND;TZID=Europe/London:20250224T210000
DTSTAMP:20260419T214817
CREATED:20250130T183006Z
LAST-MODIFIED:20250130T183006Z
UID:8449-1740425400-1740430800@sibfordvillagehall.org.uk
SUMMARY:Singing Group
DESCRIPTION:
URL:https://sibfordvillagehall.org.uk/event/singing-group-3/
LOCATION:Main hall
END:VEVENT
BEGIN:VEVENT
DTSTART;TZID=Europe/London:20250224T183000
DTEND;TZID=Europe/London:20250224T193000
DTSTAMP:20260419T214817
CREATED:20250208T183006Z
LAST-MODIFIED:20250208T183006Z
UID:8477-1740421800-1740425400@sibfordvillagehall.org.uk
SUMMARY:Private event
DESCRIPTION:
URL:https://sibfordvillagehall.org.uk/event/pe-55-3/
LOCATION:Main hall
END:VEVENT
BEGIN:VEVENT
DTSTART;TZID=Europe/London:20250222T090000
DTEND;TZID=Europe/London:20250222T100000
DTSTAMP:20260419T214817
CREATED:20250208T183006Z
LAST-MODIFIED:20250208T183006Z
UID:8476-1740214800-1740218400@sibfordvillagehall.org.uk
SUMMARY:Private event
DESCRIPTION:
URL:https://sibfordvillagehall.org.uk/event/pe-56-2/
LOCATION:Main hall
END:VEVENT
BEGIN:VEVENT
DTSTART;TZID=Europe/London:20250221T090000
DTEND;TZID=Europe/London:20250221T123000
DTSTAMP:20260419T214817
CREATED:20250111T183027Z
LAST-MODIFIED:20250111T183027Z
UID:8407-1740128400-1740141000@sibfordvillagehall.org.uk
SUMMARY:Private event
DESCRIPTION:
URL:https://sibfordvillagehall.org.uk/event/pe-46-5/
LOCATION:Main hall
END:VEVENT
END:VCALENDAR