BEGIN:VCALENDAR
VERSION:2.0
PRODID:-//Sibford Village Hall - ECPv6.15.20//NONSGML v1.0//EN
CALSCALE:GREGORIAN
METHOD:PUBLISH
X-WR-CALNAME:Sibford Village Hall
X-ORIGINAL-URL:https://sibfordvillagehall.org.uk
X-WR-CALDESC:Events for Sibford Village Hall
REFRESH-INTERVAL;VALUE=DURATION:PT1H
X-Robots-Tag:noindex
X-PUBLISHED-TTL:PT1H
BEGIN:VTIMEZONE
TZID:Europe/London
BEGIN:DAYLIGHT
TZOFFSETFROM:+0000
TZOFFSETTO:+0100
TZNAME:BST
DTSTART:20230326T010000
END:DAYLIGHT
BEGIN:STANDARD
TZOFFSETFROM:+0100
TZOFFSETTO:+0000
TZNAME:GMT
DTSTART:20231029T010000
END:STANDARD
BEGIN:DAYLIGHT
TZOFFSETFROM:+0000
TZOFFSETTO:+0100
TZNAME:BST
DTSTART:20240331T010000
END:DAYLIGHT
BEGIN:STANDARD
TZOFFSETFROM:+0100
TZOFFSETTO:+0000
TZNAME:GMT
DTSTART:20241027T010000
END:STANDARD
BEGIN:DAYLIGHT
TZOFFSETFROM:+0000
TZOFFSETTO:+0100
TZNAME:BST
DTSTART:20250330T010000
END:DAYLIGHT
BEGIN:STANDARD
TZOFFSETFROM:+0100
TZOFFSETTO:+0000
TZNAME:GMT
DTSTART:20251026T010000
END:STANDARD
END:VTIMEZONE
BEGIN:VEVENT
DTSTART;TZID=Europe/London:20240720T090000
DTEND;TZID=Europe/London:20240720T100000
DTSTAMP:20260422T234750
CREATED:20240706T183005Z
LAST-MODIFIED:20240706T183005Z
UID:7486-1721466000-1721469600@sibfordvillagehall.org.uk
SUMMARY:Private event
DESCRIPTION:
URL:https://sibfordvillagehall.org.uk/event/private-event-142-3/
LOCATION:Main hall
END:VEVENT
BEGIN:VEVENT
DTSTART;TZID=Europe/London:20240720T100000
DTEND;TZID=Europe/London:20240720T120000
DTSTAMP:20260422T234750
CREATED:20240317T183012Z
LAST-MODIFIED:20240317T183012Z
UID:7165-1721469600-1721476800@sibfordvillagehall.org.uk
SUMMARY:Book Swap and Café
DESCRIPTION:Welcome to our monthly chance to have coffee/cake and a chat. Browse our large selection of books and borrow any you like. No need to bring a book to swap. No charge. Donations welcome.
URL:https://sibfordvillagehall.org.uk/event/private-event-51-7/
LOCATION:Small hall
END:VEVENT
BEGIN:VEVENT
DTSTART;TZID=Europe/London:20240721T090000
DTEND;TZID=Europe/London:20240721T150000
DTSTAMP:20260422T234750
CREATED:20240624T183007Z
LAST-MODIFIED:20240624T183007Z
UID:7467-1721552400-1721574000@sibfordvillagehall.org.uk
SUMMARY:Private event
DESCRIPTION:
URL:https://sibfordvillagehall.org.uk/event/private-event-136/
LOCATION:Main hall
END:VEVENT
BEGIN:VEVENT
DTSTART;TZID=Europe/London:20240724T130000
DTEND;TZID=Europe/London:20240724T130000
DTSTAMP:20260422T234750
CREATED:20240131T183024Z
LAST-MODIFIED:20240131T183024Z
UID:6792-1721826000-1721826000@sibfordvillagehall.org.uk
SUMMARY:Sibford Lunch Club
DESCRIPTION:
URL:https://sibfordvillagehall.org.uk/event/sibford-lunch-club-13-29/
LOCATION:Main hall
END:VEVENT
BEGIN:VEVENT
DTSTART;TZID=Europe/London:20240724T143000
DTEND;TZID=Europe/London:20240724T183000
DTSTAMP:20260422T234750
CREATED:20240515T183006Z
LAST-MODIFIED:20240515T183006Z
UID:7347-1721831400-1721845800@sibfordvillagehall.org.uk
SUMMARY:Private event
DESCRIPTION:
URL:https://sibfordvillagehall.org.uk/event/private-event-124/
LOCATION:Main hall
END:VEVENT
BEGIN:VEVENT
DTSTART;TZID=Europe/London:20240725T180000
DTEND;TZID=Europe/London:20240725T190000
DTSTAMP:20260422T234750
CREATED:20240720T183004Z
LAST-MODIFIED:20240720T183004Z
UID:7540-1721930400-1721934000@sibfordvillagehall.org.uk
SUMMARY:Sibford Gower Parish Council Extraordinary Meeting
DESCRIPTION:SGPC Agenda 25.07.24
URL:https://sibfordvillagehall.org.uk/event/sibford-gower-parish-council-meeting-23/
LOCATION:Small hall
END:VEVENT
BEGIN:VEVENT
DTSTART;TZID=Europe/London:20240726T093000
DTEND;TZID=Europe/London:20240726T123000
DTSTAMP:20260422T234750
CREATED:20240709T183012Z
LAST-MODIFIED:20240709T183012Z
UID:7492-1721986200-1721997000@sibfordvillagehall.org.uk
SUMMARY:Art Class
DESCRIPTION:For more information contact Nigel Fletcher nvfletcher@btinternet.com\, 07792 657 248 or visit www.nigelfletcher.co.uk
URL:https://sibfordvillagehall.org.uk/event/art-class-4-8/
LOCATION:Main hall
END:VEVENT
BEGIN:VEVENT
DTSTART;TZID=Europe/London:20240730T193000
DTEND;TZID=Europe/London:20240730T213000
DTSTAMP:20260422T234750
CREATED:20240304T183042Z
LAST-MODIFIED:20240304T183042Z
UID:7099-1722367800-1722375000@sibfordvillagehall.org.uk
SUMMARY:Sibford Photography Club
DESCRIPTION:
URL:https://sibfordvillagehall.org.uk/event/sibford-photography-club-26-6/
LOCATION:Small hall
END:VEVENT
BEGIN:VEVENT
DTSTART;TZID=Europe/London:20240731T130000
DTEND;TZID=Europe/London:20240731T130000
DTSTAMP:20260422T234750
CREATED:20240131T183024Z
LAST-MODIFIED:20240131T183024Z
UID:6793-1722430800-1722430800@sibfordvillagehall.org.uk
SUMMARY:Sibford Lunch Club
DESCRIPTION:
URL:https://sibfordvillagehall.org.uk/event/sibford-lunch-club-13-30/
LOCATION:Main hall
END:VEVENT
BEGIN:VEVENT
DTSTART;TZID=Europe/London:20240731T193000
DTEND;TZID=Europe/London:20240731T193000
DTSTAMP:20260422T234750
CREATED:20240702T183005Z
LAST-MODIFIED:20240702T183005Z
UID:7478-1722454200-1722454200@sibfordvillagehall.org.uk
SUMMARY:Film Night
DESCRIPTION:Perfect Days is a luminous reflection on the beauty found in everyday life. Winner of the Best Actor award at the 2023 Cannes Film Festival\, Koji Yakusho stars as Hirayama\, a contemplative middle-aged man who lives a life of modesty and serenity\, spending his days balancing his job as a dutiful caretaker of Tokyo’s numerous public toilets with his passion for music\, literature and photography. As we join him on his structured daily routine\, a series of unexpected encounters gradually begin to reveal a hidden past that lies behind his otherwise content and harmonious life. \nFeaturing an unforgettable soundtrack of classic Rock and pop\, this is a tender\, shimmering and ultimately life-affirming marvel. \nNominated for Best International Film at the 96th Academy Awards. Review Rotten Tomatoes 96% \nDoors open at 7. Film starts at 7.30. Admission £3 pp. Refreshments available.
URL:https://sibfordvillagehall.org.uk/event/film-night-perfect-days/
LOCATION:Main hall
END:VEVENT
BEGIN:VEVENT
DTSTART;TZID=Europe/London:20240801T090000
DTEND;TZID=Europe/London:20240801T110000
DTSTAMP:20260422T234750
CREATED:20240801T183007Z
LAST-MODIFIED:20240801T183007Z
UID:7549-1722502800-1722510000@sibfordvillagehall.org.uk
SUMMARY:Yoga
DESCRIPTION:9am – 10am Yoga \n10.15am – 11.15am Chair yoga \nFor more information\, contact Juliette Glazebrook: juliette53@btinternet.com or 07703 836 856
URL:https://sibfordvillagehall.org.uk/event/private-event-150/
LOCATION:Main hall
END:VEVENT
BEGIN:VEVENT
DTSTART;TZID=Europe/London:20240803T090000
DTEND;TZID=Europe/London:20240803T100000
DTSTAMP:20260422T234750
CREATED:20240803T183005Z
LAST-MODIFIED:20240803T183005Z
UID:7572-1722675600-1722679200@sibfordvillagehall.org.uk
SUMMARY:Private event
DESCRIPTION:
URL:https://sibfordvillagehall.org.uk/event/private-event-151/
LOCATION:Main hall
END:VEVENT
BEGIN:VEVENT
DTSTART;TZID=Europe/London:20240806T140000
DTEND;TZID=Europe/London:20240806T160000
DTSTAMP:20260422T234750
CREATED:20240509T183010Z
LAST-MODIFIED:20240509T183010Z
UID:7339-1722952800-1722960000@sibfordvillagehall.org.uk
SUMMARY:Friendship Club
DESCRIPTION:
URL:https://sibfordvillagehall.org.uk/event/friendship-club-14-7/
LOCATION:Small hall
END:VEVENT
BEGIN:VEVENT
DTSTART;TZID=Europe/London:20240807T130000
DTEND;TZID=Europe/London:20240807T130000
DTSTAMP:20260422T234750
CREATED:20240131T183024Z
LAST-MODIFIED:20240131T183024Z
UID:6794-1723035600-1723035600@sibfordvillagehall.org.uk
SUMMARY:Sibford Lunch Club
DESCRIPTION:
URL:https://sibfordvillagehall.org.uk/event/sibford-lunch-club-13-31/
LOCATION:Main hall
END:VEVENT
BEGIN:VEVENT
DTSTART;TZID=Europe/London:20240808T090000
DTEND;TZID=Europe/London:20240808T110000
DTSTAMP:20260422T234750
CREATED:20240803T183006Z
LAST-MODIFIED:20240803T183006Z
UID:7574-1723107600-1723114800@sibfordvillagehall.org.uk
SUMMARY:Yoga
DESCRIPTION:9am – 10am Yoga \n10.15am – 11.15am Chair yoga \nFor more information\, contact Juliette Glazebrook: juliette53@btinternet.com or 07703 836 856
URL:https://sibfordvillagehall.org.uk/event/private-event-150-2/
LOCATION:Main hall
END:VEVENT
BEGIN:VEVENT
DTSTART;TZID=Europe/London:20240809T093000
DTEND;TZID=Europe/London:20240809T123000
DTSTAMP:20260422T234750
CREATED:20240802T183010Z
LAST-MODIFIED:20240802T183010Z
UID:7552-1723195800-1723206600@sibfordvillagehall.org.uk
SUMMARY:Art Class
DESCRIPTION:For more information contact Nigel Fletcher nvfletcher@btinternet.com\, 07792 657 248 or visit www.nigelfletcher.co.uk
URL:https://sibfordvillagehall.org.uk/event/art-class-4-9/
LOCATION:Main hall
END:VEVENT
BEGIN:VEVENT
DTSTART;TZID=Europe/London:20240809T130000
DTEND;TZID=Europe/London:20240809T170000
DTSTAMP:20260422T234750
CREATED:20240728T183004Z
LAST-MODIFIED:20240728T183004Z
UID:7545-1723208400-1723222800@sibfordvillagehall.org.uk
SUMMARY:Private event
DESCRIPTION:
URL:https://sibfordvillagehall.org.uk/event/private-event-149/
LOCATION:Main hall
END:VEVENT
BEGIN:VEVENT
DTSTART;TZID=Europe/London:20240814T130000
DTEND;TZID=Europe/London:20240814T130000
DTSTAMP:20260422T234750
CREATED:20240131T183025Z
LAST-MODIFIED:20240131T183025Z
UID:6795-1723640400-1723640400@sibfordvillagehall.org.uk
SUMMARY:Sibford Lunch Club
DESCRIPTION:
URL:https://sibfordvillagehall.org.uk/event/sibford-lunch-club-13-32/
LOCATION:Main hall
END:VEVENT
BEGIN:VEVENT
DTSTART;TZID=Europe/London:20240815T193000
DTEND;TZID=Europe/London:20240815T193000
DTSTAMP:20260422T234750
CREATED:20240722T183004Z
LAST-MODIFIED:20240722T183004Z
UID:7541-1723750200-1723750200@sibfordvillagehall.org.uk
SUMMARY:Sibfords History Society - Empress Matilda
DESCRIPTION:Marie-Louise Kerr will tell us about The woman who would be Queen: the life of  Empress Matilda and her connections with Oxfordshire. \nEmpress Matilda (1102 – 1167) was one of the claimants to the English throne during the civil war known as the Anarchy. The daughter and heir of King Henry I of England\, she went to Germany as a child when she was married to the future Holy Roman Emperor Henry V. She travelled with the emperor to Italy in 1116\, was controversially crowned empress in St Peter’s Basilica\, and acted as the imperial regent in Italy.
URL:https://sibfordvillagehall.org.uk/event/sibfords-history-society-empress-matilda-2/
LOCATION:Main hall
END:VEVENT
BEGIN:VEVENT
DTSTART;TZID=Europe/London:20240816T093000
DTEND;TZID=Europe/London:20240816T123000
DTSTAMP:20260422T234750
CREATED:20240802T183011Z
LAST-MODIFIED:20240802T183011Z
UID:7553-1723800600-1723811400@sibfordvillagehall.org.uk
SUMMARY:Art Class
DESCRIPTION:For more information contact Nigel Fletcher nvfletcher@btinternet.com\, 07792 657 248 or visit www.nigelfletcher.co.uk
URL:https://sibfordvillagehall.org.uk/event/art-class-4-10/
LOCATION:Main hall
END:VEVENT
BEGIN:VEVENT
DTSTART;TZID=Europe/London:20240817T100000
DTEND;TZID=Europe/London:20240817T120000
DTSTAMP:20260422T234750
CREATED:20240317T183012Z
LAST-MODIFIED:20240317T183012Z
UID:7166-1723888800-1723896000@sibfordvillagehall.org.uk
SUMMARY:Book Swap and Café
DESCRIPTION:Welcome to our monthly chance to have coffee/cake and a chat. Browse our large selection of books and borrow any you like. No need to bring a book to swap. No charge. Donations welcome.
URL:https://sibfordvillagehall.org.uk/event/private-event-51-8/
LOCATION:Small hall
END:VEVENT
BEGIN:VEVENT
DTSTART;TZID=Europe/London:20240821T130000
DTEND;TZID=Europe/London:20240821T130000
DTSTAMP:20260422T234750
CREATED:20240131T183025Z
LAST-MODIFIED:20240131T183025Z
UID:6796-1724245200-1724245200@sibfordvillagehall.org.uk
SUMMARY:Sibford Lunch Club
DESCRIPTION:
URL:https://sibfordvillagehall.org.uk/event/sibford-lunch-club-13-33/
LOCATION:Main hall
END:VEVENT
BEGIN:VEVENT
DTSTART;TZID=Europe/London:20240821T190000
DTEND;TZID=Europe/London:20240821T200000
DTSTAMP:20260422T234750
CREATED:20240709T183013Z
LAST-MODIFIED:20240709T183013Z
UID:7496-1724266800-1724270400@sibfordvillagehall.org.uk
SUMMARY:Horti Summer Show - Entry night
DESCRIPTION:The show is on Saturday\, but you need to get your entries in TONIGHT! \nEntry forms were delivered with the July/August Sibford Scene\, but if you have lost it\, you can download it from here: Sibford Scene 465 July 2024 horti
URL:https://sibfordvillagehall.org.uk/event/horti-entry-night-7/
LOCATION:Small hall
END:VEVENT
BEGIN:VEVENT
DTSTART;TZID=Europe/London:20240823T093000
DTEND;TZID=Europe/London:20240823T123000
DTSTAMP:20260422T234750
CREATED:20240802T183011Z
LAST-MODIFIED:20240802T183011Z
UID:7554-1724405400-1724416200@sibfordvillagehall.org.uk
SUMMARY:Art Class
DESCRIPTION:For more information contact Nigel Fletcher nvfletcher@btinternet.com\, 07792 657 248 or visit www.nigelfletcher.co.uk
URL:https://sibfordvillagehall.org.uk/event/art-class-4-11/
LOCATION:Main hall
END:VEVENT
BEGIN:VEVENT
DTSTART;TZID=Europe/London:20240823T180000
DTEND;TZID=Europe/London:20240823T190000
DTSTAMP:20260422T234750
CREATED:20231217T183013Z
LAST-MODIFIED:20231217T183013Z
UID:6364-1724436000-1724439600@sibfordvillagehall.org.uk
SUMMARY:Horti show set up
DESCRIPTION:
URL:https://sibfordvillagehall.org.uk/event/meeting-3-3/
LOCATION:Main hall
END:VEVENT
BEGIN:VEVENT
DTSTART;TZID=Europe/London:20240824T143000
DTEND;TZID=Europe/London:20240824T160000
DTSTAMP:20260422T234750
CREATED:20240709T183013Z
LAST-MODIFIED:20240709T183013Z
UID:7498-1724509800-1724515200@sibfordvillagehall.org.uk
SUMMARY:Horti Summer Show
DESCRIPTION:Entry forms were delivered with the July/August Sibford Scene\, but if you have lost it\, you can download it from here: Sibford Scene 465 July 2024 horti
URL:https://sibfordvillagehall.org.uk/event/horti-summer-show-4-2/
LOCATION:Main hall
END:VEVENT
BEGIN:VEVENT
DTSTART;TZID=Europe/London:20240827T120000
DTEND;TZID=Europe/London:20240827T160000
DTSTAMP:20260422T234750
CREATED:20240215T183015Z
LAST-MODIFIED:20240215T183015Z
UID:6917-1724760000-1724774400@sibfordvillagehall.org.uk
SUMMARY:Private event
DESCRIPTION:
URL:https://sibfordvillagehall.org.uk/event/private-event-85/
LOCATION:Main hall
END:VEVENT
BEGIN:VEVENT
DTSTART;TZID=Europe/London:20240827T193000
DTEND;TZID=Europe/London:20240827T213000
DTSTAMP:20260422T234750
CREATED:20240304T183043Z
LAST-MODIFIED:20240304T183043Z
UID:7104-1724787000-1724794200@sibfordvillagehall.org.uk
SUMMARY:Sibford Photography Club
DESCRIPTION:
URL:https://sibfordvillagehall.org.uk/event/sibford-photography-club-26-7/
LOCATION:Small hall
END:VEVENT
BEGIN:VEVENT
DTSTART;TZID=Europe/London:20240828T130000
DTEND;TZID=Europe/London:20240828T130000
DTSTAMP:20260422T234750
CREATED:20240131T183025Z
LAST-MODIFIED:20240131T183025Z
UID:6797-1724850000-1724850000@sibfordvillagehall.org.uk
SUMMARY:Sibford Lunch Club
DESCRIPTION:
URL:https://sibfordvillagehall.org.uk/event/sibford-lunch-club-13-34/
LOCATION:Main hall
END:VEVENT
BEGIN:VEVENT
DTSTART;TZID=Europe/London:20240828T193000
DTEND;TZID=Europe/London:20240828T193000
DTSTAMP:20260422T234750
CREATED:20240822T183005Z
LAST-MODIFIED:20240822T183005Z
UID:7637-1724873400-1724873400@sibfordvillagehall.org.uk
SUMMARY:Film Night
DESCRIPTION:A film for all the family\, young or old\, Fly Away Home is a 1996 family adventure drama film directed by Carroll Ballard. After spending nine years apart\, 13-year-old Amy(Anna Paquin) and her father Thomas (Jeff Daniels) are finally reunited. But things don’t go smoothly at first\, and while Thomas spends all his time testing a lightweight aircraft he has built\, Amy finds solace with the geese nesting in a nearby lake. When developers then threaten to displace the geese\, Amy volunteers to lead them on their migration by flying in Thomas’ aircraft.  \nRotten tomatoes review 88% \nDoors open at 7. Film starts at 7.30. Admission: Adult £3\, Child: free. Refreshments available.
URL:https://sibfordvillagehall.org.uk/event/film-night-fly-away-home/
LOCATION:Main hall
END:VEVENT
END:VCALENDAR