BEGIN:VCALENDAR
VERSION:2.0
PRODID:-//Sibford Village Hall - ECPv6.15.20//NONSGML v1.0//EN
CALSCALE:GREGORIAN
METHOD:PUBLISH
X-WR-CALNAME:Sibford Village Hall
X-ORIGINAL-URL:https://sibfordvillagehall.org.uk
X-WR-CALDESC:Events for Sibford Village Hall
REFRESH-INTERVAL;VALUE=DURATION:PT1H
X-Robots-Tag:noindex
X-PUBLISHED-TTL:PT1H
BEGIN:VTIMEZONE
TZID:Europe/London
BEGIN:DAYLIGHT
TZOFFSETFROM:+0000
TZOFFSETTO:+0100
TZNAME:BST
DTSTART:20230326T010000
END:DAYLIGHT
BEGIN:STANDARD
TZOFFSETFROM:+0100
TZOFFSETTO:+0000
TZNAME:GMT
DTSTART:20231029T010000
END:STANDARD
BEGIN:DAYLIGHT
TZOFFSETFROM:+0000
TZOFFSETTO:+0100
TZNAME:BST
DTSTART:20240331T010000
END:DAYLIGHT
BEGIN:STANDARD
TZOFFSETFROM:+0100
TZOFFSETTO:+0000
TZNAME:GMT
DTSTART:20241027T010000
END:STANDARD
BEGIN:DAYLIGHT
TZOFFSETFROM:+0000
TZOFFSETTO:+0100
TZNAME:BST
DTSTART:20250330T010000
END:DAYLIGHT
BEGIN:STANDARD
TZOFFSETFROM:+0100
TZOFFSETTO:+0000
TZNAME:GMT
DTSTART:20251026T010000
END:STANDARD
END:VTIMEZONE
BEGIN:VEVENT
DTSTART;TZID=Europe/London:20240701T093000
DTEND;TZID=Europe/London:20240701T120000
DTSTAMP:20260422T235734
CREATED:20240624T183005Z
LAST-MODIFIED:20240624T183005Z
UID:7466-1719826200-1719835200@sibfordvillagehall.org.uk
SUMMARY:Private event
DESCRIPTION:
URL:https://sibfordvillagehall.org.uk/event/private-event-127-2/
LOCATION:Main hall
END:VEVENT
BEGIN:VEVENT
DTSTART;TZID=Europe/London:20240702T140000
DTEND;TZID=Europe/London:20240702T160000
DTSTAMP:20260422T235734
CREATED:20240509T183009Z
LAST-MODIFIED:20240509T183009Z
UID:7338-1719928800-1719936000@sibfordvillagehall.org.uk
SUMMARY:Friendship Club
DESCRIPTION:
URL:https://sibfordvillagehall.org.uk/event/friendship-club-14-6/
LOCATION:Small hall
END:VEVENT
BEGIN:VEVENT
DTSTART;TZID=Europe/London:20240703T130000
DTEND;TZID=Europe/London:20240703T130000
DTSTAMP:20260422T235734
CREATED:20240131T183024Z
LAST-MODIFIED:20240131T183024Z
UID:6789-1720011600-1720011600@sibfordvillagehall.org.uk
SUMMARY:Sibford Lunch Club
DESCRIPTION:
URL:https://sibfordvillagehall.org.uk/event/sibford-lunch-club-13-26/
LOCATION:Main hall
END:VEVENT
BEGIN:VEVENT
DTSTART;TZID=Europe/London:20240703T173000
DTEND;TZID=Europe/London:20240703T183000
DTSTAMP:20260422T235734
CREATED:20240612T183008Z
LAST-MODIFIED:20240612T183008Z
UID:7452-1720027800-1720031400@sibfordvillagehall.org.uk
SUMMARY:Private event
DESCRIPTION:
URL:https://sibfordvillagehall.org.uk/event/private-event-97-3/
LOCATION:Main hall
END:VEVENT
BEGIN:VEVENT
DTSTART;TZID=Europe/London:20240704T070000
DTEND;TZID=Europe/London:20240704T220000
DTSTAMP:20260422T235734
CREATED:20240703T183004Z
LAST-MODIFIED:20240703T183004Z
UID:7480-1720076400-1720130400@sibfordvillagehall.org.uk
SUMMARY:Polling Station
DESCRIPTION:Voter ID\nDon’t forget that you will need some form of photographic identification in order to vote. For a list of acceptable forms of ID\, visit https://www.cherwell.gov.uk/info/11/elections/1041/voter-id
URL:https://sibfordvillagehall.org.uk/event/polling-station-3/
LOCATION:Small hall
END:VEVENT
BEGIN:VEVENT
DTSTART;TZID=Europe/London:20240704T080000
DTEND;TZID=Europe/London:20240704T223000
DTSTAMP:20260422T235734
CREATED:20240704T183002Z
LAST-MODIFIED:20240704T183002Z
UID:7482-1720080000-1720132200@sibfordvillagehall.org.uk
SUMMARY:Polling Station
DESCRIPTION:
URL:https://sibfordvillagehall.org.uk/event/polling-station-4/
LOCATION:Small hall
END:VEVENT
BEGIN:VEVENT
DTSTART;TZID=Europe/London:20240705T093000
DTEND;TZID=Europe/London:20240705T113000
DTSTAMP:20260422T235734
CREATED:20240413T183009Z
LAST-MODIFIED:20240413T183009Z
UID:7260-1720171800-1720179000@sibfordvillagehall.org.uk
SUMMARY:Tots and babes
DESCRIPTION:
URL:https://sibfordvillagehall.org.uk/event/tots-and-babes-10/
LOCATION:Small hall
END:VEVENT
BEGIN:VEVENT
DTSTART;TZID=Europe/London:20240705T093000
DTEND;TZID=Europe/London:20240705T123000
DTSTAMP:20260422T235734
CREATED:20240607T183023Z
LAST-MODIFIED:20240607T183023Z
UID:7424-1720171800-1720182600@sibfordvillagehall.org.uk
SUMMARY:Art Class
DESCRIPTION:For more information contact Nigel Fletcher nvfletcher@btinternet.com\, 07792 657 248 or visit www.nigelfletcher.co.uk
URL:https://sibfordvillagehall.org.uk/event/art-class-4-7/
LOCATION:Main hall
END:VEVENT
BEGIN:VEVENT
DTSTART;TZID=Europe/London:20240706T090000
DTEND;TZID=Europe/London:20240706T100000
DTSTAMP:20260422T235734
CREATED:20240706T183005Z
LAST-MODIFIED:20240706T183005Z
UID:7483-1720256400-1720260000@sibfordvillagehall.org.uk
SUMMARY:Private event
DESCRIPTION:
URL:https://sibfordvillagehall.org.uk/event/private-event-142/
LOCATION:Main hall
END:VEVENT
BEGIN:VEVENT
DTSTART;TZID=Europe/London:20240706T110000
DTEND;TZID=Europe/London:20240706T143000
DTSTAMP:20260422T235734
CREATED:20240602T183008Z
LAST-MODIFIED:20240602T183008Z
UID:7397-1720263600-1720276200@sibfordvillagehall.org.uk
SUMMARY:Private event
DESCRIPTION:
URL:https://sibfordvillagehall.org.uk/event/private-event-133/
LOCATION:Main hall
END:VEVENT
BEGIN:VEVENT
DTSTART;TZID=Europe/London:20240708T183000
DTEND;TZID=Europe/London:20240708T193000
DTSTAMP:20260422T235734
CREATED:20240706T183005Z
LAST-MODIFIED:20240706T183005Z
UID:7484-1720463400-1720467000@sibfordvillagehall.org.uk
SUMMARY:Private event
DESCRIPTION:
URL:https://sibfordvillagehall.org.uk/event/private-event-143/
LOCATION:Main hall
END:VEVENT
BEGIN:VEVENT
DTSTART;TZID=Europe/London:20240710T130000
DTEND;TZID=Europe/London:20240710T130000
DTSTAMP:20260422T235734
CREATED:20240131T183024Z
LAST-MODIFIED:20240131T183024Z
UID:6790-1720616400-1720616400@sibfordvillagehall.org.uk
SUMMARY:Sibford Lunch Club
DESCRIPTION:
URL:https://sibfordvillagehall.org.uk/event/sibford-lunch-club-13-27/
LOCATION:Main hall
END:VEVENT
BEGIN:VEVENT
DTSTART;TZID=Europe/London:20240710T173000
DTEND;TZID=Europe/London:20240710T183000
DTSTAMP:20260422T235734
CREATED:20240612T183008Z
LAST-MODIFIED:20240612T183008Z
UID:7453-1720632600-1720636200@sibfordvillagehall.org.uk
SUMMARY:Private event
DESCRIPTION:
URL:https://sibfordvillagehall.org.uk/event/private-event-97-4/
LOCATION:Main hall
END:VEVENT
BEGIN:VEVENT
DTSTART;TZID=Europe/London:20240711T090000
DTEND;TZID=Europe/London:20240711T090000
DTSTAMP:20260422T235734
CREATED:20240701T183035Z
LAST-MODIFIED:20240701T183035Z
UID:7470-1720688400-1720688400@sibfordvillagehall.org.uk
SUMMARY:Yoga
DESCRIPTION:9am – 10am Yoga \n10.15am – 11.15am Chair yoga \nFor more information\, contact Juliette Glazebrook: juliette53@btinternet.com or 07703 836 856
URL:https://sibfordvillagehall.org.uk/event/private-event-131-5/
LOCATION:Main hall
END:VEVENT
BEGIN:VEVENT
DTSTART;TZID=Europe/London:20240712T093000
DTEND;TZID=Europe/London:20240712T113000
DTSTAMP:20260422T235734
CREATED:20240708T183005Z
LAST-MODIFIED:20240708T183005Z
UID:7489-1720776600-1720783800@sibfordvillagehall.org.uk
SUMMARY:Private event
DESCRIPTION:
URL:https://sibfordvillagehall.org.uk/event/tots-and-babes-11/
LOCATION:Small hall
END:VEVENT
BEGIN:VEVENT
DTSTART;TZID=Europe/London:20240712T160000
DTEND;TZID=Europe/London:20240712T190000
DTSTAMP:20260422T235734
CREATED:20240622T183007Z
LAST-MODIFIED:20240622T183007Z
UID:7462-1720800000-1720810800@sibfordvillagehall.org.uk
SUMMARY:Beavers\, Cubs and Scouts
DESCRIPTION:
URL:https://sibfordvillagehall.org.uk/event/private-event-137-3/
LOCATION:Main hall
END:VEVENT
BEGIN:VEVENT
DTSTART;TZID=Europe/London:20240712T173000
DTEND;TZID=Europe/London:20240712T190000
DTSTAMP:20260422T235734
CREATED:20240622T183007Z
LAST-MODIFIED:20240622T183007Z
UID:7463-1720805400-1720810800@sibfordvillagehall.org.uk
SUMMARY:Beavers\, Cubs and Scouts
DESCRIPTION:
URL:https://sibfordvillagehall.org.uk/event/private-event-138-4/
LOCATION:Small hall
END:VEVENT
BEGIN:VEVENT
DTSTART;TZID=Europe/London:20240713T090000
DTEND;TZID=Europe/London:20240713T100000
DTSTAMP:20260422T235734
CREATED:20240706T183005Z
LAST-MODIFIED:20240706T183005Z
UID:7485-1720861200-1720864800@sibfordvillagehall.org.uk
SUMMARY:Private event
DESCRIPTION:
URL:https://sibfordvillagehall.org.uk/event/private-event-142-2/
LOCATION:Main hall
END:VEVENT
BEGIN:VEVENT
DTSTART;TZID=Europe/London:20240717T130000
DTEND;TZID=Europe/London:20240717T130000
DTSTAMP:20260422T235734
CREATED:20240131T183024Z
LAST-MODIFIED:20240131T183024Z
UID:6791-1721221200-1721221200@sibfordvillagehall.org.uk
SUMMARY:Sibford Lunch Club
DESCRIPTION:
URL:https://sibfordvillagehall.org.uk/event/sibford-lunch-club-13-28/
LOCATION:Main hall
END:VEVENT
BEGIN:VEVENT
DTSTART;TZID=Europe/London:20240717T173000
DTEND;TZID=Europe/London:20240717T183000
DTSTAMP:20260422T235734
CREATED:20240612T183008Z
LAST-MODIFIED:20240612T183008Z
UID:7454-1721237400-1721241000@sibfordvillagehall.org.uk
SUMMARY:Private event
DESCRIPTION:
URL:https://sibfordvillagehall.org.uk/event/private-event-97-5/
LOCATION:Main hall
END:VEVENT
BEGIN:VEVENT
DTSTART;TZID=Europe/London:20240717T193000
DTEND;TZID=Europe/London:20240717T220000
DTSTAMP:20260422T235734
CREATED:20240716T183004Z
LAST-MODIFIED:20240716T183004Z
UID:7535-1721244600-1721253600@sibfordvillagehall.org.uk
SUMMARY:Meeting of Town Estate Charity
DESCRIPTION:
URL:https://sibfordvillagehall.org.uk/event/meeting-of-town-estat/
LOCATION:Small hall
END:VEVENT
BEGIN:VEVENT
DTSTART;TZID=Europe/London:20240718T090000
DTEND;TZID=Europe/London:20240718T090000
DTSTAMP:20260422T235734
CREATED:20240701T183036Z
LAST-MODIFIED:20240701T183036Z
UID:7471-1721293200-1721293200@sibfordvillagehall.org.uk
SUMMARY:Yoga
DESCRIPTION:9am – 10am Yoga \n10.15am – 11.15am Chair yoga \nFor more information\, contact Juliette Glazebrook: juliette53@btinternet.com or 07703 836 856
URL:https://sibfordvillagehall.org.uk/event/private-event-131-6/
LOCATION:Main hall
END:VEVENT
BEGIN:VEVENT
DTSTART;TZID=Europe/London:20240718T193000
DTEND;TZID=Europe/London:20240718T193000
DTSTAMP:20260422T235734
CREATED:20240717T183003Z
LAST-MODIFIED:20240717T183003Z
UID:7536-1721331000-1721331000@sibfordvillagehall.org.uk
SUMMARY:Sibfords History Society - Empress Matilda
DESCRIPTION:Unfortunately this talk has had to be cancelled due to travel difficuties for the speaker. \nMarie-Louise Kerr will tell us about The woman who would be Queen: the life of  Empress Matilda and her connections with Oxfordshire. \nEmpress Matilda (1102 – 1167) was one of the claimants to the English throne during the civil war known as the Anarchy. The daughter and heir of King Henry I of England\, she went to Germany as a child when she was married to the future Holy Roman Emperor Henry V. She travelled with the emperor to Italy in 1116\, was controversially crowned empress in St Peter’s Basilica\, and acted as the imperial regent in Italy.
URL:https://sibfordvillagehall.org.uk/event/sibfords-history-society-empress-matilda/
LOCATION:Main hall
END:VEVENT
BEGIN:VEVENT
DTSTART;TZID=Europe/London:20240719T093000
DTEND;TZID=Europe/London:20240719T113000
DTSTAMP:20260422T235734
CREATED:20240713T183007Z
LAST-MODIFIED:20240713T183007Z
UID:7520-1721381400-1721388600@sibfordvillagehall.org.uk
SUMMARY:Private event
DESCRIPTION:
URL:https://sibfordvillagehall.org.uk/event/tots-and-babes-12/
LOCATION:Small hall
END:VEVENT
BEGIN:VEVENT
DTSTART;TZID=Europe/London:20240720T090000
DTEND;TZID=Europe/London:20240720T100000
DTSTAMP:20260422T235734
CREATED:20240706T183005Z
LAST-MODIFIED:20240706T183005Z
UID:7486-1721466000-1721469600@sibfordvillagehall.org.uk
SUMMARY:Private event
DESCRIPTION:
URL:https://sibfordvillagehall.org.uk/event/private-event-142-3/
LOCATION:Main hall
END:VEVENT
BEGIN:VEVENT
DTSTART;TZID=Europe/London:20240720T100000
DTEND;TZID=Europe/London:20240720T120000
DTSTAMP:20260422T235734
CREATED:20240317T183012Z
LAST-MODIFIED:20240317T183012Z
UID:7165-1721469600-1721476800@sibfordvillagehall.org.uk
SUMMARY:Book Swap and Café
DESCRIPTION:Welcome to our monthly chance to have coffee/cake and a chat. Browse our large selection of books and borrow any you like. No need to bring a book to swap. No charge. Donations welcome.
URL:https://sibfordvillagehall.org.uk/event/private-event-51-7/
LOCATION:Small hall
END:VEVENT
BEGIN:VEVENT
DTSTART;TZID=Europe/London:20240721T090000
DTEND;TZID=Europe/London:20240721T150000
DTSTAMP:20260422T235734
CREATED:20240624T183007Z
LAST-MODIFIED:20240624T183007Z
UID:7467-1721552400-1721574000@sibfordvillagehall.org.uk
SUMMARY:Private event
DESCRIPTION:
URL:https://sibfordvillagehall.org.uk/event/private-event-136/
LOCATION:Main hall
END:VEVENT
BEGIN:VEVENT
DTSTART;TZID=Europe/London:20240724T130000
DTEND;TZID=Europe/London:20240724T130000
DTSTAMP:20260422T235734
CREATED:20240131T183024Z
LAST-MODIFIED:20240131T183024Z
UID:6792-1721826000-1721826000@sibfordvillagehall.org.uk
SUMMARY:Sibford Lunch Club
DESCRIPTION:
URL:https://sibfordvillagehall.org.uk/event/sibford-lunch-club-13-29/
LOCATION:Main hall
END:VEVENT
BEGIN:VEVENT
DTSTART;TZID=Europe/London:20240724T143000
DTEND;TZID=Europe/London:20240724T183000
DTSTAMP:20260422T235734
CREATED:20240515T183006Z
LAST-MODIFIED:20240515T183006Z
UID:7347-1721831400-1721845800@sibfordvillagehall.org.uk
SUMMARY:Private event
DESCRIPTION:
URL:https://sibfordvillagehall.org.uk/event/private-event-124/
LOCATION:Main hall
END:VEVENT
BEGIN:VEVENT
DTSTART;TZID=Europe/London:20240725T180000
DTEND;TZID=Europe/London:20240725T190000
DTSTAMP:20260422T235734
CREATED:20240720T183004Z
LAST-MODIFIED:20240720T183004Z
UID:7540-1721930400-1721934000@sibfordvillagehall.org.uk
SUMMARY:Sibford Gower Parish Council Extraordinary Meeting
DESCRIPTION:SGPC Agenda 25.07.24
URL:https://sibfordvillagehall.org.uk/event/sibford-gower-parish-council-meeting-23/
LOCATION:Small hall
END:VEVENT
END:VCALENDAR