BEGIN:VCALENDAR
VERSION:2.0
PRODID:-//Sibford Village Hall - ECPv6.15.20//NONSGML v1.0//EN
CALSCALE:GREGORIAN
METHOD:PUBLISH
X-WR-CALNAME:Sibford Village Hall
X-ORIGINAL-URL:https://sibfordvillagehall.org.uk
X-WR-CALDESC:Events for Sibford Village Hall
REFRESH-INTERVAL;VALUE=DURATION:PT1H
X-Robots-Tag:noindex
X-PUBLISHED-TTL:PT1H
BEGIN:VTIMEZONE
TZID:Europe/London
BEGIN:DAYLIGHT
TZOFFSETFROM:+0000
TZOFFSETTO:+0100
TZNAME:BST
DTSTART:20250330T010000
END:DAYLIGHT
BEGIN:STANDARD
TZOFFSETFROM:+0100
TZOFFSETTO:+0000
TZNAME:GMT
DTSTART:20251026T010000
END:STANDARD
BEGIN:DAYLIGHT
TZOFFSETFROM:+0000
TZOFFSETTO:+0100
TZNAME:BST
DTSTART:20260329T010000
END:DAYLIGHT
BEGIN:STANDARD
TZOFFSETFROM:+0100
TZOFFSETTO:+0000
TZNAME:GMT
DTSTART:20261025T010000
END:STANDARD
BEGIN:DAYLIGHT
TZOFFSETFROM:+0000
TZOFFSETTO:+0100
TZNAME:BST
DTSTART:20270328T010000
END:DAYLIGHT
BEGIN:STANDARD
TZOFFSETFROM:+0100
TZOFFSETTO:+0000
TZNAME:GMT
DTSTART:20271031T010000
END:STANDARD
END:VTIMEZONE
BEGIN:VEVENT
DTSTART;TZID=Europe/London:20260508T093000
DTEND;TZID=Europe/London:20260508T113000
DTSTAMP:20260420T211010
CREATED:20260303T112706Z
LAST-MODIFIED:20260303T112706Z
UID:11546-1778232600-1778239800@sibfordvillagehall.org.uk
SUMMARY:Private event
DESCRIPTION:
URL:https://sibfordvillagehall.org.uk/event/pe-322-4/
LOCATION:Small hall
END:VEVENT
BEGIN:VEVENT
DTSTART;TZID=Europe/London:20260508T160000
DTEND;TZID=Europe/London:20260508T173000
DTSTAMP:20260420T211010
CREATED:20260109T112719Z
LAST-MODIFIED:20260109T112719Z
UID:11144-1778256000-1778261400@sibfordvillagehall.org.uk
SUMMARY:Private event
DESCRIPTION:
URL:https://sibfordvillagehall.org.uk/event/pe-291-13/
LOCATION:Main hall
END:VEVENT
BEGIN:VEVENT
DTSTART;TZID=Europe/London:20260508T173000
DTEND;TZID=Europe/London:20260508T190000
DTSTAMP:20260420T211010
CREATED:20260108T112726Z
LAST-MODIFIED:20260108T112726Z
UID:11114-1778261400-1778266800@sibfordvillagehall.org.uk
SUMMARY:Private event
DESCRIPTION:
URL:https://sibfordvillagehall.org.uk/event/pe-296/
LOCATION:Main hall
END:VEVENT
BEGIN:VEVENT
DTSTART;TZID=Europe/London:20260508T193000
DTEND;TZID=Europe/London:20260508T203000
DTSTAMP:20260420T211010
CREATED:20260327T112736Z
LAST-MODIFIED:20260327T112736Z
UID:11626-1778268600-1778272200@sibfordvillagehall.org.uk
SUMMARY:Private event
DESCRIPTION:
URL:https://sibfordvillagehall.org.uk/event/artweeks-art-exhibiti-4/
LOCATION:Main hall
END:VEVENT
BEGIN:VEVENT
DTSTART;TZID=Europe/London:20260509T110000
DTEND;TZID=Europe/London:20260509T170000
DTSTAMP:20260420T211010
CREATED:20260420T112708Z
LAST-MODIFIED:20260420T112708Z
UID:11764-1778324400-1778346000@sibfordvillagehall.org.uk
SUMMARY:Artweeks Festival Exhibition
DESCRIPTION:Sibford Village Hall is Venue 255 and you will be welcomed by Ginny Bennett\, Sue Levitch\, Corina Titman and Judith Waywell. We are all local artists and will be showing a wide variety of painted art. \nOpening times 11am to 5pm on  Saturday May 9th to Tuesday May 12th. \nWe will be on hand to chat about our work. \nPaintings and cards for sale. Refreshments available. \nOxfordshire Artweeks Festival runs from May 2nd to 25th over the whole of Oxfordshire. More that a thousand artists\, makers and designers will exhibit and demonstrate in artist studios\, pop-up galleries\, glorious gardens\, ancient churches\, schools and colleges and village halls. \n See paintings\, ceramics\, sculpture\, photography\, glass\, jewellery\, woodwork and textiles. \nNorth Oxfordshire Artweeks is from May 9th to 17th and every venue is free to enter.
URL:https://sibfordvillagehall.org.uk/event/artweeks-art-exhibiti-5/
LOCATION:Main hall
END:VEVENT
BEGIN:VEVENT
DTSTART;TZID=Europe/London:20260510T110000
DTEND;TZID=Europe/London:20260510T170000
DTSTAMP:20260420T211010
CREATED:20260420T112709Z
LAST-MODIFIED:20260420T112709Z
UID:11765-1778410800-1778432400@sibfordvillagehall.org.uk
SUMMARY:Artweeks Festival Exhibition
DESCRIPTION:Sibford Village Hall is Venue 255 and you will be welcomed by Ginny Bennett\, Sue Levitch\, Corina Titman and Judith Waywell. We are all local artists and will be showing a wide variety of painted art. \nOpening times 11am to 5pm on  Saturday May 9th to Tuesday May 12th. \nWe will be on hand to chat about our work. \nPaintings and cards for sale. Refreshments available. \nOxfordshire Artweeks Festival runs from May 2nd to 25th over the whole of Oxfordshire. More that a thousand artists\, makers and designers will exhibit and demonstrate in artist studios\, pop-up galleries\, glorious gardens\, ancient churches\, schools and colleges and village halls. \n See paintings\, ceramics\, sculpture\, photography\, glass\, jewellery\, woodwork and textiles. \nNorth Oxfordshire Artweeks is from May 9th to 17th and every venue is free to enter.
URL:https://sibfordvillagehall.org.uk/event/artweeks-art-exhibiti-5-2/
LOCATION:Main hall
END:VEVENT
BEGIN:VEVENT
DTSTART;TZID=Europe/London:20260511T110000
DTEND;TZID=Europe/London:20260511T170000
DTSTAMP:20260420T211010
CREATED:20260420T112709Z
LAST-MODIFIED:20260420T112709Z
UID:11766-1778497200-1778518800@sibfordvillagehall.org.uk
SUMMARY:Artweeks Festival Exhibition
DESCRIPTION:Sibford Village Hall is Venue 255 and you will be welcomed by Ginny Bennett\, Sue Levitch\, Corina Titman and Judith Waywell. We are all local artists and will be showing a wide variety of painted art. \nOpening times 11am to 5pm on  Saturday May 9th to Tuesday May 12th. \nWe will be on hand to chat about our work. \nPaintings and cards for sale. Refreshments available. \nOxfordshire Artweeks Festival runs from May 2nd to 25th over the whole of Oxfordshire. More that a thousand artists\, makers and designers will exhibit and demonstrate in artist studios\, pop-up galleries\, glorious gardens\, ancient churches\, schools and colleges and village halls. \n See paintings\, ceramics\, sculpture\, photography\, glass\, jewellery\, woodwork and textiles. \nNorth Oxfordshire Artweeks is from May 9th to 17th and every venue is free to enter.
URL:https://sibfordvillagehall.org.uk/event/artweeks-art-exhibiti-5-3/
LOCATION:Main hall
END:VEVENT
BEGIN:VEVENT
DTSTART;TZID=Europe/London:20260511T193000
DTEND;TZID=Europe/London:20260511T210000
DTSTAMP:20260420T211010
CREATED:20260411T112706Z
LAST-MODIFIED:20260411T112706Z
UID:11667-1778527800-1778533200@sibfordvillagehall.org.uk
SUMMARY:Private event
DESCRIPTION:
URL:https://sibfordvillagehall.org.uk/event/pe-341/
LOCATION:Small hall
END:VEVENT
BEGIN:VEVENT
DTSTART;TZID=Europe/London:20260512T110000
DTEND;TZID=Europe/London:20260512T170000
DTSTAMP:20260420T211010
CREATED:20260420T112709Z
LAST-MODIFIED:20260420T112709Z
UID:11767-1778583600-1778605200@sibfordvillagehall.org.uk
SUMMARY:Artweeks Festival Exhibition
DESCRIPTION:Sibford Village Hall is Venue 255 and you will be welcomed by Ginny Bennett\, Sue Levitch\, Corina Titman and Judith Waywell. We are all local artists and will be showing a wide variety of painted art. \nOpening times 11am to 5pm on  Saturday May 9th to Tuesday May 12th. \nWe will be on hand to chat about our work. \nPaintings and cards for sale. Refreshments available. \nOxfordshire Artweeks Festival runs from May 2nd to 25th over the whole of Oxfordshire. More that a thousand artists\, makers and designers will exhibit and demonstrate in artist studios\, pop-up galleries\, glorious gardens\, ancient churches\, schools and colleges and village halls. \n See paintings\, ceramics\, sculpture\, photography\, glass\, jewellery\, woodwork and textiles. \nNorth Oxfordshire Artweeks is from May 9th to 17th and every venue is free to enter.
URL:https://sibfordvillagehall.org.uk/event/artweeks-art-exhibiti-5-4/
LOCATION:Main hall
END:VEVENT
BEGIN:VEVENT
DTSTART;TZID=Europe/London:20260512T183000
DTEND;TZID=Europe/London:20260512T210000
DTSTAMP:20260420T211010
CREATED:20260418T112715Z
LAST-MODIFIED:20260418T112715Z
UID:11729-1778610600-1778619600@sibfordvillagehall.org.uk
SUMMARY:Private event
DESCRIPTION:
URL:https://sibfordvillagehall.org.uk/event/pe-343/
LOCATION:Main hall
END:VEVENT
BEGIN:VEVENT
DTSTART;TZID=Europe/London:20260512T190000
DTEND;TZID=Europe/London:20260512T210000
DTSTAMP:20260420T211010
CREATED:20260418T112715Z
LAST-MODIFIED:20260418T112715Z
UID:11730-1778612400-1778619600@sibfordvillagehall.org.uk
SUMMARY:Bridge Club
DESCRIPTION:
URL:https://sibfordvillagehall.org.uk/event/bridge-club-14/
LOCATION:Small hall
END:VEVENT
BEGIN:VEVENT
DTSTART;TZID=Europe/London:20260513T090000
DTEND;TZID=Europe/London:20260513T110000
DTSTAMP:20260420T211010
CREATED:20260325T112705Z
LAST-MODIFIED:20260325T112705Z
UID:11615-1778662800-1778670000@sibfordvillagehall.org.uk
SUMMARY:Private event
DESCRIPTION:
URL:https://sibfordvillagehall.org.uk/event/pe-332-6/
LOCATION:Main hall
END:VEVENT
BEGIN:VEVENT
DTSTART;TZID=Europe/London:20260513T123000
DTEND;TZID=Europe/London:20260513T123000
DTSTAMP:20260420T211010
CREATED:20260212T112722Z
LAST-MODIFIED:20260212T112722Z
UID:11414-1778675400-1778675400@sibfordvillagehall.org.uk
SUMMARY:Sibford Lunch Club
DESCRIPTION:
URL:https://sibfordvillagehall.org.uk/event/sibford-lunch-club-16-18/
LOCATION:Main hall
END:VEVENT
BEGIN:VEVENT
DTSTART;TZID=Europe/London:20260513T190000
DTEND;TZID=Europe/London:20260513T200000
DTSTAMP:20260420T211010
CREATED:20260416T112703Z
LAST-MODIFIED:20260416T112703Z
UID:11723-1778698800-1778702400@sibfordvillagehall.org.uk
SUMMARY:Horti Show - Entry night
DESCRIPTION:Here is the Schedule for the Horti Spring Show\, with all you need to know to enter your produce\, photos\, handicrafts\, cakes\, etc. \nClick to download: Horti Schedule Spring 26
URL:https://sibfordvillagehall.org.uk/event/pe-253/
LOCATION:Small hall
END:VEVENT
BEGIN:VEVENT
DTSTART;TZID=Europe/London:20260514T143000
DTEND;TZID=Europe/London:20260514T160000
DTSTAMP:20260420T211010
CREATED:20260412T112726Z
LAST-MODIFIED:20260412T112726Z
UID:11678-1778769000-1778774400@sibfordvillagehall.org.uk
SUMMARY:Community Café
DESCRIPTION:Free to attend as kindly sponsored by the Town Estate Charity \nRefreshments available as well as games\, crafts\, books\, puzzles. \nCome and socialise and keep warm in the small hall. \nContact Ginny on 01295 780 373 or ginnybennett@googlemail.com for more information. \nAll welcome!
URL:https://sibfordvillagehall.org.uk/event/community-cafe-prev-3-6/
LOCATION:Small hall
END:VEVENT
BEGIN:VEVENT
DTSTART;TZID=Europe/London:20260515T093000
DTEND;TZID=Europe/London:20260515T113000
DTSTAMP:20260420T211010
CREATED:20260303T112707Z
LAST-MODIFIED:20260303T112707Z
UID:11547-1778837400-1778844600@sibfordvillagehall.org.uk
SUMMARY:Private event
DESCRIPTION:
URL:https://sibfordvillagehall.org.uk/event/pe-322-5/
LOCATION:Small hall
END:VEVENT
BEGIN:VEVENT
DTSTART;TZID=Europe/London:20260515T160000
DTEND;TZID=Europe/London:20260515T173000
DTSTAMP:20260420T211010
CREATED:20260109T112720Z
LAST-MODIFIED:20260109T112720Z
UID:11148-1778860800-1778866200@sibfordvillagehall.org.uk
SUMMARY:Private event
DESCRIPTION:
URL:https://sibfordvillagehall.org.uk/event/pe-293/
LOCATION:Main hall
END:VEVENT
BEGIN:VEVENT
DTSTART;TZID=Europe/London:20260515T173000
DTEND;TZID=Europe/London:20260515T190000
DTSTAMP:20260420T211010
CREATED:20260108T112727Z
LAST-MODIFIED:20260108T112727Z
UID:11116-1778866200-1778871600@sibfordvillagehall.org.uk
SUMMARY:Private event
DESCRIPTION:
URL:https://sibfordvillagehall.org.uk/event/pe-296-2/
LOCATION:Main hall
END:VEVENT
BEGIN:VEVENT
DTSTART;TZID=Europe/London:20260515T193000
DTEND;TZID=Europe/London:20260515T193000
DTSTAMP:20260420T211010
CREATED:20260109T112720Z
LAST-MODIFIED:20260109T112720Z
UID:11149-1778873400-1778873400@sibfordvillagehall.org.uk
SUMMARY:Horti meeting
DESCRIPTION:
URL:https://sibfordvillagehall.org.uk/event/hort-meetings-horti/
LOCATION:Main hall
END:VEVENT
BEGIN:VEVENT
DTSTART;TZID=Europe/London:20260516T143000
DTEND;TZID=Europe/London:20260516T160000
DTSTAMP:20260420T211010
CREATED:20260412T112726Z
LAST-MODIFIED:20260412T112726Z
UID:11679-1778941800-1778947200@sibfordvillagehall.org.uk
SUMMARY:Horti Spring Show
DESCRIPTION:With Plant Sale and refreshments
URL:https://sibfordvillagehall.org.uk/event/pe-255/
LOCATION:Main hall
END:VEVENT
BEGIN:VEVENT
DTSTART;TZID=Europe/London:20260517T130000
DTEND;TZID=Europe/London:20260517T170000
DTSTAMP:20260420T211010
CREATED:20251112T112716Z
LAST-MODIFIED:20251112T112716Z
UID:10416-1779022800-1779037200@sibfordvillagehall.org.uk
SUMMARY:Private event
DESCRIPTION:
URL:https://sibfordvillagehall.org.uk/event/pe-262/
LOCATION:Main hall
END:VEVENT
BEGIN:VEVENT
DTSTART;TZID=Europe/London:20260517T173000
DTEND;TZID=Europe/London:20260517T190000
DTSTAMP:20260420T211010
CREATED:20260325T112705Z
LAST-MODIFIED:20260325T112705Z
UID:11616-1779039000-1779044400@sibfordvillagehall.org.uk
SUMMARY:Private event
DESCRIPTION:
URL:https://sibfordvillagehall.org.uk/event/pe-333-2/
LOCATION:Main hall
END:VEVENT
BEGIN:VEVENT
DTSTART;TZID=Europe/London:20260518T100000
DTEND;TZID=Europe/London:20260518T110000
DTSTAMP:20260420T211010
CREATED:20260325T112706Z
LAST-MODIFIED:20260325T112706Z
UID:11617-1779098400-1779102000@sibfordvillagehall.org.uk
SUMMARY:Private event
DESCRIPTION:
URL:https://sibfordvillagehall.org.uk/event/pe-330-6/
LOCATION:Main hall
END:VEVENT
BEGIN:VEVENT
DTSTART;TZID=Europe/London:20260518T190000
DTEND;TZID=Europe/London:20260518T190000
DTSTAMP:20260420T211010
CREATED:20260306T112705Z
LAST-MODIFIED:20260306T112705Z
UID:11555-1779130800-1779130800@sibfordvillagehall.org.uk
SUMMARY:Sibford Gower Parish Council Meeting
DESCRIPTION:SGPC Agenda 10.03.26
URL:https://sibfordvillagehall.org.uk/event/sibford-gower-parish-2/
LOCATION:Small hall
END:VEVENT
BEGIN:VEVENT
DTSTART;TZID=Europe/London:20260518T193000
DTEND;TZID=Europe/London:20260518T210000
DTSTAMP:20260420T211010
CREATED:20260412T112726Z
LAST-MODIFIED:20260412T112726Z
UID:11680-1779132600-1779138000@sibfordvillagehall.org.uk
SUMMARY:Private event
DESCRIPTION:
URL:https://sibfordvillagehall.org.uk/event/pe-340-4/
LOCATION:Main hall
END:VEVENT
BEGIN:VEVENT
DTSTART;TZID=Europe/London:20260519T183000
DTEND;TZID=Europe/London:20260519T210000
DTSTAMP:20260420T211010
CREATED:20260418T112715Z
LAST-MODIFIED:20260418T112715Z
UID:11731-1779215400-1779224400@sibfordvillagehall.org.uk
SUMMARY:Private event
DESCRIPTION:
URL:https://sibfordvillagehall.org.uk/event/pe-343-2/
LOCATION:Main hall
END:VEVENT
BEGIN:VEVENT
DTSTART;TZID=Europe/London:20260519T190000
DTEND;TZID=Europe/London:20260519T210000
DTSTAMP:20260420T211010
CREATED:20260418T112716Z
LAST-MODIFIED:20260418T112716Z
UID:11732-1779217200-1779224400@sibfordvillagehall.org.uk
SUMMARY:Bridge Club
DESCRIPTION:
URL:https://sibfordvillagehall.org.uk/event/bridge-club-14-2/
LOCATION:Small hall
END:VEVENT
BEGIN:VEVENT
DTSTART;TZID=Europe/London:20260520T090000
DTEND;TZID=Europe/London:20260520T110000
DTSTAMP:20260420T211010
CREATED:20260325T112706Z
LAST-MODIFIED:20260325T112706Z
UID:11618-1779267600-1779274800@sibfordvillagehall.org.uk
SUMMARY:Private event
DESCRIPTION:
URL:https://sibfordvillagehall.org.uk/event/pe-332-7/
LOCATION:Main hall
END:VEVENT
BEGIN:VEVENT
DTSTART;TZID=Europe/London:20260520T123000
DTEND;TZID=Europe/London:20260520T123000
DTSTAMP:20260420T211010
CREATED:20260212T112722Z
LAST-MODIFIED:20260212T112722Z
UID:11415-1779280200-1779280200@sibfordvillagehall.org.uk
SUMMARY:Sibford Lunch Club
DESCRIPTION:
URL:https://sibfordvillagehall.org.uk/event/sibford-lunch-club-16-19/
LOCATION:Main hall
END:VEVENT
BEGIN:VEVENT
DTSTART;TZID=Europe/London:20260520T170000
DTEND;TZID=Europe/London:20260520T210000
DTSTAMP:20260420T211010
CREATED:20260314T112710Z
LAST-MODIFIED:20260314T112710Z
UID:11565-1779296400-1779310800@sibfordvillagehall.org.uk
SUMMARY:Pet First Aid Course
DESCRIPTION:
URL:https://sibfordvillagehall.org.uk/event/pet-first-aid-course-2/
LOCATION:Main hall
END:VEVENT
END:VCALENDAR