BEGIN:VCALENDAR
VERSION:2.0
PRODID:-//Sibford Village Hall - ECPv6.15.20//NONSGML v1.0//EN
CALSCALE:GREGORIAN
METHOD:PUBLISH
X-WR-CALNAME:Sibford Village Hall
X-ORIGINAL-URL:https://sibfordvillagehall.org.uk
X-WR-CALDESC:Events for Sibford Village Hall
REFRESH-INTERVAL;VALUE=DURATION:PT1H
X-Robots-Tag:noindex
X-PUBLISHED-TTL:PT1H
BEGIN:VTIMEZONE
TZID:Europe/London
BEGIN:DAYLIGHT
TZOFFSETFROM:+0000
TZOFFSETTO:+0100
TZNAME:BST
DTSTART:20230326T010000
END:DAYLIGHT
BEGIN:STANDARD
TZOFFSETFROM:+0100
TZOFFSETTO:+0000
TZNAME:GMT
DTSTART:20231029T010000
END:STANDARD
BEGIN:DAYLIGHT
TZOFFSETFROM:+0000
TZOFFSETTO:+0100
TZNAME:BST
DTSTART:20240331T010000
END:DAYLIGHT
BEGIN:STANDARD
TZOFFSETFROM:+0100
TZOFFSETTO:+0000
TZNAME:GMT
DTSTART:20241027T010000
END:STANDARD
BEGIN:DAYLIGHT
TZOFFSETFROM:+0000
TZOFFSETTO:+0100
TZNAME:BST
DTSTART:20250330T010000
END:DAYLIGHT
BEGIN:STANDARD
TZOFFSETFROM:+0100
TZOFFSETTO:+0000
TZNAME:GMT
DTSTART:20251026T010000
END:STANDARD
END:VTIMEZONE
BEGIN:VEVENT
DTSTART;TZID=Europe/London:20241130T090000
DTEND;TZID=Europe/London:20241130T100000
DTSTAMP:20260423T072220
CREATED:20241102T183015Z
LAST-MODIFIED:20241102T183015Z
UID:7932-1732957200-1732960800@sibfordvillagehall.org.uk
SUMMARY:Private event
DESCRIPTION:
URL:https://sibfordvillagehall.org.uk/event/pe-14-5/
LOCATION:Main hall
END:VEVENT
BEGIN:VEVENT
DTSTART;TZID=Europe/London:20241130T113000
DTEND;TZID=Europe/London:20241130T143000
DTSTAMP:20260423T072220
CREATED:20241030T183009Z
LAST-MODIFIED:20241030T183009Z
UID:7905-1732966200-1732977000@sibfordvillagehall.org.uk
SUMMARY:Private event
DESCRIPTION:
URL:https://sibfordvillagehall.org.uk/event/pe-12/
LOCATION:Main hall
END:VEVENT
BEGIN:VEVENT
DTSTART;TZID=Europe/London:20241130T120000
DTEND;TZID=Europe/London:20241130T140000
DTSTAMP:20260423T072220
CREATED:20241130T183006Z
LAST-MODIFIED:20241130T183006Z
UID:8070-1732968000-1732975200@sibfordvillagehall.org.uk
SUMMARY:Private event
DESCRIPTION:
URL:https://sibfordvillagehall.org.uk/event/pe-25/
LOCATION:Small hall
END:VEVENT
BEGIN:VEVENT
DTSTART;TZID=Europe/London:20241201T090000
DTEND;TZID=Europe/London:20241201T170000
DTSTAMP:20260423T072220
CREATED:20241004T183007Z
LAST-MODIFIED:20241004T183007Z
UID:7825-1733043600-1733072400@sibfordvillagehall.org.uk
SUMMARY:Private event
DESCRIPTION:
URL:https://sibfordvillagehall.org.uk/event/pe-5/
LOCATION:Main hall
END:VEVENT
BEGIN:VEVENT
DTSTART;TZID=Europe/London:20241202T100000
DTEND;TZID=Europe/London:20241202T110000
DTSTAMP:20260423T072220
CREATED:20241105T183008Z
LAST-MODIFIED:20241105T183008Z
UID:7963-1733133600-1733137200@sibfordvillagehall.org.uk
SUMMARY:Yoga
DESCRIPTION:
URL:https://sibfordvillagehall.org.uk/event/pe-19-4/
LOCATION:Main hall
END:VEVENT
BEGIN:VEVENT
DTSTART;TZID=Europe/London:20241202T193000
DTEND;TZID=Europe/London:20241202T210000
DTSTAMP:20260423T072220
CREATED:20240714T183005Z
LAST-MODIFIED:20240714T183005Z
UID:7532-1733167800-1733173200@sibfordvillagehall.org.uk
SUMMARY:Private event
DESCRIPTION:
URL:https://sibfordvillagehall.org.uk/event/private-event-145-12/
LOCATION:Main hall
END:VEVENT
BEGIN:VEVENT
DTSTART;TZID=Europe/London:20241203T190000
DTEND;TZID=Europe/London:20241203T190000
DTSTAMP:20260423T072220
CREATED:20241028T183014Z
LAST-MODIFIED:20241028T183014Z
UID:7895-1733252400-1733252400@sibfordvillagehall.org.uk
SUMMARY:An evening with Kaleb Cooper
DESCRIPTION:Mark Pougatch\, sports broadcaster extraordinaire\, will talk to Kaleb Cooper\, major star of Clarkson’s Farm\, about his journey from anonymous farm hand to celebrity farmer. \n£25 per person\, to be paid in advance. Proceeds will be donated to Cotswold Arts Through Schools. \nDoors open at 7pm for drinks and canapés in the small hall\, talk starting at about 7.45pm. \nPlaces have been in such high demand that we are now running a waiting list. Please contact Sue Bannister at sebannister@gmail.com
URL:https://sibfordvillagehall.org.uk/event/pe-161/
LOCATION:Main hall
END:VEVENT
BEGIN:VEVENT
DTSTART;TZID=Europe/London:20241204T130000
DTEND;TZID=Europe/London:20241204T130000
DTSTAMP:20260423T072220
CREATED:20240131T183027Z
LAST-MODIFIED:20240131T183027Z
UID:6811-1733317200-1733317200@sibfordvillagehall.org.uk
SUMMARY:Sibford Lunch Club
DESCRIPTION:
URL:https://sibfordvillagehall.org.uk/event/sibford-lunch-club-13-48/
LOCATION:Main hall
END:VEVENT
BEGIN:VEVENT
DTSTART;TZID=Europe/London:20241204T173000
DTEND;TZID=Europe/London:20241204T190000
DTSTAMP:20260423T072220
CREATED:20240920T183013Z
LAST-MODIFIED:20240920T183013Z
UID:7739-1733333400-1733338800@sibfordvillagehall.org.uk
SUMMARY:Private event
DESCRIPTION:
URL:https://sibfordvillagehall.org.uk/event/private-event-160/
LOCATION:Small hall
END:VEVENT
BEGIN:VEVENT
DTSTART;TZID=Europe/London:20241205T090000
DTEND;TZID=Europe/London:20241205T110000
DTSTAMP:20260423T072220
CREATED:20241204T183023Z
LAST-MODIFIED:20241204T183023Z
UID:8077-1733389200-1733396400@sibfordvillagehall.org.uk
SUMMARY:Yoga
DESCRIPTION:
URL:https://sibfordvillagehall.org.uk/event/pe-17-5/
LOCATION:Main hall
END:VEVENT
BEGIN:VEVENT
DTSTART;TZID=Europe/London:20241205T140000
DTEND;TZID=Europe/London:20241205T160000
DTSTAMP:20260423T072220
CREATED:20241126T183025Z
LAST-MODIFIED:20241126T183025Z
UID:8052-1733407200-1733414400@sibfordvillagehall.org.uk
SUMMARY:Warm Hub
DESCRIPTION:Now half-an-hour earlier at 2pm until 4pm to allow people to get home before it gets dark. \nFree to attend as kindly sponsored by the Town Estate Charity \nRefreshments available as well as games\, crafts\, books\, puzzles. \nCome and socialise and keep warm in the small hall. \nContact Ginny on 01295 780 373 or ginnybennett@googlemail.com for more information. \nAll welcome!
URL:https://sibfordvillagehall.org.uk/event/warm-hub-2024-5-5/
LOCATION:Small hall
END:VEVENT
BEGIN:VEVENT
DTSTART;TZID=Europe/London:20241205T193000
DTEND;TZID=Europe/London:20241205T213000
DTSTAMP:20260423T072220
CREATED:20241104T183015Z
LAST-MODIFIED:20241104T183015Z
UID:7946-1733427000-1733434200@sibfordvillagehall.org.uk
SUMMARY:Sibford  Players Drama Group
DESCRIPTION:
URL:https://sibfordvillagehall.org.uk/event/sibford-players-drama-group-7/
LOCATION:Main hall
END:VEVENT
BEGIN:VEVENT
DTSTART;TZID=Europe/London:20241206T093000
DTEND;TZID=Europe/London:20241206T113000
DTSTAMP:20260423T072220
CREATED:20241201T183009Z
LAST-MODIFIED:20241201T183009Z
UID:8072-1733477400-1733484600@sibfordvillagehall.org.uk
SUMMARY:Tots and babes
DESCRIPTION:
URL:https://sibfordvillagehall.org.uk/event/tots-and-babes-7-6/
LOCATION:Small hall
END:VEVENT
BEGIN:VEVENT
DTSTART;TZID=Europe/London:20241206T093000
DTEND;TZID=Europe/London:20241206T123000
DTSTAMP:20260423T072220
CREATED:20241107T183019Z
LAST-MODIFIED:20241107T183019Z
UID:7974-1733477400-1733488200@sibfordvillagehall.org.uk
SUMMARY:Art Class
DESCRIPTION:For more information contact Nigel Fletcher nvfletcher@btinternet.com\, 07792 657 248 or visit www.nigelfletcher.co.uk
URL:https://sibfordvillagehall.org.uk/event/art-class-4-25/
LOCATION:Main hall
END:VEVENT
BEGIN:VEVENT
DTSTART;TZID=Europe/London:20241206T160000
DTEND;TZID=Europe/London:20241206T173000
DTSTAMP:20260423T072220
CREATED:20241102T183016Z
LAST-MODIFIED:20241102T183016Z
UID:7933-1733500800-1733506200@sibfordvillagehall.org.uk
SUMMARY:Beavers\, Cubs and Scouts
DESCRIPTION:
URL:https://sibfordvillagehall.org.uk/event/pe-16-4/
LOCATION:Main hall
END:VEVENT
BEGIN:VEVENT
DTSTART;TZID=Europe/London:20241206T173000
DTEND;TZID=Europe/London:20241206T190000
DTSTAMP:20260423T072220
CREATED:20241105T183008Z
LAST-MODIFIED:20241105T183008Z
UID:7965-1733506200-1733511600@sibfordvillagehall.org.uk
SUMMARY:Cubs and Scouts
DESCRIPTION:
URL:https://sibfordvillagehall.org.uk/event/pe-21/
LOCATION:Main hall
END:VEVENT
BEGIN:VEVENT
DTSTART;TZID=Europe/London:20241206T173000
DTEND;TZID=Europe/London:20241206T190000
DTSTAMP:20260423T072220
CREATED:20241204T183025Z
LAST-MODIFIED:20241204T183025Z
UID:8078-1733506200-1733511600@sibfordvillagehall.org.uk
SUMMARY:Scouts
DESCRIPTION:
URL:https://sibfordvillagehall.org.uk/event/pe-26/
LOCATION:Small hall
END:VEVENT
BEGIN:VEVENT
DTSTART;TZID=Europe/London:20241206T193000
DTEND;TZID=Europe/London:20241206T203000
DTSTAMP:20260423T072220
CREATED:20241205T183007Z
LAST-MODIFIED:20241205T183007Z
UID:8083-1733513400-1733517000@sibfordvillagehall.org.uk
SUMMARY:Dance in the Dark
DESCRIPTION:Come and shake your booty in the dark to some fab dance tunes. Bring £1\, some water and your best moves…. Dance like no-one is watching and feel amazing afterwards!
URL:https://sibfordvillagehall.org.uk/event/dance-in-the-dark-ses/
LOCATION:Main hall
END:VEVENT
BEGIN:VEVENT
DTSTART;TZID=Europe/London:20241207T130000
DTEND;TZID=Europe/London:20241207T230000
DTSTAMP:20260423T072220
CREATED:20241006T183044Z
LAST-MODIFIED:20241006T183044Z
UID:7832-1733576400-1733612400@sibfordvillagehall.org.uk
SUMMARY:Private event
DESCRIPTION:
URL:https://sibfordvillagehall.org.uk/event/pe-3/
LOCATION:Main hall
END:VEVENT
BEGIN:VEVENT
DTSTART;TZID=Europe/London:20241208T100000
DTEND;TZID=Europe/London:20241208T170000
DTSTAMP:20260423T072220
CREATED:20241127T183013Z
LAST-MODIFIED:20241127T183013Z
UID:8066-1733652000-1733677200@sibfordvillagehall.org.uk
SUMMARY:Private event
DESCRIPTION:
URL:https://sibfordvillagehall.org.uk/event/pe-24/
LOCATION:Main hall
END:VEVENT
BEGIN:VEVENT
DTSTART;TZID=Europe/London:20241209T100000
DTEND;TZID=Europe/London:20241209T110000
DTSTAMP:20260423T072220
CREATED:20241204T183027Z
LAST-MODIFIED:20241204T183027Z
UID:8079-1733738400-1733742000@sibfordvillagehall.org.uk
SUMMARY:Yoga
DESCRIPTION:
URL:https://sibfordvillagehall.org.uk/event/pe-19-5/
LOCATION:Main hall
END:VEVENT
BEGIN:VEVENT
DTSTART;TZID=Europe/London:20241209T193000
DTEND;TZID=Europe/London:20241209T210000
DTSTAMP:20260423T072220
CREATED:20240714T183005Z
LAST-MODIFIED:20240714T183005Z
UID:7533-1733772600-1733778000@sibfordvillagehall.org.uk
SUMMARY:Private event
DESCRIPTION:
URL:https://sibfordvillagehall.org.uk/event/private-event-145-13/
LOCATION:Main hall
END:VEVENT
BEGIN:VEVENT
DTSTART;TZID=Europe/London:20241210T190000
DTEND;TZID=Europe/London:20241210T210000
DTSTAMP:20260423T072220
CREATED:20241209T183009Z
LAST-MODIFIED:20241209T183009Z
UID:8104-1733857200-1733864400@sibfordvillagehall.org.uk
SUMMARY:Bridge club
DESCRIPTION:A friendly group\, playing bridge to the best of their ability\, and with new bridge players welcome. \nThere is a charge of £2 a session to cover the cost of the hall. \nFor more information contact Joan Broady on 07850 483 462\, preferably with a text message.
URL:https://sibfordvillagehall.org.uk/event/bridge-club-6-weeks-8/
LOCATION:Small hall
END:VEVENT
BEGIN:VEVENT
DTSTART;TZID=Europe/London:20241211T130000
DTEND;TZID=Europe/London:20241211T130000
DTSTAMP:20260423T072220
CREATED:20240131T183027Z
LAST-MODIFIED:20240131T183027Z
UID:6812-1733922000-1733922000@sibfordvillagehall.org.uk
SUMMARY:Sibford Lunch Club
DESCRIPTION:
URL:https://sibfordvillagehall.org.uk/event/sibford-lunch-club-13-49/
LOCATION:Main hall
END:VEVENT
BEGIN:VEVENT
DTSTART;TZID=Europe/London:20241211T201500
DTEND;TZID=Europe/London:20241211T214500
DTSTAMP:20260423T072220
CREATED:20241024T183010Z
LAST-MODIFIED:20241024T183010Z
UID:7887-1733948100-1733953500@sibfordvillagehall.org.uk
SUMMARY:Wine tasting evening
DESCRIPTION:
URL:https://sibfordvillagehall.org.uk/event/wine-tasting-evening/
LOCATION:Main hall
END:VEVENT
BEGIN:VEVENT
DTSTART;TZID=Europe/London:20241212T090000
DTEND;TZID=Europe/London:20241212T110000
DTSTAMP:20260423T072220
CREATED:20241204T183028Z
LAST-MODIFIED:20241204T183028Z
UID:8080-1733994000-1734001200@sibfordvillagehall.org.uk
SUMMARY:Yoga
DESCRIPTION:
URL:https://sibfordvillagehall.org.uk/event/pe-17-6/
LOCATION:Main hall
END:VEVENT
BEGIN:VEVENT
DTSTART;TZID=Europe/London:20241212T140000
DTEND;TZID=Europe/London:20241212T160000
DTSTAMP:20260423T072220
CREATED:20241126T183026Z
LAST-MODIFIED:20241126T183026Z
UID:8053-1734012000-1734019200@sibfordvillagehall.org.uk
SUMMARY:Warm Hub
DESCRIPTION:Now half-an-hour earlier at 2pm until 4pm to allow people to get home before it gets dark. \nFree to attend as kindly sponsored by the Town Estate Charity \nRefreshments available as well as games\, crafts\, books\, puzzles. \nCome and socialise and keep warm in the small hall. \nContact Ginny on 01295 780 373 or ginnybennett@googlemail.com for more information. \nAll welcome!
URL:https://sibfordvillagehall.org.uk/event/warm-hub-2024-5-6/
LOCATION:Small hall
END:VEVENT
BEGIN:VEVENT
DTSTART;TZID=Europe/London:20241212T193000
DTEND;TZID=Europe/London:20241212T213000
DTSTAMP:20260423T072220
CREATED:20241104T183015Z
LAST-MODIFIED:20241104T183015Z
UID:7948-1734031800-1734039000@sibfordvillagehall.org.uk
SUMMARY:Sibford  Players Drama Group
DESCRIPTION:
URL:https://sibfordvillagehall.org.uk/event/sibford-players-drama-group-8/
LOCATION:Main hall
END:VEVENT
BEGIN:VEVENT
DTSTART;TZID=Europe/London:20241213T093000
DTEND;TZID=Europe/London:20241213T113000
DTSTAMP:20260423T072220
CREATED:20241201T183010Z
LAST-MODIFIED:20241201T183010Z
UID:8073-1734082200-1734089400@sibfordvillagehall.org.uk
SUMMARY:Tots and babes
DESCRIPTION:
URL:https://sibfordvillagehall.org.uk/event/tots-and-babes-7-7/
LOCATION:Small hall
END:VEVENT
BEGIN:VEVENT
DTSTART;TZID=Europe/London:20241213T093000
DTEND;TZID=Europe/London:20241213T123000
DTSTAMP:20260423T072220
CREATED:20241107T183020Z
LAST-MODIFIED:20241107T183020Z
UID:7975-1734082200-1734093000@sibfordvillagehall.org.uk
SUMMARY:Art Class
DESCRIPTION:For more information contact Nigel Fletcher nvfletcher@btinternet.com\, 07792 657 248 or visit www.nigelfletcher.co.uk
URL:https://sibfordvillagehall.org.uk/event/art-class-4-26/
LOCATION:Main hall
END:VEVENT
END:VCALENDAR