BEGIN:VCALENDAR
VERSION:2.0
PRODID:-//Sibford Village Hall - ECPv6.15.20//NONSGML v1.0//EN
CALSCALE:GREGORIAN
METHOD:PUBLISH
X-WR-CALNAME:Sibford Village Hall
X-ORIGINAL-URL:https://sibfordvillagehall.org.uk
X-WR-CALDESC:Events for Sibford Village Hall
REFRESH-INTERVAL;VALUE=DURATION:PT1H
X-Robots-Tag:noindex
X-PUBLISHED-TTL:PT1H
BEGIN:VTIMEZONE
TZID:Europe/London
BEGIN:DAYLIGHT
TZOFFSETFROM:+0000
TZOFFSETTO:+0100
TZNAME:BST
DTSTART:20230326T010000
END:DAYLIGHT
BEGIN:STANDARD
TZOFFSETFROM:+0100
TZOFFSETTO:+0000
TZNAME:GMT
DTSTART:20231029T010000
END:STANDARD
BEGIN:DAYLIGHT
TZOFFSETFROM:+0000
TZOFFSETTO:+0100
TZNAME:BST
DTSTART:20240331T010000
END:DAYLIGHT
BEGIN:STANDARD
TZOFFSETFROM:+0100
TZOFFSETTO:+0000
TZNAME:GMT
DTSTART:20241027T010000
END:STANDARD
BEGIN:DAYLIGHT
TZOFFSETFROM:+0000
TZOFFSETTO:+0100
TZNAME:BST
DTSTART:20250330T010000
END:DAYLIGHT
BEGIN:STANDARD
TZOFFSETFROM:+0100
TZOFFSETTO:+0000
TZNAME:GMT
DTSTART:20251026T010000
END:STANDARD
END:VTIMEZONE
BEGIN:VEVENT
DTSTART;TZID=Europe/London:20241122T173000
DTEND;TZID=Europe/London:20241122T190000
DTSTAMP:20260423T054300
CREATED:20241105T183007Z
LAST-MODIFIED:20241105T183007Z
UID:7959-1732296600-1732302000@sibfordvillagehall.org.uk
SUMMARY:Cubs and Scouts
DESCRIPTION:
URL:https://sibfordvillagehall.org.uk/event/pe-18-2/
LOCATION:Main hall
END:VEVENT
BEGIN:VEVENT
DTSTART;TZID=Europe/London:20241123T090000
DTEND;TZID=Europe/London:20241123T100000
DTSTAMP:20260423T054300
CREATED:20241102T183013Z
LAST-MODIFIED:20241102T183013Z
UID:7929-1732352400-1732356000@sibfordvillagehall.org.uk
SUMMARY:Private event
DESCRIPTION:
URL:https://sibfordvillagehall.org.uk/event/pe-14-4/
LOCATION:Main hall
END:VEVENT
BEGIN:VEVENT
DTSTART;TZID=Europe/London:20241123T100000
DTEND;TZID=Europe/London:20241123T120000
DTSTAMP:20260423T054300
CREATED:20240317T183013Z
LAST-MODIFIED:20240317T183013Z
UID:7168-1732356000-1732363200@sibfordvillagehall.org.uk
SUMMARY:Book Swap and Café
DESCRIPTION:Welcome to our monthly chance to have coffee/cake and a chat. Browse our large selection of books and borrow any you like. No need to bring a book to swap. No charge. Donations welcome.
URL:https://sibfordvillagehall.org.uk/event/private-event-51-10/
LOCATION:Small hall
END:VEVENT
BEGIN:VEVENT
DTSTART;TZID=Europe/London:20241125T100000
DTEND;TZID=Europe/London:20241125T110000
DTSTAMP:20260423T054300
CREATED:20241105T183007Z
LAST-MODIFIED:20241105T183007Z
UID:7960-1732528800-1732532400@sibfordvillagehall.org.uk
SUMMARY:Yoga
DESCRIPTION:
URL:https://sibfordvillagehall.org.uk/event/pe-19-3/
LOCATION:Main hall
END:VEVENT
BEGIN:VEVENT
DTSTART;TZID=Europe/London:20241125T183000
DTEND;TZID=Europe/London:20241125T193000
DTSTAMP:20260423T054300
CREATED:20241102T183014Z
LAST-MODIFIED:20241102T183014Z
UID:7930-1732559400-1732563000@sibfordvillagehall.org.uk
SUMMARY:Private event
DESCRIPTION:
URL:https://sibfordvillagehall.org.uk/event/pe-15-4/
LOCATION:Main hall
END:VEVENT
BEGIN:VEVENT
DTSTART;TZID=Europe/London:20241125T193000
DTEND;TZID=Europe/London:20241125T210000
DTSTAMP:20260423T054300
CREATED:20240714T183004Z
LAST-MODIFIED:20240714T183004Z
UID:7531-1732563000-1732568400@sibfordvillagehall.org.uk
SUMMARY:Private event
DESCRIPTION:
URL:https://sibfordvillagehall.org.uk/event/private-event-145-11/
LOCATION:Main hall
END:VEVENT
BEGIN:VEVENT
DTSTART;TZID=Europe/London:20241126T120000
DTEND;TZID=Europe/London:20241126T160000
DTSTAMP:20260423T054300
CREATED:20240818T183004Z
LAST-MODIFIED:20240818T183004Z
UID:7621-1732622400-1732636800@sibfordvillagehall.org.uk
SUMMARY:Model Railway Group
DESCRIPTION:
URL:https://sibfordvillagehall.org.uk/event/model-railway-group-10/
LOCATION:Main hall
END:VEVENT
BEGIN:VEVENT
DTSTART;TZID=Europe/London:20241126T183000
DTEND;TZID=Europe/London:20241126T210000
DTSTAMP:20260423T054300
CREATED:20240822T183006Z
LAST-MODIFIED:20240822T183006Z
UID:7640-1732645800-1732654800@sibfordvillagehall.org.uk
SUMMARY:Private event
DESCRIPTION:
URL:https://sibfordvillagehall.org.uk/event/private-event-158/
LOCATION:Main hall
END:VEVENT
BEGIN:VEVENT
DTSTART;TZID=Europe/London:20241126T193000
DTEND;TZID=Europe/London:20241126T213000
DTSTAMP:20260423T054300
CREATED:20240304T183047Z
LAST-MODIFIED:20240304T183047Z
UID:7120-1732649400-1732656600@sibfordvillagehall.org.uk
SUMMARY:Sibford Photography Club
DESCRIPTION:
URL:https://sibfordvillagehall.org.uk/event/sibford-photography-club-26-10/
LOCATION:Small hall
END:VEVENT
BEGIN:VEVENT
DTSTART;TZID=Europe/London:20241127T130000
DTEND;TZID=Europe/London:20241127T130000
DTSTAMP:20260423T054300
CREATED:20240131T183027Z
LAST-MODIFIED:20240131T183027Z
UID:6810-1732712400-1732712400@sibfordvillagehall.org.uk
SUMMARY:Sibford Lunch Club
DESCRIPTION:
URL:https://sibfordvillagehall.org.uk/event/sibford-lunch-club-13-47/
LOCATION:Main hall
END:VEVENT
BEGIN:VEVENT
DTSTART;TZID=Europe/London:20241127T193000
DTEND;TZID=Europe/London:20241127T193000
DTSTAMP:20260423T054300
CREATED:20241028T183014Z
LAST-MODIFIED:20241028T183014Z
UID:7894-1732735800-1732735800@sibfordvillagehall.org.uk
SUMMARY:Film Night
DESCRIPTION:From acclaimed director Alexander Payne\, The Holdovers follows a curmudgeonly instructor (Paul Giamatti) at a New England prep who is forced to remain on campus during the Christmas holiday break to babysit a handful of students with nowhere to go. Eventually\, he forms an unlikely bond with one of them – a damaged\, brainy troublemaker (newcomer Dominic Sessa) – and with the school’s head cook\, who has just lost a son in Vietnam (Da’Vine Joy Randolph)  \nMadcap\, Touching and Hilarious. Rotten Tomatoes 97% \nDoors open at 7. Film starts at 7.30. Admission £3 pp. Refreshments available.
URL:https://sibfordvillagehall.org.uk/event/film-night-27/
LOCATION:Main hall
END:VEVENT
BEGIN:VEVENT
DTSTART;TZID=Europe/London:20241128T090000
DTEND;TZID=Europe/London:20241128T110000
DTSTAMP:20260423T054301
CREATED:20241105T183007Z
LAST-MODIFIED:20241105T183007Z
UID:7961-1732784400-1732791600@sibfordvillagehall.org.uk
SUMMARY:Yoga
DESCRIPTION:
URL:https://sibfordvillagehall.org.uk/event/pe-17-4/
LOCATION:Main hall
END:VEVENT
BEGIN:VEVENT
DTSTART;TZID=Europe/London:20241128T140000
DTEND;TZID=Europe/London:20241128T160000
DTSTAMP:20260423T054301
CREATED:20241126T183024Z
LAST-MODIFIED:20241126T183024Z
UID:8051-1732802400-1732809600@sibfordvillagehall.org.uk
SUMMARY:Warm Hub
DESCRIPTION:Now half-an-hour earlier at 2pm until 4pm to allow people to get home before it gets dark. \nFree to attend as kindly sponsored by the Town Estate Charity \nRefreshments available as well as games\, crafts\, books\, puzzles. \nCome and socialise and keep warm in the small hall. \nContact Ginny on 01295 780 373 or ginnybennett@googlemail.com for more information. \nAll welcome!
URL:https://sibfordvillagehall.org.uk/event/warm-hub-2024-5-4/
LOCATION:Small hall
END:VEVENT
BEGIN:VEVENT
DTSTART;TZID=Europe/London:20241128T193000
DTEND;TZID=Europe/London:20241128T213000
DTSTAMP:20260423T054301
CREATED:20241104T183014Z
LAST-MODIFIED:20241104T183014Z
UID:7945-1732822200-1732829400@sibfordvillagehall.org.uk
SUMMARY:Sibford  Players Drama Group
DESCRIPTION:
URL:https://sibfordvillagehall.org.uk/event/sibford-players-dram-2/
LOCATION:Main hall
END:VEVENT
BEGIN:VEVENT
DTSTART;TZID=Europe/London:20241129T093000
DTEND;TZID=Europe/London:20241129T113000
DTSTAMP:20260423T054301
CREATED:20241103T183007Z
LAST-MODIFIED:20241103T183007Z
UID:7938-1732872600-1732879800@sibfordvillagehall.org.uk
SUMMARY:Tots and babes
DESCRIPTION:
URL:https://sibfordvillagehall.org.uk/event/tots-and-babes-7-5/
LOCATION:Small hall
END:VEVENT
BEGIN:VEVENT
DTSTART;TZID=Europe/London:20241129T093000
DTEND;TZID=Europe/London:20241129T123000
DTSTAMP:20260423T054301
CREATED:20241107T183019Z
LAST-MODIFIED:20241107T183019Z
UID:7973-1732872600-1732883400@sibfordvillagehall.org.uk
SUMMARY:Art Class
DESCRIPTION:For more information contact Nigel Fletcher nvfletcher@btinternet.com\, 07792 657 248 or visit www.nigelfletcher.co.uk
URL:https://sibfordvillagehall.org.uk/event/art-class-4-24/
LOCATION:Main hall
END:VEVENT
BEGIN:VEVENT
DTSTART;TZID=Europe/London:20241129T160000
DTEND;TZID=Europe/London:20241129T173000
DTSTAMP:20260423T054301
CREATED:20241102T183014Z
LAST-MODIFIED:20241102T183014Z
UID:7931-1732896000-1732901400@sibfordvillagehall.org.uk
SUMMARY:Beavers\, Cubs and Scouts
DESCRIPTION:
URL:https://sibfordvillagehall.org.uk/event/pe-16-3/
LOCATION:Main hall
END:VEVENT
BEGIN:VEVENT
DTSTART;TZID=Europe/London:20241129T173000
DTEND;TZID=Europe/London:20241129T190000
DTSTAMP:20260423T054301
CREATED:20241105T183007Z
LAST-MODIFIED:20241105T183007Z
UID:7962-1732901400-1732906800@sibfordvillagehall.org.uk
SUMMARY:Cubs and Scouts
DESCRIPTION:
URL:https://sibfordvillagehall.org.uk/event/pe-18-3/
LOCATION:Main hall
END:VEVENT
BEGIN:VEVENT
DTSTART;TZID=Europe/London:20241130T090000
DTEND;TZID=Europe/London:20241130T100000
DTSTAMP:20260423T054301
CREATED:20241102T183015Z
LAST-MODIFIED:20241102T183015Z
UID:7932-1732957200-1732960800@sibfordvillagehall.org.uk
SUMMARY:Private event
DESCRIPTION:
URL:https://sibfordvillagehall.org.uk/event/pe-14-5/
LOCATION:Main hall
END:VEVENT
BEGIN:VEVENT
DTSTART;TZID=Europe/London:20241130T113000
DTEND;TZID=Europe/London:20241130T143000
DTSTAMP:20260423T054301
CREATED:20241030T183009Z
LAST-MODIFIED:20241030T183009Z
UID:7905-1732966200-1732977000@sibfordvillagehall.org.uk
SUMMARY:Private event
DESCRIPTION:
URL:https://sibfordvillagehall.org.uk/event/pe-12/
LOCATION:Main hall
END:VEVENT
BEGIN:VEVENT
DTSTART;TZID=Europe/London:20241130T120000
DTEND;TZID=Europe/London:20241130T140000
DTSTAMP:20260423T054301
CREATED:20241130T183006Z
LAST-MODIFIED:20241130T183006Z
UID:8070-1732968000-1732975200@sibfordvillagehall.org.uk
SUMMARY:Private event
DESCRIPTION:
URL:https://sibfordvillagehall.org.uk/event/pe-25/
LOCATION:Small hall
END:VEVENT
BEGIN:VEVENT
DTSTART;TZID=Europe/London:20241201T090000
DTEND;TZID=Europe/London:20241201T170000
DTSTAMP:20260423T054301
CREATED:20241004T183007Z
LAST-MODIFIED:20241004T183007Z
UID:7825-1733043600-1733072400@sibfordvillagehall.org.uk
SUMMARY:Private event
DESCRIPTION:
URL:https://sibfordvillagehall.org.uk/event/pe-5/
LOCATION:Main hall
END:VEVENT
BEGIN:VEVENT
DTSTART;TZID=Europe/London:20241202T100000
DTEND;TZID=Europe/London:20241202T110000
DTSTAMP:20260423T054301
CREATED:20241105T183008Z
LAST-MODIFIED:20241105T183008Z
UID:7963-1733133600-1733137200@sibfordvillagehall.org.uk
SUMMARY:Yoga
DESCRIPTION:
URL:https://sibfordvillagehall.org.uk/event/pe-19-4/
LOCATION:Main hall
END:VEVENT
BEGIN:VEVENT
DTSTART;TZID=Europe/London:20241202T193000
DTEND;TZID=Europe/London:20241202T210000
DTSTAMP:20260423T054301
CREATED:20240714T183005Z
LAST-MODIFIED:20240714T183005Z
UID:7532-1733167800-1733173200@sibfordvillagehall.org.uk
SUMMARY:Private event
DESCRIPTION:
URL:https://sibfordvillagehall.org.uk/event/private-event-145-12/
LOCATION:Main hall
END:VEVENT
BEGIN:VEVENT
DTSTART;TZID=Europe/London:20241203T190000
DTEND;TZID=Europe/London:20241203T190000
DTSTAMP:20260423T054301
CREATED:20241028T183014Z
LAST-MODIFIED:20241028T183014Z
UID:7895-1733252400-1733252400@sibfordvillagehall.org.uk
SUMMARY:An evening with Kaleb Cooper
DESCRIPTION:Mark Pougatch\, sports broadcaster extraordinaire\, will talk to Kaleb Cooper\, major star of Clarkson’s Farm\, about his journey from anonymous farm hand to celebrity farmer. \n£25 per person\, to be paid in advance. Proceeds will be donated to Cotswold Arts Through Schools. \nDoors open at 7pm for drinks and canapés in the small hall\, talk starting at about 7.45pm. \nPlaces have been in such high demand that we are now running a waiting list. Please contact Sue Bannister at sebannister@gmail.com
URL:https://sibfordvillagehall.org.uk/event/pe-161/
LOCATION:Main hall
END:VEVENT
BEGIN:VEVENT
DTSTART;TZID=Europe/London:20241204T130000
DTEND;TZID=Europe/London:20241204T130000
DTSTAMP:20260423T054301
CREATED:20240131T183027Z
LAST-MODIFIED:20240131T183027Z
UID:6811-1733317200-1733317200@sibfordvillagehall.org.uk
SUMMARY:Sibford Lunch Club
DESCRIPTION:
URL:https://sibfordvillagehall.org.uk/event/sibford-lunch-club-13-48/
LOCATION:Main hall
END:VEVENT
BEGIN:VEVENT
DTSTART;TZID=Europe/London:20241204T173000
DTEND;TZID=Europe/London:20241204T190000
DTSTAMP:20260423T054301
CREATED:20240920T183013Z
LAST-MODIFIED:20240920T183013Z
UID:7739-1733333400-1733338800@sibfordvillagehall.org.uk
SUMMARY:Private event
DESCRIPTION:
URL:https://sibfordvillagehall.org.uk/event/private-event-160/
LOCATION:Small hall
END:VEVENT
BEGIN:VEVENT
DTSTART;TZID=Europe/London:20241205T090000
DTEND;TZID=Europe/London:20241205T110000
DTSTAMP:20260423T054301
CREATED:20241204T183023Z
LAST-MODIFIED:20241204T183023Z
UID:8077-1733389200-1733396400@sibfordvillagehall.org.uk
SUMMARY:Yoga
DESCRIPTION:
URL:https://sibfordvillagehall.org.uk/event/pe-17-5/
LOCATION:Main hall
END:VEVENT
BEGIN:VEVENT
DTSTART;TZID=Europe/London:20241205T140000
DTEND;TZID=Europe/London:20241205T160000
DTSTAMP:20260423T054301
CREATED:20241126T183025Z
LAST-MODIFIED:20241126T183025Z
UID:8052-1733407200-1733414400@sibfordvillagehall.org.uk
SUMMARY:Warm Hub
DESCRIPTION:Now half-an-hour earlier at 2pm until 4pm to allow people to get home before it gets dark. \nFree to attend as kindly sponsored by the Town Estate Charity \nRefreshments available as well as games\, crafts\, books\, puzzles. \nCome and socialise and keep warm in the small hall. \nContact Ginny on 01295 780 373 or ginnybennett@googlemail.com for more information. \nAll welcome!
URL:https://sibfordvillagehall.org.uk/event/warm-hub-2024-5-5/
LOCATION:Small hall
END:VEVENT
BEGIN:VEVENT
DTSTART;TZID=Europe/London:20241205T193000
DTEND;TZID=Europe/London:20241205T213000
DTSTAMP:20260423T054301
CREATED:20241104T183015Z
LAST-MODIFIED:20241104T183015Z
UID:7946-1733427000-1733434200@sibfordvillagehall.org.uk
SUMMARY:Sibford  Players Drama Group
DESCRIPTION:
URL:https://sibfordvillagehall.org.uk/event/sibford-players-drama-group-7/
LOCATION:Main hall
END:VEVENT
END:VCALENDAR