BEGIN:VCALENDAR
VERSION:2.0
PRODID:-//Sibford Village Hall - ECPv6.15.20//NONSGML v1.0//EN
CALSCALE:GREGORIAN
METHOD:PUBLISH
X-WR-CALNAME:Sibford Village Hall
X-ORIGINAL-URL:https://sibfordvillagehall.org.uk
X-WR-CALDESC:Events for Sibford Village Hall
REFRESH-INTERVAL;VALUE=DURATION:PT1H
X-Robots-Tag:noindex
X-PUBLISHED-TTL:PT1H
BEGIN:VTIMEZONE
TZID:Europe/London
BEGIN:DAYLIGHT
TZOFFSETFROM:+0000
TZOFFSETTO:+0100
TZNAME:BST
DTSTART:20240331T010000
END:DAYLIGHT
BEGIN:STANDARD
TZOFFSETFROM:+0100
TZOFFSETTO:+0000
TZNAME:GMT
DTSTART:20241027T010000
END:STANDARD
BEGIN:DAYLIGHT
TZOFFSETFROM:+0000
TZOFFSETTO:+0100
TZNAME:BST
DTSTART:20250330T010000
END:DAYLIGHT
BEGIN:STANDARD
TZOFFSETFROM:+0100
TZOFFSETTO:+0000
TZNAME:GMT
DTSTART:20251026T010000
END:STANDARD
BEGIN:DAYLIGHT
TZOFFSETFROM:+0000
TZOFFSETTO:+0100
TZNAME:BST
DTSTART:20260329T010000
END:DAYLIGHT
BEGIN:STANDARD
TZOFFSETFROM:+0100
TZOFFSETTO:+0000
TZNAME:GMT
DTSTART:20261025T010000
END:STANDARD
END:VTIMEZONE
BEGIN:VEVENT
DTSTART;TZID=Europe/London:20250325T120000
DTEND;TZID=Europe/London:20250325T160000
DTSTAMP:20260419T165702
CREATED:20241004T183008Z
LAST-MODIFIED:20241004T183008Z
UID:7828-1742904000-1742918400@sibfordvillagehall.org.uk
SUMMARY:Model Railway Group
DESCRIPTION:
URL:https://sibfordvillagehall.org.uk/event/model-railway-group-8-3/
LOCATION:Main hall
END:VEVENT
BEGIN:VEVENT
DTSTART;TZID=Europe/London:20250324T193000
DTEND;TZID=Europe/London:20250324T210000
DTSTAMP:20260419T165702
CREATED:20250130T183009Z
LAST-MODIFIED:20250130T183009Z
UID:8453-1742844600-1742850000@sibfordvillagehall.org.uk
SUMMARY:Singing Group
DESCRIPTION:
URL:https://sibfordvillagehall.org.uk/event/singing-group-7/
LOCATION:Main hall
END:VEVENT
BEGIN:VEVENT
DTSTART;TZID=Europe/London:20250324T183000
DTEND;TZID=Europe/London:20250324T193000
DTSTAMP:20260419T165702
CREATED:20250301T183014Z
LAST-MODIFIED:20250301T183014Z
UID:8556-1742841000-1742844600@sibfordvillagehall.org.uk
SUMMARY:Private event
DESCRIPTION:
URL:https://sibfordvillagehall.org.uk/event/pe-68-4/
LOCATION:Main hall
END:VEVENT
BEGIN:VEVENT
DTSTART;TZID=Europe/London:20250324T100000
DTEND;TZID=Europe/London:20250324T110000
DTSTAMP:20260419T165702
CREATED:20250227T183009Z
LAST-MODIFIED:20250227T183009Z
UID:8539-1742810400-1742814000@sibfordvillagehall.org.uk
SUMMARY:Chair Yoga
DESCRIPTION:
URL:https://sibfordvillagehall.org.uk/event/pe-66-4/
LOCATION:Main hall
END:VEVENT
BEGIN:VEVENT
DTSTART;TZID=Europe/London:20250323T170000
DTEND;TZID=Europe/London:20250323T190000
DTSTAMP:20260419T165702
CREATED:20250312T183006Z
LAST-MODIFIED:20250312T183006Z
UID:8632-1742749200-1742756400@sibfordvillagehall.org.uk
SUMMARY:Private event
DESCRIPTION:
URL:https://sibfordvillagehall.org.uk/event/pe-76/
LOCATION:Main hall
END:VEVENT
BEGIN:VEVENT
DTSTART;TZID=Europe/London:20250323T170000
DTEND;TZID=Europe/London:20250323T180000
DTSTAMP:20260419T165702
CREATED:20250306T183004Z
LAST-MODIFIED:20250306T183004Z
UID:8572-1742749200-1742752800@sibfordvillagehall.org.uk
SUMMARY:Yin Yoga
DESCRIPTION:
URL:https://sibfordvillagehall.org.uk/event/pe-70/
LOCATION:Small hall
END:VEVENT
BEGIN:VEVENT
DTSTART;TZID=Europe/London:20250322T100000
DTEND;TZID=Europe/London:20250322T120000
DTSTAMP:20260419T165702
CREATED:20250307T183008Z
LAST-MODIFIED:20250307T183008Z
UID:8573-1742637600-1742644800@sibfordvillagehall.org.uk
SUMMARY:Book Swap Café
DESCRIPTION:Welcome to our monthly chance to have coffee/cake and a chat. Browse our large selection of books and borrow any you like. No need to bring a book to swap. No charge. Donations welcome.
URL:https://sibfordvillagehall.org.uk/event/book-swap-cafe-19-2/
LOCATION:Small hall
END:VEVENT
BEGIN:VEVENT
DTSTART;TZID=Europe/London:20250322T090000
DTEND;TZID=Europe/London:20250322T100000
DTSTAMP:20260419T165702
CREATED:20250301T183014Z
LAST-MODIFIED:20250301T183014Z
UID:8555-1742634000-1742637600@sibfordvillagehall.org.uk
SUMMARY:Private event
DESCRIPTION:
URL:https://sibfordvillagehall.org.uk/event/pe-69-3/
LOCATION:Main hall
END:VEVENT
BEGIN:VEVENT
DTSTART;TZID=Europe/London:20250321T160000
DTEND;TZID=Europe/London:20250321T190000
DTSTAMP:20260419T165702
CREATED:20250224T183008Z
LAST-MODIFIED:20250224T183008Z
UID:8514-1742572800-1742583600@sibfordvillagehall.org.uk
SUMMARY:Beavers\, Cubs and Scouts
DESCRIPTION:
URL:https://sibfordvillagehall.org.uk/event/pe-62/
LOCATION:Main hall
END:VEVENT
BEGIN:VEVENT
DTSTART;TZID=Europe/London:20250321T093000
DTEND;TZID=Europe/London:20250321T113000
DTSTAMP:20260419T165702
CREATED:20250227T183009Z
LAST-MODIFIED:20250227T183009Z
UID:8538-1742549400-1742556600@sibfordvillagehall.org.uk
SUMMARY:Tots and babes
DESCRIPTION:
URL:https://sibfordvillagehall.org.uk/event/tots-and-babes-9-4/
LOCATION:Small hall
END:VEVENT
BEGIN:VEVENT
DTSTART;TZID=Europe/London:20250321T090000
DTEND;TZID=Europe/London:20250321T123000
DTSTAMP:20260419T165702
CREATED:20250111T183029Z
LAST-MODIFIED:20250111T183029Z
UID:8413-1742547600-1742560200@sibfordvillagehall.org.uk
SUMMARY:Private event
DESCRIPTION:
URL:https://sibfordvillagehall.org.uk/event/pe-46-9/
LOCATION:Main hall
END:VEVENT
BEGIN:VEVENT
DTSTART;TZID=Europe/London:20250320T193000
DTEND;TZID=Europe/London:20250320T193000
DTSTAMP:20260419T165702
CREATED:20250318T183006Z
LAST-MODIFIED:20250318T183006Z
UID:8637-1742499000-1742499000@sibfordvillagehall.org.uk
SUMMARY:Sibfords History Society - Yesterday's Childhood
DESCRIPTION:Our speaker Bill King has previously given us informative talks on Glen Miller and “Dad’s Underground Army”. He is back with this lighthearted look at how the concept of childhood has developed from the 18th century to modern times. \nDoors open at 7pm. Free to paid-up members\, visitors £5. Refreshments follow the talk.
URL:https://sibfordvillagehall.org.uk/event/sibfords-history-soci-2/
LOCATION:Main hall
END:VEVENT
BEGIN:VEVENT
DTSTART;TZID=Europe/London:20250320T173000
DTEND;TZID=Europe/London:20250320T183000
DTSTAMP:20260419T165702
CREATED:20250213T183014Z
LAST-MODIFIED:20250213T183014Z
UID:8484-1742491800-1742495400@sibfordvillagehall.org.uk
SUMMARY:Sibford Young Performers
DESCRIPTION:
URL:https://sibfordvillagehall.org.uk/event/sibford-young-perform-2-4/
LOCATION:Main hall
END:VEVENT
BEGIN:VEVENT
DTSTART;TZID=Europe/London:20250320T143000
DTEND;TZID=Europe/London:20250320T163000
DTSTAMP:20260419T165702
CREATED:20250226T183038Z
LAST-MODIFIED:20250226T183038Z
UID:8524-1742481000-1742488200@sibfordvillagehall.org.uk
SUMMARY:Warm Hub
DESCRIPTION:Free to attend as kindly sponsored by the Town Estate Charity \nRefreshments available as well as games\, crafts\, books\, puzzles. \nCome and socialise and keep warm in the small hall. \nContact Ginny on 01295 780 373 or ginnybennett@googlemail.com for more information. \nAll welcome!
URL:https://sibfordvillagehall.org.uk/event/warm-hub-2024-5-17/
LOCATION:Small hall
END:VEVENT
BEGIN:VEVENT
DTSTART;TZID=Europe/London:20250320T090000
DTEND;TZID=Europe/London:20250320T110000
DTSTAMP:20260419T165702
CREATED:20250227T183009Z
LAST-MODIFIED:20250227T183009Z
UID:8537-1742461200-1742468400@sibfordvillagehall.org.uk
SUMMARY:Yoga / Chair Yoga
DESCRIPTION:Yoga 9 – 10\, Chair yoga: 10 – 11.
URL:https://sibfordvillagehall.org.uk/event/pe-65-4/
LOCATION:Main hall
END:VEVENT
BEGIN:VEVENT
DTSTART;TZID=Europe/London:20250319T120000
DTEND;TZID=Europe/London:20250319T143000
DTSTAMP:20260419T165702
CREATED:20250104T183051Z
LAST-MODIFIED:20250104T183051Z
UID:8273-1742385600-1742394600@sibfordvillagehall.org.uk
SUMMARY:Sibford Lunch Club
DESCRIPTION:
URL:https://sibfordvillagehall.org.uk/event/sibford-lunch-club-14-16/
LOCATION:Main hall
END:VEVENT
BEGIN:VEVENT
DTSTART;TZID=Europe/London:20250318T190000
DTEND;TZID=Europe/London:20250318T210000
DTSTAMP:20260419T165702
CREATED:20250109T183017Z
LAST-MODIFIED:20250109T183017Z
UID:8363-1742324400-1742331600@sibfordvillagehall.org.uk
SUMMARY:Bridge Club
DESCRIPTION:
URL:https://sibfordvillagehall.org.uk/event/bridge-club-5/
LOCATION:Small hall
END:VEVENT
BEGIN:VEVENT
DTSTART;TZID=Europe/London:20250317T193000
DTEND;TZID=Europe/London:20250317T210000
DTSTAMP:20260419T165702
CREATED:20250130T183008Z
LAST-MODIFIED:20250130T183008Z
UID:8452-1742239800-1742245200@sibfordvillagehall.org.uk
SUMMARY:Singing Group
DESCRIPTION:
URL:https://sibfordvillagehall.org.uk/event/singing-group-6/
LOCATION:Main hall
END:VEVENT
BEGIN:VEVENT
DTSTART;TZID=Europe/London:20250317T183000
DTEND;TZID=Europe/London:20250317T193000
DTSTAMP:20260419T165702
CREATED:20250301T183014Z
LAST-MODIFIED:20250301T183014Z
UID:8554-1742236200-1742239800@sibfordvillagehall.org.uk
SUMMARY:Private event
DESCRIPTION:
URL:https://sibfordvillagehall.org.uk/event/pe-68-3/
LOCATION:Main hall
END:VEVENT
BEGIN:VEVENT
DTSTART;TZID=Europe/London:20250317T100000
DTEND;TZID=Europe/London:20250317T110000
DTSTAMP:20260419T165702
CREATED:20250227T183008Z
LAST-MODIFIED:20250227T183008Z
UID:8536-1742205600-1742209200@sibfordvillagehall.org.uk
SUMMARY:Chair Yoga
DESCRIPTION:
URL:https://sibfordvillagehall.org.uk/event/pe-66-3/
LOCATION:Main hall
END:VEVENT
BEGIN:VEVENT
DTSTART;TZID=Europe/London:20250316T180000
DTEND;TZID=Europe/London:20250316T200000
DTSTAMP:20260419T165702
CREATED:20250228T183018Z
LAST-MODIFIED:20250228T183018Z
UID:8547-1742148000-1742155200@sibfordvillagehall.org.uk
SUMMARY:Private event
DESCRIPTION:
URL:https://sibfordvillagehall.org.uk/event/pe-23-2/
LOCATION:Small hall
END:VEVENT
BEGIN:VEVENT
DTSTART;TZID=Europe/London:20250315T090000
DTEND;TZID=Europe/London:20250315T100000
DTSTAMP:20260419T165702
CREATED:20250301T183013Z
LAST-MODIFIED:20250301T183013Z
UID:8553-1742029200-1742032800@sibfordvillagehall.org.uk
SUMMARY:Private event
DESCRIPTION:
URL:https://sibfordvillagehall.org.uk/event/pe-69-2/
LOCATION:Main hall
END:VEVENT
BEGIN:VEVENT
DTSTART;TZID=Europe/London:20250314T173000
DTEND;TZID=Europe/London:20250314T190000
DTSTAMP:20260419T165702
CREATED:20250224T183008Z
LAST-MODIFIED:20250224T183008Z
UID:8513-1741973400-1741978800@sibfordvillagehall.org.uk
SUMMARY:Beavers\, Cubs and Scouts
DESCRIPTION:
URL:https://sibfordvillagehall.org.uk/event/pe-61-3/
LOCATION:Main hall
END:VEVENT
BEGIN:VEVENT
DTSTART;TZID=Europe/London:20250314T160000
DTEND;TZID=Europe/London:20250314T173000
DTSTAMP:20260419T165702
CREATED:20250224T183007Z
LAST-MODIFIED:20250224T183007Z
UID:8512-1741968000-1741973400@sibfordvillagehall.org.uk
SUMMARY:Beavers\, Cubs and Scouts
DESCRIPTION:
URL:https://sibfordvillagehall.org.uk/event/pe-60-3/
LOCATION:Main hall
END:VEVENT
BEGIN:VEVENT
DTSTART;TZID=Europe/London:20250314T093000
DTEND;TZID=Europe/London:20250314T113000
DTSTAMP:20260419T165702
CREATED:20250227T183008Z
LAST-MODIFIED:20250227T183008Z
UID:8535-1741944600-1741951800@sibfordvillagehall.org.uk
SUMMARY:Tots and babes
DESCRIPTION:
URL:https://sibfordvillagehall.org.uk/event/tots-and-babes-9-3/
LOCATION:Small hall
END:VEVENT
BEGIN:VEVENT
DTSTART;TZID=Europe/London:20250314T090000
DTEND;TZID=Europe/London:20250314T123000
DTSTAMP:20260419T165702
CREATED:20250111T183028Z
LAST-MODIFIED:20250111T183028Z
UID:8412-1741942800-1741955400@sibfordvillagehall.org.uk
SUMMARY:Private event
DESCRIPTION:
URL:https://sibfordvillagehall.org.uk/event/pe-46-8/
LOCATION:Main hall
END:VEVENT
BEGIN:VEVENT
DTSTART;TZID=Europe/London:20250313T173000
DTEND;TZID=Europe/London:20250313T183000
DTSTAMP:20260419T165702
CREATED:20250213T183014Z
LAST-MODIFIED:20250213T183014Z
UID:8483-1741887000-1741890600@sibfordvillagehall.org.uk
SUMMARY:Sibford Young Performers
DESCRIPTION:
URL:https://sibfordvillagehall.org.uk/event/sibford-young-perform-2-3/
LOCATION:Main hall
END:VEVENT
BEGIN:VEVENT
DTSTART;TZID=Europe/London:20250313T143000
DTEND;TZID=Europe/London:20250313T163000
DTSTAMP:20260419T165702
CREATED:20250226T183036Z
LAST-MODIFIED:20250226T183036Z
UID:8523-1741876200-1741883400@sibfordvillagehall.org.uk
SUMMARY:Warm Hub
DESCRIPTION:Free to attend as kindly sponsored by the Town Estate Charity \nRefreshments available as well as games\, crafts\, books\, puzzles. \nCome and socialise and keep warm in the small hall. \nContact Ginny on 01295 780 373 or ginnybennett@googlemail.com for more information. \nAll welcome!
URL:https://sibfordvillagehall.org.uk/event/warm-hub-2024-5-16/
LOCATION:Small hall
END:VEVENT
BEGIN:VEVENT
DTSTART;TZID=Europe/London:20250313T090000
DTEND;TZID=Europe/London:20250313T110000
DTSTAMP:20260419T165702
CREATED:20250227T183008Z
LAST-MODIFIED:20250227T183008Z
UID:8534-1741856400-1741863600@sibfordvillagehall.org.uk
SUMMARY:Yoga / Chair Yoga
DESCRIPTION:Yoga 9 – 10\, Chair yoga: 10 – 11.
URL:https://sibfordvillagehall.org.uk/event/pe-65-3/
LOCATION:Main hall
END:VEVENT
BEGIN:VEVENT
DTSTART;TZID=Europe/London:20250312T193000
DTEND;TZID=Europe/London:20250312T193000
DTSTAMP:20260419T165702
CREATED:20250312T183005Z
LAST-MODIFIED:20250312T183005Z
UID:8631-1741807800-1741807800@sibfordvillagehall.org.uk
SUMMARY:Horti meeting - Daylesford organic garden
DESCRIPTION:Jez Taylor runs the market garden at Daylesford and favours a seasonal approach to growing\, encouraging life and resilience in the 30 acres he manages. Having previously consulted for the Eden Project in Cornwall and developed his own cider business\, Jez’s diverse horticultural background brings colour and creativity to this highly productive garden. \nDoors open at 7pm for refreshments; talk starts at 7.30pm \nNon-members £3
URL:https://sibfordvillagehall.org.uk/event/horti-daylesford-organic-garden/
LOCATION:Main hall
END:VEVENT
END:VCALENDAR