BEGIN:VCALENDAR
VERSION:2.0
PRODID:-//Sibford Village Hall - ECPv6.15.20//NONSGML v1.0//EN
CALSCALE:GREGORIAN
METHOD:PUBLISH
X-ORIGINAL-URL:https://sibfordvillagehall.org.uk
X-WR-CALDESC:Events for Sibford Village Hall
REFRESH-INTERVAL;VALUE=DURATION:PT1H
X-Robots-Tag:noindex
X-PUBLISHED-TTL:PT1H
BEGIN:VTIMEZONE
TZID:Europe/London
BEGIN:DAYLIGHT
TZOFFSETFROM:+0000
TZOFFSETTO:+0100
TZNAME:BST
DTSTART:20230326T010000
END:DAYLIGHT
BEGIN:STANDARD
TZOFFSETFROM:+0100
TZOFFSETTO:+0000
TZNAME:GMT
DTSTART:20231029T010000
END:STANDARD
BEGIN:DAYLIGHT
TZOFFSETFROM:+0000
TZOFFSETTO:+0100
TZNAME:BST
DTSTART:20240331T010000
END:DAYLIGHT
BEGIN:STANDARD
TZOFFSETFROM:+0100
TZOFFSETTO:+0000
TZNAME:GMT
DTSTART:20241027T010000
END:STANDARD
BEGIN:DAYLIGHT
TZOFFSETFROM:+0000
TZOFFSETTO:+0100
TZNAME:BST
DTSTART:20250330T010000
END:DAYLIGHT
BEGIN:STANDARD
TZOFFSETFROM:+0100
TZOFFSETTO:+0000
TZNAME:GMT
DTSTART:20251026T010000
END:STANDARD
END:VTIMEZONE
BEGIN:VEVENT
DTSTART;TZID=Europe/London:20240928T143000
DTEND;TZID=Europe/London:20240928T180000
DTSTAMP:20260422T230830
CREATED:20240803T183007Z
LAST-MODIFIED:20240803T183007Z
UID:7576-1727533800-1727546400@sibfordvillagehall.org.uk
SUMMARY:Private event
DESCRIPTION:
URL:https://sibfordvillagehall.org.uk/event/private-event-152/
LOCATION:Main hall
END:VEVENT
BEGIN:VEVENT
DTSTART;TZID=Europe/London:20240930T100000
DTEND;TZID=Europe/London:20240930T110000
DTSTAMP:20260422T230830
CREATED:20240928T183011Z
LAST-MODIFIED:20240928T183011Z
UID:7790-1727690400-1727694000@sibfordvillagehall.org.uk
SUMMARY:Chair Yoga
DESCRIPTION:For more information\, contact Juliette Glazebrook: juliette53@btinternet.com or 07703 836 856
URL:https://sibfordvillagehall.org.uk/event/chair-yoga-40/
LOCATION:Main hall
END:VEVENT
BEGIN:VEVENT
DTSTART;TZID=Europe/London:20240930T193000
DTEND;TZID=Europe/London:20240930T210000
DTSTAMP:20260422T230830
CREATED:20240714T183003Z
LAST-MODIFIED:20240714T183003Z
UID:7524-1727724600-1727730000@sibfordvillagehall.org.uk
SUMMARY:Private event
DESCRIPTION:
URL:https://sibfordvillagehall.org.uk/event/private-event-145-4/
LOCATION:Main hall
END:VEVENT
BEGIN:VEVENT
DTSTART;TZID=Europe/London:20241001T140000
DTEND;TZID=Europe/London:20241001T160000
DTSTAMP:20260422T230830
CREATED:20240821T183012Z
LAST-MODIFIED:20240821T183012Z
UID:7631-1727791200-1727798400@sibfordvillagehall.org.uk
SUMMARY:Friendship Club
DESCRIPTION:
URL:https://sibfordvillagehall.org.uk/event/friendship-club-14-9/
LOCATION:Small hall
END:VEVENT
BEGIN:VEVENT
DTSTART;TZID=Europe/London:20241001T190000
DTEND;TZID=Europe/London:20241001T210000
DTSTAMP:20260422T230830
CREATED:20240927T183012Z
LAST-MODIFIED:20240927T183012Z
UID:7779-1727809200-1727816400@sibfordvillagehall.org.uk
SUMMARY:Bridge club
DESCRIPTION:A friendly group\, playing bridge to the best of their ability\, and with new bridge players welcome. \nThere is a charge of £2 a session to cover the cost of the hall. \nFor more information contact Joan Broady on 07850 483 462\, preferably with a text message.
URL:https://sibfordvillagehall.org.uk/event/bridge-club-6-weeks/
LOCATION:Small hall
END:VEVENT
BEGIN:VEVENT
DTSTART;TZID=Europe/London:20241002T130000
DTEND;TZID=Europe/London:20241002T130000
DTSTAMP:20260422T230830
CREATED:20240131T183026Z
LAST-MODIFIED:20240131T183026Z
UID:6802-1727874000-1727874000@sibfordvillagehall.org.uk
SUMMARY:Sibford Lunch Club
DESCRIPTION:
URL:https://sibfordvillagehall.org.uk/event/sibford-lunch-club-13-39/
LOCATION:Main hall
END:VEVENT
BEGIN:VEVENT
DTSTART;TZID=Europe/London:20241002T190000
DTEND;TZID=Europe/London:20241002T203000
DTSTAMP:20260422T230830
CREATED:20240927T183013Z
LAST-MODIFIED:20240927T183013Z
UID:7780-1727895600-1727901000@sibfordvillagehall.org.uk
SUMMARY:Private event
DESCRIPTION:
URL:https://sibfordvillagehall.org.uk/event/private-event-172/
LOCATION:Main hall
END:VEVENT
BEGIN:VEVENT
DTSTART;TZID=Europe/London:20241003T090000
DTEND;TZID=Europe/London:20241003T110000
DTSTAMP:20260422T230830
CREATED:20240928T183011Z
LAST-MODIFIED:20240928T183011Z
UID:7791-1727946000-1727953200@sibfordvillagehall.org.uk
SUMMARY:Flow Yoga & Chair Yoga
DESCRIPTION:9am – 10am Flow Yoga \n10.15am – 11.15am Chair Yoga \nFor more information\, contact Juliette Glazebrook: juliette53@btinternet.com or 07703 836 856
URL:https://sibfordvillagehall.org.uk/event/flow-chair-yoga/
LOCATION:Main hall
END:VEVENT
BEGIN:VEVENT
DTSTART;TZID=Europe/London:20241003T193000
DTEND;TZID=Europe/London:20241003T210000
DTSTAMP:20260422T230830
CREATED:20240919T183047Z
LAST-MODIFIED:20240919T183047Z
UID:7723-1727983800-1727989200@sibfordvillagehall.org.uk
SUMMARY:Sibford  Players Drama Group
DESCRIPTION:
URL:https://sibfordvillagehall.org.uk/event/sibford-players-drama-group-2/
LOCATION:Main hall
END:VEVENT
BEGIN:VEVENT
DTSTART;TZID=Europe/London:20241004T093000
DTEND;TZID=Europe/London:20241004T113000
DTSTAMP:20260422T230830
CREATED:20240927T183013Z
LAST-MODIFIED:20240927T183013Z
UID:7781-1728034200-1728041400@sibfordvillagehall.org.uk
SUMMARY:Tots and babes
DESCRIPTION:
URL:https://sibfordvillagehall.org.uk/event/tots-and-babes-4-2/
LOCATION:Small hall
END:VEVENT
BEGIN:VEVENT
DTSTART;TZID=Europe/London:20241004T093000
DTEND;TZID=Europe/London:20241004T123000
DTSTAMP:20260422T230830
CREATED:20240802T183012Z
LAST-MODIFIED:20240802T183012Z
UID:7560-1728034200-1728045000@sibfordvillagehall.org.uk
SUMMARY:Art Class
DESCRIPTION:For more information contact Nigel Fletcher nvfletcher@btinternet.com\, 07792 657 248 or visit www.nigelfletcher.co.uk
URL:https://sibfordvillagehall.org.uk/event/art-class-4-17/
LOCATION:Main hall
END:VEVENT
BEGIN:VEVENT
DTSTART;TZID=Europe/London:20241004T173000
DTEND;TZID=Europe/London:20241004T190000
DTSTAMP:20260422T230830
CREATED:20240913T183010Z
LAST-MODIFIED:20240913T183010Z
UID:7704-1728063000-1728068400@sibfordvillagehall.org.uk
SUMMARY:Private event
DESCRIPTION:
URL:https://sibfordvillagehall.org.uk/event/private-event-171/
LOCATION:Main hall
END:VEVENT
BEGIN:VEVENT
DTSTART;TZID=Europe/London:20241005T110000
DTEND;TZID=Europe/London:20241005T200000
DTSTAMP:20260422T230830
CREATED:20241003T183007Z
LAST-MODIFIED:20241003T183007Z
UID:7814-1728126000-1728158400@sibfordvillagehall.org.uk
SUMMARY:Private event
DESCRIPTION:
URL:https://sibfordvillagehall.org.uk/event/pe/
LOCATION:Main hall
END:VEVENT
BEGIN:VEVENT
DTSTART;TZID=Europe/London:20241006T120000
DTEND;TZID=Europe/London:20241006T160000
DTSTAMP:20260422T230830
CREATED:20240928T183011Z
LAST-MODIFIED:20240928T183011Z
UID:7792-1728216000-1728230400@sibfordvillagehall.org.uk
SUMMARY:Apple Festival
DESCRIPTION:Everyone is welcome and entry is free!  There will be delicious things for lunch\, fun and games for children\, music\, and an apple baking competition amongst other things. We will also be announcing the winner of the Scarecrow Trail. \nFull details are in this leaflet: apple fest leaflet handout
URL:https://sibfordvillagehall.org.uk/event/apfest/
LOCATION:Main hall
END:VEVENT
BEGIN:VEVENT
DTSTART;TZID=Europe/London:20241007T100000
DTEND;TZID=Europe/London:20241007T110000
DTSTAMP:20260422T230830
CREATED:20240928T183012Z
LAST-MODIFIED:20240928T183012Z
UID:7793-1728295200-1728298800@sibfordvillagehall.org.uk
SUMMARY:Chair Yoga
DESCRIPTION:For more information\, contact Juliette Glazebrook: juliette53@btinternet.com or 07703 836 856
URL:https://sibfordvillagehall.org.uk/event/chair-yoga-40-2/
LOCATION:Main hall
END:VEVENT
BEGIN:VEVENT
DTSTART;TZID=Europe/London:20241008T103000
DTEND;TZID=Europe/London:20241008T133000
DTSTAMP:20260422T230830
CREATED:20241008T183011Z
LAST-MODIFIED:20241008T183011Z
UID:7840-1728383400-1728394200@sibfordvillagehall.org.uk
SUMMARY:Flu clinic
DESCRIPTION:If you haven’t already been jabbed\, please support Sibford Surgery by booking your flu vaccination by calling in at the surgery or phoning 01295 780 213 \nIf you can’t make the 15th\, call anyway to book an appointment at the surgery at a more suitable date.
URL:https://sibfordvillagehall.org.uk/event/private-event-165/
LOCATION:Main hall
END:VEVENT
BEGIN:VEVENT
DTSTART;TZID=Europe/London:20241008T190000
DTEND;TZID=Europe/London:20241008T210000
DTSTAMP:20260422T230830
CREATED:20240622T183007Z
LAST-MODIFIED:20240622T183007Z
UID:7464-1728414000-1728421200@sibfordvillagehall.org.uk
SUMMARY:Meeting of local clergy
DESCRIPTION:
URL:https://sibfordvillagehall.org.uk/event/meeting-of-local-cler/
LOCATION:Main hall
END:VEVENT
BEGIN:VEVENT
DTSTART;TZID=Europe/London:20241008T190000
DTEND;TZID=Europe/London:20241008T210000
DTSTAMP:20260422T230830
CREATED:20240927T183013Z
LAST-MODIFIED:20240927T183013Z
UID:7782-1728414000-1728421200@sibfordvillagehall.org.uk
SUMMARY:Bridge club
DESCRIPTION:A friendly group\, playing bridge to the best of their ability\, and with new bridge players welcome. \nThere is a charge of £2 a session to cover the cost of the hall. \nFor more information contact Joan Broady on 07850 483 462\, preferably with a text message.
URL:https://sibfordvillagehall.org.uk/event/bridge-club-6-weeks-2/
LOCATION:Small hall
END:VEVENT
BEGIN:VEVENT
DTSTART;TZID=Europe/London:20241009T130000
DTEND;TZID=Europe/London:20241009T130000
DTSTAMP:20260422T230830
CREATED:20240131T183026Z
LAST-MODIFIED:20240131T183026Z
UID:6803-1728478800-1728478800@sibfordvillagehall.org.uk
SUMMARY:Sibford Lunch Club
DESCRIPTION:
URL:https://sibfordvillagehall.org.uk/event/sibford-lunch-club-13-40/
LOCATION:Main hall
END:VEVENT
BEGIN:VEVENT
DTSTART;TZID=Europe/London:20241009T190000
DTEND;TZID=Europe/London:20241009T210000
DTSTAMP:20260422T230830
CREATED:20240222T183010Z
LAST-MODIFIED:20240222T183010Z
UID:6983-1728500400-1728507600@sibfordvillagehall.org.uk
SUMMARY:Horti meeting - Alpines in the Wild and Cultivation
DESCRIPTION:Alpine expert Diane Clement will take us on a journey through glorious alpine scenery observing where and how these specialist plants grow and how we can adapt our gardens to grow them here too. Since her retirement her passion has taken her to far flung places\, China\, Japan\, Colorado\, Kyrgyzstan\, Patagonia and to many parts of Europe.
URL:https://sibfordvillagehall.org.uk/event/sibford-horticultural/
LOCATION:Main hall
END:VEVENT
BEGIN:VEVENT
DTSTART;TZID=Europe/London:20241010T090000
DTEND;TZID=Europe/London:20241010T110000
DTSTAMP:20260422T230830
CREATED:20240928T183012Z
LAST-MODIFIED:20240928T183012Z
UID:7794-1728550800-1728558000@sibfordvillagehall.org.uk
SUMMARY:Flow Yoga & Chair Yoga
DESCRIPTION:9am – 10am Flow Yoga \n10.15am – 11.15am Chair Yoga \nFor more information\, contact Juliette Glazebrook: juliette53@btinternet.com or 07703 836 856
URL:https://sibfordvillagehall.org.uk/event/flow-chair-yoga-2/
LOCATION:Main hall
END:VEVENT
BEGIN:VEVENT
DTSTART;TZID=Europe/London:20241010T193000
DTEND;TZID=Europe/London:20241010T210000
DTSTAMP:20260422T230830
CREATED:20241010T183013Z
LAST-MODIFIED:20241010T183013Z
UID:7844-1728588600-1728594000@sibfordvillagehall.org.uk
SUMMARY:Sibford  Players Drama Group
DESCRIPTION:
URL:https://sibfordvillagehall.org.uk/event/sibford-players-drama-group-3/
LOCATION:Main hall
END:VEVENT
BEGIN:VEVENT
DTSTART;TZID=Europe/London:20241011T093000
DTEND;TZID=Europe/London:20241011T113000
DTSTAMP:20260422T230830
CREATED:20240927T183014Z
LAST-MODIFIED:20240927T183014Z
UID:7783-1728639000-1728646200@sibfordvillagehall.org.uk
SUMMARY:Tots and babes
DESCRIPTION:
URL:https://sibfordvillagehall.org.uk/event/tots-and-babes-4-3/
LOCATION:Small hall
END:VEVENT
BEGIN:VEVENT
DTSTART;TZID=Europe/London:20241011T093000
DTEND;TZID=Europe/London:20241011T123000
DTSTAMP:20260422T230830
CREATED:20240802T183012Z
LAST-MODIFIED:20240802T183012Z
UID:7561-1728639000-1728649800@sibfordvillagehall.org.uk
SUMMARY:Art Class
DESCRIPTION:For more information contact Nigel Fletcher nvfletcher@btinternet.com\, 07792 657 248 or visit www.nigelfletcher.co.uk
URL:https://sibfordvillagehall.org.uk/event/art-class-4-18/
LOCATION:Main hall
END:VEVENT
BEGIN:VEVENT
DTSTART;TZID=Europe/London:20241011T160000
DTEND;TZID=Europe/London:20241011T190000
DTSTAMP:20260422T230830
CREATED:20240913T183010Z
LAST-MODIFIED:20240913T183010Z
UID:7705-1728662400-1728673200@sibfordvillagehall.org.uk
SUMMARY:Private event
DESCRIPTION:
URL:https://sibfordvillagehall.org.uk/event/private-event-168-3/
LOCATION:Main hall
END:VEVENT
BEGIN:VEVENT
DTSTART;TZID=Europe/London:20241011T173000
DTEND;TZID=Europe/London:20241011T190000
DTSTAMP:20260422T230830
CREATED:20240913T183010Z
LAST-MODIFIED:20240913T183010Z
UID:7706-1728667800-1728673200@sibfordvillagehall.org.uk
SUMMARY:Private event
DESCRIPTION:
URL:https://sibfordvillagehall.org.uk/event/private-event-169-3/
LOCATION:Small hall
END:VEVENT
BEGIN:VEVENT
DTSTART;TZID=Europe/London:20241012T090000
DTEND;TZID=Europe/London:20241012T100000
DTSTAMP:20260422T230830
CREATED:20241008T183012Z
LAST-MODIFIED:20241008T183012Z
UID:7841-1728723600-1728727200@sibfordvillagehall.org.uk
SUMMARY:Private event
DESCRIPTION:
URL:https://sibfordvillagehall.org.uk/event/pe-7/
LOCATION:Main hall
END:VEVENT
BEGIN:VEVENT
DTSTART;TZID=Europe/London:20241013T130000
DTEND;TZID=Europe/London:20241013T173000
DTSTAMP:20260422T230830
CREATED:20240905T183005Z
LAST-MODIFIED:20240905T183005Z
UID:7676-1728824400-1728840600@sibfordvillagehall.org.uk
SUMMARY:Private event
DESCRIPTION:
URL:https://sibfordvillagehall.org.uk/event/private-event-162/
LOCATION:Main hall
END:VEVENT
BEGIN:VEVENT
DTSTART;TZID=Europe/London:20241014T100000
DTEND;TZID=Europe/London:20241014T110000
DTSTAMP:20260422T230830
CREATED:20240928T183012Z
LAST-MODIFIED:20240928T183012Z
UID:7795-1728900000-1728903600@sibfordvillagehall.org.uk
SUMMARY:Chair Yoga
DESCRIPTION:For more information\, contact Juliette Glazebrook: juliette53@btinternet.com or 07703 836 856
URL:https://sibfordvillagehall.org.uk/event/chair-yoga-40-3/
LOCATION:Main hall
END:VEVENT
BEGIN:VEVENT
DTSTART;TZID=Europe/London:20241014T183000
DTEND;TZID=Europe/London:20241014T193000
DTSTAMP:20260422T230830
CREATED:20241007T183009Z
LAST-MODIFIED:20241007T183009Z
UID:7834-1728930600-1728934200@sibfordvillagehall.org.uk
SUMMARY:Private event
DESCRIPTION:
URL:https://sibfordvillagehall.org.uk/event/pe-8/
LOCATION:Main hall
END:VEVENT
END:VCALENDAR