BEGIN:VCALENDAR
VERSION:2.0
PRODID:-//Sibford Village Hall - ECPv6.15.20//NONSGML v1.0//EN
CALSCALE:GREGORIAN
METHOD:PUBLISH
X-ORIGINAL-URL:https://sibfordvillagehall.org.uk
X-WR-CALDESC:Events for Sibford Village Hall
REFRESH-INTERVAL;VALUE=DURATION:PT1H
X-Robots-Tag:noindex
X-PUBLISHED-TTL:PT1H
BEGIN:VTIMEZONE
TZID:Europe/London
BEGIN:DAYLIGHT
TZOFFSETFROM:+0000
TZOFFSETTO:+0100
TZNAME:BST
DTSTART:20220327T010000
END:DAYLIGHT
BEGIN:STANDARD
TZOFFSETFROM:+0100
TZOFFSETTO:+0000
TZNAME:GMT
DTSTART:20221030T010000
END:STANDARD
BEGIN:DAYLIGHT
TZOFFSETFROM:+0000
TZOFFSETTO:+0100
TZNAME:BST
DTSTART:20230326T010000
END:DAYLIGHT
BEGIN:STANDARD
TZOFFSETFROM:+0100
TZOFFSETTO:+0000
TZNAME:GMT
DTSTART:20231029T010000
END:STANDARD
BEGIN:DAYLIGHT
TZOFFSETFROM:+0000
TZOFFSETTO:+0100
TZNAME:BST
DTSTART:20240331T010000
END:DAYLIGHT
BEGIN:STANDARD
TZOFFSETFROM:+0100
TZOFFSETTO:+0000
TZNAME:GMT
DTSTART:20241027T010000
END:STANDARD
END:VTIMEZONE
BEGIN:VEVENT
DTSTART;TZID=Europe/London:20231018T190000
DTEND;TZID=Europe/London:20231018T210000
DTSTAMP:20260422T000232
CREATED:20230727T183008Z
LAST-MODIFIED:20230727T183008Z
UID:5643-1697655600-1697662800@sibfordvillagehall.org.uk
SUMMARY:Bridge Classes
DESCRIPTION:
URL:https://sibfordvillagehall.org.uk/event/bridge-classes-2-3/
LOCATION:Main hall
END:VEVENT
BEGIN:VEVENT
DTSTART;TZID=Europe/London:20231018T193000
DTEND;TZID=Europe/London:20231018T220000
DTSTAMP:20260422T000232
CREATED:20231012T183007Z
LAST-MODIFIED:20231012T183007Z
UID:6134-1697657400-1697666400@sibfordvillagehall.org.uk
SUMMARY:Meeting of Town Estate Charity Trustees
DESCRIPTION:
URL:https://sibfordvillagehall.org.uk/event/meeting-of-town-estate-charity-trustees/
LOCATION:Small hall
END:VEVENT
BEGIN:VEVENT
DTSTART;TZID=Europe/London:20231019T090000
DTEND;TZID=Europe/London:20231019T110000
DTSTAMP:20260422T000232
CREATED:20231004T183006Z
LAST-MODIFIED:20231004T183006Z
UID:6097-1697706000-1697713200@sibfordvillagehall.org.uk
SUMMARY:Yoga sessions
DESCRIPTION:
URL:https://sibfordvillagehall.org.uk/event/private-event-17-4/
LOCATION:Main hall
END:VEVENT
BEGIN:VEVENT
DTSTART;TZID=Europe/London:20231019T193000
DTEND;TZID=Europe/London:20231019T213000
DTSTAMP:20260422T000232
CREATED:20230930T183006Z
LAST-MODIFIED:20230930T183006Z
UID:6068-1697743800-1697751000@sibfordvillagehall.org.uk
SUMMARY:Sibfords History Society - Bess of Hardwick Hall
DESCRIPTION:Bess of Hardwick is one of the most fascinating women of the sixteenth century and her most famous building\, Hardwick Hall in Derbyshire\, survives as a fine example of Elizabethan creativity\, magnificence and pride. By a series of well-made marriages\, she rose to the highest levels of English nobility and became enormously wealthy. Bess was reportedly a shrewd businesswoman\, increasing her assets with business interests including mines and glass-making workshops. \nThis talk outlines Bess’s remarkable life and then will briefly touch on the architecture and contents of Hardwick Hall\, surely her lasting monument. \nDr Gill White formerly worked for the National Trust as a curator/collections manager at Hardwick Hall. She now works as a freelance lecturer and teaches at Oxford and Leicester. \nDoors open at 7.15 p.m. and the talk starts at 7.30 p.m. Free to members\, visitors £3. Refreshments follow the talk.
URL:https://sibfordvillagehall.org.uk/event/sibfords-history-society-bess-of-hardwick-hall/
LOCATION:Main hall
END:VEVENT
BEGIN:VEVENT
DTSTART;TZID=Europe/London:20231020T093000
DTEND;TZID=Europe/London:20231020T123000
DTSTAMP:20260422T000232
CREATED:20231012T183007Z
LAST-MODIFIED:20231012T183007Z
UID:6135-1697794200-1697805000@sibfordvillagehall.org.uk
SUMMARY:Art Class / Oil painting
DESCRIPTION:
URL:https://sibfordvillagehall.org.uk/event/art-class-oil-painti-2-3/
LOCATION:Main hall
END:VEVENT
BEGIN:VEVENT
DTSTART;TZID=Europe/London:20231020T160000
DTEND;TZID=Europe/London:20231020T173000
DTSTAMP:20260422T000232
CREATED:20230914T183008Z
LAST-MODIFIED:20230914T183008Z
UID:5942-1697817600-1697823000@sibfordvillagehall.org.uk
SUMMARY:Beavers\, Cubs and Scouts
DESCRIPTION:
URL:https://sibfordvillagehall.org.uk/event/private-event-18-3/
LOCATION:Main hall
END:VEVENT
BEGIN:VEVENT
DTSTART;TZID=Europe/London:20231020T173000
DTEND;TZID=Europe/London:20231020T190000
DTSTAMP:20260422T000232
CREATED:20231003T183012Z
LAST-MODIFIED:20231003T183012Z
UID:6078-1697823000-1697828400@sibfordvillagehall.org.uk
SUMMARY:Beavers\, Cubs and Scouts
DESCRIPTION:
URL:https://sibfordvillagehall.org.uk/event/private-event-14-4/
LOCATION:Main hall
END:VEVENT
BEGIN:VEVENT
DTSTART;TZID=Europe/London:20231021T090000
DTEND;TZID=Europe/London:20231021T100000
DTSTAMP:20260422T000232
CREATED:20231011T183006Z
LAST-MODIFIED:20231011T183006Z
UID:6119-1697878800-1697882400@sibfordvillagehall.org.uk
SUMMARY:Karate Class
DESCRIPTION:
URL:https://sibfordvillagehall.org.uk/event/karate-class-8/
LOCATION:Main hall
END:VEVENT
BEGIN:VEVENT
DTSTART;TZID=Europe/London:20231021T100000
DTEND;TZID=Europe/London:20231021T120000
DTSTAMP:20260422T000232
CREATED:20231020T183006Z
LAST-MODIFIED:20231020T183006Z
UID:6149-1697882400-1697889600@sibfordvillagehall.org.uk
SUMMARY:Book Swap and Café
DESCRIPTION:Welcome to our monthly chance to have coffee/cake and a chat. Browse our large selection of books and borrow any you like . \nNo need to bring a book to swap. \nNo charge. Donations welcome.
URL:https://sibfordvillagehall.org.uk/event/book-swap-and-cafe-3/
LOCATION:Small hall
END:VEVENT
BEGIN:VEVENT
DTSTART;TZID=Europe/London:20231023T103000
DTEND;TZID=Europe/London:20231023T123000
DTSTAMP:20260422T000232
CREATED:20230924T183015Z
LAST-MODIFIED:20230924T183015Z
UID:6020-1698057000-1698064200@sibfordvillagehall.org.uk
SUMMARY:Private event
DESCRIPTION:
URL:https://sibfordvillagehall.org.uk/event/private-event-16-2/
LOCATION:Main hall
END:VEVENT
BEGIN:VEVENT
DTSTART;TZID=Europe/London:20231023T183000
DTEND;TZID=Europe/London:20231023T193000
DTSTAMP:20260422T000232
CREATED:20230822T183014Z
LAST-MODIFIED:20230822T183014Z
UID:5867-1698085800-1698089400@sibfordvillagehall.org.uk
SUMMARY:Karate Class
DESCRIPTION:
URL:https://sibfordvillagehall.org.uk/event/karate-class-2-9/
LOCATION:Main hall
END:VEVENT
BEGIN:VEVENT
DTSTART;TZID=Europe/London:20231023T193000
DTEND;TZID=Europe/London:20231023T213000
DTSTAMP:20260422T000232
CREATED:20230913T183009Z
LAST-MODIFIED:20230913T183009Z
UID:5921-1698089400-1698096600@sibfordvillagehall.org.uk
SUMMARY:Sibford Players
DESCRIPTION:
URL:https://sibfordvillagehall.org.uk/event/sibford-players-37-6/
LOCATION:Main hall
END:VEVENT
BEGIN:VEVENT
DTSTART;TZID=Europe/London:20231025T100000
DTEND;TZID=Europe/London:20231025T150000
DTSTAMP:20260422T000232
CREATED:20231012T183008Z
LAST-MODIFIED:20231012T183008Z
UID:6136-1698228000-1698246000@sibfordvillagehall.org.uk
SUMMARY:Private event
DESCRIPTION:
URL:https://sibfordvillagehall.org.uk/event/private-event-27/
LOCATION:Small hall
END:VEVENT
BEGIN:VEVENT
DTSTART;TZID=Europe/London:20231025T120000
DTEND;TZID=Europe/London:20231025T143000
DTSTAMP:20260422T000232
CREATED:20230723T183009Z
LAST-MODIFIED:20230723T183009Z
UID:5616-1698235200-1698244200@sibfordvillagehall.org.uk
SUMMARY:Sibford Lunch Club
DESCRIPTION:
URL:https://sibfordvillagehall.org.uk/event/sibford-lunch-club-10-42/
LOCATION:Main hall
END:VEVENT
BEGIN:VEVENT
DTSTART;TZID=Europe/London:20231025T190000
DTEND;TZID=Europe/London:20231025T210000
DTSTAMP:20260422T000232
CREATED:20230727T183008Z
LAST-MODIFIED:20230727T183008Z
UID:5644-1698260400-1698267600@sibfordvillagehall.org.uk
SUMMARY:Bridge Classes
DESCRIPTION:
URL:https://sibfordvillagehall.org.uk/event/bridge-classes-2-4/
LOCATION:Main hall
END:VEVENT
BEGIN:VEVENT
DTSTART;TZID=Europe/London:20231026T193000
DTEND;TZID=Europe/London:20231026T210000
DTSTAMP:20260422T000232
CREATED:20230930T183006Z
LAST-MODIFIED:20230930T183006Z
UID:6069-1698348600-1698354000@sibfordvillagehall.org.uk
SUMMARY:Film Night
DESCRIPTION:In a secluded village in the Italian Alps\, an unlikely brotherhood forms between two young boys: Pietro\, a boy from the city\, and Bruno\, who has only ever known life in the mountains. Over the years Bruno remains faithful to his home while Pietro aspires to greater heights\, but as decades pass and lives unfold\, their paths ultimately lead them back to where they first met – and back to each other. Set against a truly magnificent Italian landscape\, The Eight Mountains is a profoundly moving portrait of a lifelong friendship. \nItalian with English subtitles \nDoors open at 7. Film starts at 7.30. Refreshments available. Admission £3.
URL:https://sibfordvillagehall.org.uk/event/film-night-12/
LOCATION:Main hall
END:VEVENT
BEGIN:VEVENT
DTSTART;TZID=Europe/London:20231027T093000
DTEND;TZID=Europe/London:20231027T123000
DTSTAMP:20260422T000233
CREATED:20231012T183008Z
LAST-MODIFIED:20231012T183008Z
UID:6137-1698399000-1698409800@sibfordvillagehall.org.uk
SUMMARY:Art Class / Oil painting
DESCRIPTION:
URL:https://sibfordvillagehall.org.uk/event/art-class-oil-painti-2-4/
LOCATION:Main hall
END:VEVENT
BEGIN:VEVENT
DTSTART;TZID=Europe/London:20231028T090000
DTEND;TZID=Europe/London:20231028T100000
DTSTAMP:20260422T000233
CREATED:20231011T183007Z
LAST-MODIFIED:20231011T183007Z
UID:6120-1698483600-1698487200@sibfordvillagehall.org.uk
SUMMARY:Karate Class
DESCRIPTION:
URL:https://sibfordvillagehall.org.uk/event/karate-class-9/
LOCATION:Main hall
END:VEVENT
BEGIN:VEVENT
DTSTART;TZID=Europe/London:20231028T190000
DTEND;TZID=Europe/London:20231028T223000
DTSTAMP:20260422T000233
CREATED:20230726T183013Z
LAST-MODIFIED:20230726T183013Z
UID:5630-1698519600-1698532200@sibfordvillagehall.org.uk
SUMMARY:Sibford Farming Club Supper
DESCRIPTION:
URL:https://sibfordvillagehall.org.uk/event/sibford-farming-club-supper/
LOCATION:Main hall
END:VEVENT
BEGIN:VEVENT
DTSTART;TZID=Europe/London:20231030T183000
DTEND;TZID=Europe/London:20231030T193000
DTSTAMP:20260422T000233
CREATED:20230822T183014Z
LAST-MODIFIED:20230822T183014Z
UID:5869-1698690600-1698694200@sibfordvillagehall.org.uk
SUMMARY:Karate Class
DESCRIPTION:
URL:https://sibfordvillagehall.org.uk/event/karate-class-2-10/
LOCATION:Main hall
END:VEVENT
BEGIN:VEVENT
DTSTART;TZID=Europe/London:20231030T193000
DTEND;TZID=Europe/London:20231030T213000
DTSTAMP:20260422T000233
CREATED:20230913T183010Z
LAST-MODIFIED:20230913T183010Z
UID:5922-1698694200-1698701400@sibfordvillagehall.org.uk
SUMMARY:Sibford Players
DESCRIPTION:
URL:https://sibfordvillagehall.org.uk/event/sibford-players-37-7/
LOCATION:Main hall
END:VEVENT
BEGIN:VEVENT
DTSTART;TZID=Europe/London:20231031T120000
DTEND;TZID=Europe/London:20231031T160000
DTSTAMP:20260422T000233
CREATED:20230922T183006Z
LAST-MODIFIED:20230922T183006Z
UID:6010-1698753600-1698768000@sibfordvillagehall.org.uk
SUMMARY:Private event
DESCRIPTION:
URL:https://sibfordvillagehall.org.uk/event/private-event-23/
LOCATION:Main hall
END:VEVENT
BEGIN:VEVENT
DTSTART;TZID=Europe/London:20231031T193000
DTEND;TZID=Europe/London:20231031T213000
DTSTAMP:20260422T000233
CREATED:20231023T183007Z
LAST-MODIFIED:20231023T183007Z
UID:6153-1698780600-1698787800@sibfordvillagehall.org.uk
SUMMARY:Sibford Photography Club
DESCRIPTION:
URL:https://sibfordvillagehall.org.uk/event/sibford-photography-club-24-3/
LOCATION:Small hall
END:VEVENT
BEGIN:VEVENT
DTSTART;TZID=Europe/London:20231101T120000
DTEND;TZID=Europe/London:20231101T143000
DTSTAMP:20260422T000233
CREATED:20230723T183010Z
LAST-MODIFIED:20230723T183010Z
UID:5617-1698840000-1698849000@sibfordvillagehall.org.uk
SUMMARY:Sibford Lunch Club
DESCRIPTION:
URL:https://sibfordvillagehall.org.uk/event/sibford-lunch-club-10-43/
LOCATION:Main hall
END:VEVENT
BEGIN:VEVENT
DTSTART;TZID=Europe/London:20231101T173000
DTEND;TZID=Europe/London:20231101T183000
DTSTAMP:20260422T000233
CREATED:20231023T183007Z
LAST-MODIFIED:20231023T183007Z
UID:6154-1698859800-1698863400@sibfordvillagehall.org.uk
SUMMARY:Sibford young perform..
DESCRIPTION:
URL:https://sibfordvillagehall.org.uk/event/sibford-young-perform/
LOCATION:Main hall
END:VEVENT
BEGIN:VEVENT
DTSTART;TZID=Europe/London:20231101T190000
DTEND;TZID=Europe/London:20231101T210000
DTSTAMP:20260422T000233
CREATED:20230727T183008Z
LAST-MODIFIED:20230727T183008Z
UID:5645-1698865200-1698872400@sibfordvillagehall.org.uk
SUMMARY:Bridge Classes
DESCRIPTION:
URL:https://sibfordvillagehall.org.uk/event/bridge-classes-2-5/
LOCATION:Main hall
END:VEVENT
BEGIN:VEVENT
DTSTART;TZID=Europe/London:20231102T090000
DTEND;TZID=Europe/London:20231102T110000
DTSTAMP:20260422T000233
CREATED:20231030T183008Z
LAST-MODIFIED:20231030T183008Z
UID:6210-1698915600-1698922800@sibfordvillagehall.org.uk
SUMMARY:Yoga
DESCRIPTION:
URL:https://sibfordvillagehall.org.uk/event/private-event-29/
LOCATION:Main hall
END:VEVENT
BEGIN:VEVENT
DTSTART;TZID=Europe/London:20231103T093000
DTEND;TZID=Europe/London:20231103T123000
DTSTAMP:20260422T000233
CREATED:20231012T183008Z
LAST-MODIFIED:20231012T183008Z
UID:6138-1699003800-1699014600@sibfordvillagehall.org.uk
SUMMARY:Art Class / Oil painting
DESCRIPTION:
URL:https://sibfordvillagehall.org.uk/event/art-class-oil-painti-2-5/
LOCATION:Main hall
END:VEVENT
BEGIN:VEVENT
DTSTART;TZID=Europe/London:20231103T160000
DTEND;TZID=Europe/London:20231103T173000
DTSTAMP:20260422T000233
CREATED:20231025T183013Z
LAST-MODIFIED:20231025T183013Z
UID:6174-1699027200-1699032600@sibfordvillagehall.org.uk
SUMMARY:Beavers\, Cubs and Scouts
DESCRIPTION:
URL:https://sibfordvillagehall.org.uk/event/private-event-18-4/
LOCATION:Main hall
END:VEVENT
BEGIN:VEVENT
DTSTART;TZID=Europe/London:20231103T173000
DTEND;TZID=Europe/London:20231103T190000
DTSTAMP:20260422T000233
CREATED:20231025T183013Z
LAST-MODIFIED:20231025T183013Z
UID:6175-1699032600-1699038000@sibfordvillagehall.org.uk
SUMMARY:Beavers\, Cubs and Scouts
DESCRIPTION:
URL:https://sibfordvillagehall.org.uk/event/private-event-14-5/
LOCATION:Main hall
END:VEVENT
END:VCALENDAR