BEGIN:VCALENDAR
VERSION:2.0
PRODID:-//Sibford Village Hall - ECPv6.15.20//NONSGML v1.0//EN
CALSCALE:GREGORIAN
METHOD:PUBLISH
X-ORIGINAL-URL:https://sibfordvillagehall.org.uk
X-WR-CALDESC:Events for Sibford Village Hall
REFRESH-INTERVAL;VALUE=DURATION:PT1H
X-Robots-Tag:noindex
X-PUBLISHED-TTL:PT1H
BEGIN:VTIMEZONE
TZID:Europe/London
BEGIN:DAYLIGHT
TZOFFSETFROM:+0000
TZOFFSETTO:+0100
TZNAME:BST
DTSTART:20230326T010000
END:DAYLIGHT
BEGIN:STANDARD
TZOFFSETFROM:+0100
TZOFFSETTO:+0000
TZNAME:GMT
DTSTART:20231029T010000
END:STANDARD
BEGIN:DAYLIGHT
TZOFFSETFROM:+0000
TZOFFSETTO:+0100
TZNAME:BST
DTSTART:20240331T010000
END:DAYLIGHT
BEGIN:STANDARD
TZOFFSETFROM:+0100
TZOFFSETTO:+0000
TZNAME:GMT
DTSTART:20241027T010000
END:STANDARD
BEGIN:DAYLIGHT
TZOFFSETFROM:+0000
TZOFFSETTO:+0100
TZNAME:BST
DTSTART:20250330T010000
END:DAYLIGHT
BEGIN:STANDARD
TZOFFSETFROM:+0100
TZOFFSETTO:+0000
TZNAME:GMT
DTSTART:20251026T010000
END:STANDARD
END:VTIMEZONE
BEGIN:VEVENT
DTSTART;TZID=Europe/London:20241107T193000
DTEND;TZID=Europe/London:20241107T213000
DTSTAMP:20260423T000126
CREATED:20241104T183012Z
LAST-MODIFIED:20241104T183012Z
UID:7942-1731007800-1731015000@sibfordvillagehall.org.uk
SUMMARY:Sibford  Players Drama Group
DESCRIPTION:
URL:https://sibfordvillagehall.org.uk/event/sibford-players-drama-group-5/
LOCATION:Main hall
END:VEVENT
BEGIN:VEVENT
DTSTART;TZID=Europe/London:20241108T093000
DTEND;TZID=Europe/London:20241108T113000
DTSTAMP:20260423T000126
CREATED:20241103T183005Z
LAST-MODIFIED:20241103T183005Z
UID:7935-1731058200-1731065400@sibfordvillagehall.org.uk
SUMMARY:Tots and babes
DESCRIPTION:
URL:https://sibfordvillagehall.org.uk/event/tots-and-babes-7-2/
LOCATION:Small hall
END:VEVENT
BEGIN:VEVENT
DTSTART;TZID=Europe/London:20241108T160000
DTEND;TZID=Europe/London:20241108T173000
DTSTAMP:20260423T000126
CREATED:20241102T183008Z
LAST-MODIFIED:20241102T183008Z
UID:7923-1731081600-1731087000@sibfordvillagehall.org.uk
SUMMARY:Beavers\, Cubs and Scouts
DESCRIPTION:
URL:https://sibfordvillagehall.org.uk/event/pe-16/
LOCATION:Main hall
END:VEVENT
BEGIN:VEVENT
DTSTART;TZID=Europe/London:20241108T173000
DTEND;TZID=Europe/London:20241108T190000
DTSTAMP:20260423T000126
CREATED:20241105T183005Z
LAST-MODIFIED:20241105T183005Z
UID:7953-1731087000-1731092400@sibfordvillagehall.org.uk
SUMMARY:Cubs and Scouts
DESCRIPTION:
URL:https://sibfordvillagehall.org.uk/event/pe-18/
LOCATION:Main hall
END:VEVENT
BEGIN:VEVENT
DTSTART;TZID=Europe/London:20241109T090000
DTEND;TZID=Europe/London:20241109T100000
DTSTAMP:20260423T000126
CREATED:20241102T183009Z
LAST-MODIFIED:20241102T183009Z
UID:7924-1731142800-1731146400@sibfordvillagehall.org.uk
SUMMARY:Private event
DESCRIPTION:
URL:https://sibfordvillagehall.org.uk/event/pe-14-2/
LOCATION:Main hall
END:VEVENT
BEGIN:VEVENT
DTSTART;TZID=Europe/London:20241109T123000
DTEND;TZID=Europe/London:20241109T170000
DTSTAMP:20260423T000126
CREATED:20240910T183006Z
LAST-MODIFIED:20240910T183006Z
UID:7687-1731155400-1731171600@sibfordvillagehall.org.uk
SUMMARY:Private event
DESCRIPTION:
URL:https://sibfordvillagehall.org.uk/event/private-event-166/
LOCATION:Main hall
END:VEVENT
BEGIN:VEVENT
DTSTART;TZID=Europe/London:20241111T100000
DTEND;TZID=Europe/London:20241111T110000
DTSTAMP:20260423T000126
CREATED:20241105T183005Z
LAST-MODIFIED:20241105T183005Z
UID:7954-1731319200-1731322800@sibfordvillagehall.org.uk
SUMMARY:Yoga
DESCRIPTION:
URL:https://sibfordvillagehall.org.uk/event/pe-19/
LOCATION:Main hall
END:VEVENT
BEGIN:VEVENT
DTSTART;TZID=Europe/London:20241111T183000
DTEND;TZID=Europe/London:20241111T193000
DTSTAMP:20260423T000126
CREATED:20241102T183009Z
LAST-MODIFIED:20241102T183009Z
UID:7925-1731349800-1731353400@sibfordvillagehall.org.uk
SUMMARY:Private event
DESCRIPTION:
URL:https://sibfordvillagehall.org.uk/event/pe-15-2/
LOCATION:Main hall
END:VEVENT
BEGIN:VEVENT
DTSTART;TZID=Europe/London:20241111T193000
DTEND;TZID=Europe/London:20241111T210000
DTSTAMP:20260423T000126
CREATED:20240714T183004Z
LAST-MODIFIED:20240714T183004Z
UID:7529-1731353400-1731358800@sibfordvillagehall.org.uk
SUMMARY:Private event
DESCRIPTION:
URL:https://sibfordvillagehall.org.uk/event/private-event-145-9/
LOCATION:Main hall
END:VEVENT
BEGIN:VEVENT
DTSTART;TZID=Europe/London:20241112T183000
DTEND;TZID=Europe/London:20241112T203000
DTSTAMP:20260423T000126
CREATED:20241005T183008Z
LAST-MODIFIED:20241005T183008Z
UID:7831-1731436200-1731443400@sibfordvillagehall.org.uk
SUMMARY:CPR Training
DESCRIPTION:John Wass writes: It really is essential that we all know how to do CPR. If somebody drops down next to you\, you really need to know how to keep the heart going. \nWe have arranged a further session in the Village Hall on Tuesday the 12th of November. I  would encourage you to be able to manage this stressful situation which happily doesn’t happen too often but there is only ever one time to have a go.
URL:https://sibfordvillagehall.org.uk/event/cpr-training-for-the/
LOCATION:Main hall
END:VEVENT
BEGIN:VEVENT
DTSTART;TZID=Europe/London:20241112T190000
DTEND;TZID=Europe/London:20241112T210000
DTSTAMP:20260423T000126
CREATED:20241029T183010Z
LAST-MODIFIED:20241029T183010Z
UID:7900-1731438000-1731445200@sibfordvillagehall.org.uk
SUMMARY:Bridge club
DESCRIPTION:A friendly group\, playing bridge to the best of their ability\, and with new bridge players welcome. \nThere is a charge of £2 a session to cover the cost of the hall. \nFor more information contact Joan Broady on 07850 483 462\, preferably with a text message.
URL:https://sibfordvillagehall.org.uk/event/bridge-club-6-weeks-6/
LOCATION:Small hall
END:VEVENT
BEGIN:VEVENT
DTSTART;TZID=Europe/London:20241113T130000
DTEND;TZID=Europe/London:20241113T130000
DTSTAMP:20260423T000126
CREATED:20240131T183027Z
LAST-MODIFIED:20240131T183027Z
UID:6808-1731502800-1731502800@sibfordvillagehall.org.uk
SUMMARY:Sibford Lunch Club
DESCRIPTION:
URL:https://sibfordvillagehall.org.uk/event/sibford-lunch-club-13-45/
LOCATION:Main hall
END:VEVENT
BEGIN:VEVENT
DTSTART;TZID=Europe/London:20241113T190000
DTEND;TZID=Europe/London:20241113T210000
DTSTAMP:20260423T000126
CREATED:20240222T183010Z
LAST-MODIFIED:20240222T183010Z
UID:6984-1731524400-1731531600@sibfordvillagehall.org.uk
SUMMARY:Horti meeting – Plants for Shade and Woodland
DESCRIPTION:Most gardens have somewhere that the sun does not shine for some\, or all\, of the day.  This talk looks at which plants can be grown in the five different types of shade in a variety of different soils such as dry or damp.  All the plants are suitable for a small to tiny garden.  It also looks at the woodlands around the world that have given us so many good garden plants.
URL:https://sibfordvillagehall.org.uk/event/sibford-horticultural-2/
LOCATION:Main hall
END:VEVENT
BEGIN:VEVENT
DTSTART;TZID=Europe/London:20241114T090000
DTEND;TZID=Europe/London:20241114T110000
DTSTAMP:20260423T000126
CREATED:20241105T183006Z
LAST-MODIFIED:20241105T183006Z
UID:7955-1731574800-1731582000@sibfordvillagehall.org.uk
SUMMARY:Yoga
DESCRIPTION:
URL:https://sibfordvillagehall.org.uk/event/pe-17-2/
LOCATION:Main hall
END:VEVENT
BEGIN:VEVENT
DTSTART;TZID=Europe/London:20241114T143000
DTEND;TZID=Europe/London:20241114T163000
DTSTAMP:20260423T000126
CREATED:20241021T183107Z
LAST-MODIFIED:20241021T183107Z
UID:7864-1731594600-1731601800@sibfordvillagehall.org.uk
SUMMARY:Warm Hub
DESCRIPTION:Free to attend as kindly sponsored by the Town Estate Charity \nRefreshments available as well as games\, crafts\, books\, puzzles. \nCome and socialise and keep warm in the small hall. \nContact Ginny on 01295 780 373 or ginnybennett@googlemail.com for more information. \nAll welcome!
URL:https://sibfordvillagehall.org.uk/event/warm-hub-2024-5-2/
LOCATION:Small hall
END:VEVENT
BEGIN:VEVENT
DTSTART;TZID=Europe/London:20241114T193000
DTEND;TZID=Europe/London:20241114T213000
DTSTAMP:20260423T000126
CREATED:20241104T183013Z
LAST-MODIFIED:20241104T183013Z
UID:7943-1731612600-1731619800@sibfordvillagehall.org.uk
SUMMARY:Sibford  Players Drama Group
DESCRIPTION:
URL:https://sibfordvillagehall.org.uk/event/sibford-players-drama-group-6/
LOCATION:Main hall
END:VEVENT
BEGIN:VEVENT
DTSTART;TZID=Europe/London:20241115T093000
DTEND;TZID=Europe/London:20241115T113000
DTSTAMP:20260423T000126
CREATED:20241103T183006Z
LAST-MODIFIED:20241103T183006Z
UID:7936-1731663000-1731670200@sibfordvillagehall.org.uk
SUMMARY:Tots and babes
DESCRIPTION:
URL:https://sibfordvillagehall.org.uk/event/tots-and-babes-7-3/
LOCATION:Small hall
END:VEVENT
BEGIN:VEVENT
DTSTART;TZID=Europe/London:20241115T093000
DTEND;TZID=Europe/London:20241115T123000
DTSTAMP:20260423T000126
CREATED:20241107T183018Z
LAST-MODIFIED:20241107T183018Z
UID:7971-1731663000-1731673800@sibfordvillagehall.org.uk
SUMMARY:Art Class
DESCRIPTION:For more information contact Nigel Fletcher nvfletcher@btinternet.com\, 07792 657 248 or visit www.nigelfletcher.co.uk
URL:https://sibfordvillagehall.org.uk/event/art-class-4-22/
LOCATION:Main hall
END:VEVENT
BEGIN:VEVENT
DTSTART;TZID=Europe/London:20241115T170000
DTEND;TZID=Europe/London:20241115T190000
DTSTAMP:20260423T000126
CREATED:20241105T183006Z
LAST-MODIFIED:20241105T183006Z
UID:7956-1731690000-1731697200@sibfordvillagehall.org.uk
SUMMARY:Cubs and Scouts
DESCRIPTION:
URL:https://sibfordvillagehall.org.uk/event/pe-20/
LOCATION:Main hall
END:VEVENT
BEGIN:VEVENT
DTSTART;TZID=Europe/London:20241116T090000
DTEND;TZID=Europe/London:20241116T100000
DTSTAMP:20260423T000126
CREATED:20241102T183010Z
LAST-MODIFIED:20241102T183010Z
UID:7926-1731747600-1731751200@sibfordvillagehall.org.uk
SUMMARY:Private event
DESCRIPTION:
URL:https://sibfordvillagehall.org.uk/event/pe-14-3/
LOCATION:Main hall
END:VEVENT
BEGIN:VEVENT
DTSTART;TZID=Europe/London:20241116T190000
DTEND;TZID=Europe/London:20241116T190000
DTSTAMP:20260423T000126
CREATED:20241026T183009Z
LAST-MODIFIED:20241026T183009Z
UID:7888-1731783600-1731783600@sibfordvillagehall.org.uk
SUMMARY:Sibford Players Fund Raising Quiz Night
DESCRIPTION:Get your team together now and be ready to test your knowledge against the villages legendary Quizmaster\, the one and only Simon Chard. \n\nDoors open at 6.30pm\, quiz starts at 7pm.\nTeams of up to 6 are welcome to enter. \nEntry is £10 per head\, to include a meal (jacket potatoes with choice of toppings\, dessert and table snacks – vegetarian\, vegan and gluten free catered). Bring your own drinks.\nEntries are in advance only.  Team representatives should email/text/WhatsApp their team name and number of people in advance to Jo at joanneconnor@rocketmail.com  or text 07970 483 917. \n\nProceeds go towards Sibford Players next production\, 6-8 February 2025. Tickets on sale shortly.
URL:https://sibfordvillagehall.org.uk/event/sibford-players-fund/
LOCATION:Main hall
END:VEVENT
BEGIN:VEVENT
DTSTART;TZID=Europe/London:20241118T100000
DTEND;TZID=Europe/London:20241118T110000
DTSTAMP:20260423T000126
CREATED:20241105T183006Z
LAST-MODIFIED:20241105T183006Z
UID:7957-1731924000-1731927600@sibfordvillagehall.org.uk
SUMMARY:Yoga
DESCRIPTION:
URL:https://sibfordvillagehall.org.uk/event/pe-19-2/
LOCATION:Main hall
END:VEVENT
BEGIN:VEVENT
DTSTART;TZID=Europe/London:20241118T183000
DTEND;TZID=Europe/London:20241118T193000
DTSTAMP:20260423T000126
CREATED:20241102T183011Z
LAST-MODIFIED:20241102T183011Z
UID:7927-1731954600-1731958200@sibfordvillagehall.org.uk
SUMMARY:Private event
DESCRIPTION:
URL:https://sibfordvillagehall.org.uk/event/pe-15-3/
LOCATION:Main hall
END:VEVENT
BEGIN:VEVENT
DTSTART;TZID=Europe/London:20241118T193000
DTEND;TZID=Europe/London:20241118T210000
DTSTAMP:20260423T000126
CREATED:20240714T183004Z
LAST-MODIFIED:20240714T183004Z
UID:7530-1731958200-1731963600@sibfordvillagehall.org.uk
SUMMARY:Private event
DESCRIPTION:
URL:https://sibfordvillagehall.org.uk/event/private-event-145-10/
LOCATION:Main hall
END:VEVENT
BEGIN:VEVENT
DTSTART;TZID=Europe/London:20241119T190000
DTEND;TZID=Europe/London:20241119T210000
DTSTAMP:20260423T000126
CREATED:20241029T183011Z
LAST-MODIFIED:20241029T183011Z
UID:7901-1732042800-1732050000@sibfordvillagehall.org.uk
SUMMARY:Bridge club
DESCRIPTION:A friendly group\, playing bridge to the best of their ability\, and with new bridge players welcome. \nThere is a charge of £2 a session to cover the cost of the hall. \nFor more information contact Joan Broady on 07850 483 462\, preferably with a text message.
URL:https://sibfordvillagehall.org.uk/event/bridge-club-6-weeks-7/
LOCATION:Small hall
END:VEVENT
BEGIN:VEVENT
DTSTART;TZID=Europe/London:20241120T130000
DTEND;TZID=Europe/London:20241120T130000
DTSTAMP:20260423T000126
CREATED:20240131T183027Z
LAST-MODIFIED:20240131T183027Z
UID:6809-1732107600-1732107600@sibfordvillagehall.org.uk
SUMMARY:Sibford Lunch Club
DESCRIPTION:
URL:https://sibfordvillagehall.org.uk/event/sibford-lunch-club-13-46/
LOCATION:Main hall
END:VEVENT
BEGIN:VEVENT
DTSTART;TZID=Europe/London:20241120T183000
DTEND;TZID=Europe/London:20241120T210000
DTSTAMP:20260423T000126
CREATED:20241024T183010Z
LAST-MODIFIED:20241024T183010Z
UID:7886-1732127400-1732136400@sibfordvillagehall.org.uk
SUMMARY:Private event
DESCRIPTION:
URL:https://sibfordvillagehall.org.uk/event/pe-11/
LOCATION:Main hall
END:VEVENT
BEGIN:VEVENT
DTSTART;TZID=Europe/London:20241121T090000
DTEND;TZID=Europe/London:20241121T110000
DTSTAMP:20260423T000126
CREATED:20241105T183006Z
LAST-MODIFIED:20241105T183006Z
UID:7958-1732179600-1732186800@sibfordvillagehall.org.uk
SUMMARY:Yoga
DESCRIPTION:
URL:https://sibfordvillagehall.org.uk/event/pe-17-3/
LOCATION:Main hall
END:VEVENT
BEGIN:VEVENT
DTSTART;TZID=Europe/London:20241121T143000
DTEND;TZID=Europe/London:20241121T163000
DTSTAMP:20260423T000126
CREATED:20241021T183108Z
LAST-MODIFIED:20241021T183108Z
UID:7865-1732199400-1732206600@sibfordvillagehall.org.uk
SUMMARY:Warm Hub
DESCRIPTION:Free to attend as kindly sponsored by the Town Estate Charity \nRefreshments available as well as games\, crafts\, books\, puzzles. \nCome and socialise and keep warm in the small hall. \nContact Ginny on 01295 780 373 or ginnybennett@googlemail.com for more information. \nAll welcome!
URL:https://sibfordvillagehall.org.uk/event/warm-hub-2024-5-3/
LOCATION:Small hall
END:VEVENT
BEGIN:VEVENT
DTSTART;TZID=Europe/London:20241121T193000
DTEND;TZID=Europe/London:20241121T193000
DTSTAMP:20260423T000126
CREATED:20241120T183011Z
LAST-MODIFIED:20241120T183011Z
UID:7987-1732217400-1732217400@sibfordvillagehall.org.uk
SUMMARY:Sibfords History Society - The Launton Bellringers
DESCRIPTION:Doors open at 7pm for mulled wine and mince pies. \nMusic with a Christmassy flavour from 7.30pm by the Launton Handbell Ringers. \n Founded in 1951 by the late Frederick Sharpe\, the noted bell historian and campanologist\, the Launton Handbell Ringers were originally based in the village of Launton in Oxfordshire. The members now come from a wide area of Oxfordshire\, Buckinghamshire and Northamptonshire. They have given recitals on radio and television as well as in cathedrals\, churches\, civic centres\, theatres\, societies\, clubs and private functions. \nFree to paid-up members\, visitors £5.
URL:https://sibfordvillagehall.org.uk/event/sibfords-history-society-the-launton-bellringers/
LOCATION:Main hall
END:VEVENT
END:VCALENDAR