BEGIN:VCALENDAR
VERSION:2.0
PRODID:-//Sibford Village Hall - ECPv6.15.20//NONSGML v1.0//EN
CALSCALE:GREGORIAN
METHOD:PUBLISH
X-WR-CALNAME:Sibford Village Hall
X-ORIGINAL-URL:https://sibfordvillagehall.org.uk
X-WR-CALDESC:Events for Sibford Village Hall
REFRESH-INTERVAL;VALUE=DURATION:PT1H
X-Robots-Tag:noindex
X-PUBLISHED-TTL:PT1H
BEGIN:VTIMEZONE
TZID:Europe/London
BEGIN:DAYLIGHT
TZOFFSETFROM:+0000
TZOFFSETTO:+0100
TZNAME:BST
DTSTART:20220327T010000
END:DAYLIGHT
BEGIN:STANDARD
TZOFFSETFROM:+0100
TZOFFSETTO:+0000
TZNAME:GMT
DTSTART:20221030T010000
END:STANDARD
BEGIN:DAYLIGHT
TZOFFSETFROM:+0000
TZOFFSETTO:+0100
TZNAME:BST
DTSTART:20230326T010000
END:DAYLIGHT
BEGIN:STANDARD
TZOFFSETFROM:+0100
TZOFFSETTO:+0000
TZNAME:GMT
DTSTART:20231029T010000
END:STANDARD
BEGIN:DAYLIGHT
TZOFFSETFROM:+0000
TZOFFSETTO:+0100
TZNAME:BST
DTSTART:20240331T010000
END:DAYLIGHT
BEGIN:STANDARD
TZOFFSETFROM:+0100
TZOFFSETTO:+0000
TZNAME:GMT
DTSTART:20241027T010000
END:STANDARD
END:VTIMEZONE
BEGIN:VEVENT
DTSTART;TZID=Europe/London:20230217T093000
DTEND;TZID=Europe/London:20230217T123000
DTSTAMP:20260423T041630
CREATED:20230112T183113Z
LAST-MODIFIED:20230112T183113Z
UID:3963-1676626200-1676637000@sibfordvillagehall.org.uk
SUMMARY:Oil painting class
DESCRIPTION:
URL:https://sibfordvillagehall.org.uk/event/oil-painting-class-22-6/
LOCATION:Main hall
END:VEVENT
BEGIN:VEVENT
DTSTART;TZID=Europe/London:20230216T183000
DTEND;TZID=Europe/London:20230216T213000
DTSTAMP:20260423T041630
CREATED:20230211T183009Z
LAST-MODIFIED:20230211T183009Z
UID:4414-1676572200-1676583000@sibfordvillagehall.org.uk
SUMMARY:Sibfords History Society Social - with Tales from the Auction Room
DESCRIPTION:Steven B. Bruce\, Fine Art Auctioneer and Valuer\, will join us for our annual supper and social evening\, to regale us with a humorous look behind the scenes of his 50 years in the business and value a treasure that you may have brought along. \nIf you have a treasure to value\, please arrive early; doors will be open from 6.30pm for a free glass of mulled wine. Sit down for one of Miss T’s superb suppers at 7.15pm. Bring your own drinks for the meal; glasses will be provided. \nSHS Members £20\, Guests £23 \nTickets from: \n\nClive on 780 475\nDavid on 788 242\nemail shs@thesibfords.uk
URL:https://sibfordvillagehall.org.uk/event/sibfords-history-society-social/
LOCATION:Main hall
END:VEVENT
BEGIN:VEVENT
DTSTART;TZID=Europe/London:20230215T190000
DTEND;TZID=Europe/London:20230215T210000
DTSTAMP:20260423T041630
CREATED:20230207T183012Z
LAST-MODIFIED:20230207T183012Z
UID:4348-1676487600-1676494800@sibfordvillagehall.org.uk
SUMMARY:Bridge class
DESCRIPTION:
URL:https://sibfordvillagehall.org.uk/event/bridge-classes/
LOCATION:Main hall
END:VEVENT
BEGIN:VEVENT
DTSTART;TZID=Europe/London:20230215T120000
DTEND;TZID=Europe/London:20230215T143000
DTSTAMP:20260423T041630
CREATED:20221130T183029Z
LAST-MODIFIED:20221130T183029Z
UID:3604-1676462400-1676471400@sibfordvillagehall.org.uk
SUMMARY:Sibford Lunch Club
DESCRIPTION:
URL:https://sibfordvillagehall.org.uk/event/sibford-lunch-club-10-7/
LOCATION:Main hall
END:VEVENT
BEGIN:VEVENT
DTSTART;TZID=Europe/London:20230213T193000
DTEND;TZID=Europe/London:20230213T210000
DTSTAMP:20260423T041630
CREATED:20230129T183010Z
LAST-MODIFIED:20230129T183010Z
UID:4224-1676316600-1676322000@sibfordvillagehall.org.uk
SUMMARY:Sibford Players
DESCRIPTION:
URL:https://sibfordvillagehall.org.uk/event/sibford-players-30-3/
LOCATION:Small hall
END:VEVENT
BEGIN:VEVENT
DTSTART;TZID=Europe/London:20230213T183000
DTEND;TZID=Europe/London:20230213T193000
DTSTAMP:20260423T041630
CREATED:20230112T183113Z
LAST-MODIFIED:20230112T183113Z
UID:3962-1676313000-1676316600@sibfordvillagehall.org.uk
SUMMARY:Karate
DESCRIPTION:
URL:https://sibfordvillagehall.org.uk/event/karate-19-6/
LOCATION:Main hall
END:VEVENT
BEGIN:VEVENT
DTSTART;TZID=Europe/London:20230211T190000
DTEND;TZID=Europe/London:20230211T200000
DTSTAMP:20260423T041630
CREATED:20230210T183010Z
LAST-MODIFIED:20230210T183010Z
UID:4408-1676142000-1676145600@sibfordvillagehall.org.uk
SUMMARY:Dance in the Dark!
DESCRIPTION:7pm – 8pm \nDe -stress for an hour\, get fit and dance like nobody is watching\, all for free! \nDress – Sparkly\, Comfortable or both. \nEnquiries to Juliette juliette53@btinternet.com 
URL:https://sibfordvillagehall.org.uk/event/private-hire-90/
LOCATION:Main hall
END:VEVENT
BEGIN:VEVENT
DTSTART;TZID=Europe/London:20230211T090000
DTEND;TZID=Europe/London:20230211T100000
DTSTAMP:20260423T041630
CREATED:20230115T183013Z
LAST-MODIFIED:20230115T183013Z
UID:4072-1676106000-1676109600@sibfordvillagehall.org.uk
SUMMARY:Karate
DESCRIPTION:
URL:https://sibfordvillagehall.org.uk/event/karate-18-6/
LOCATION:Main hall
END:VEVENT
BEGIN:VEVENT
DTSTART;TZID=Europe/London:20230210T173000
DTEND;TZID=Europe/London:20230210T190000
DTSTAMP:20260423T041630
CREATED:20230112T183112Z
LAST-MODIFIED:20230112T183112Z
UID:3960-1676050200-1676055600@sibfordvillagehall.org.uk
SUMMARY:Scouts
DESCRIPTION:
URL:https://sibfordvillagehall.org.uk/event/scouts-25-3/
LOCATION:Small hall
END:VEVENT
BEGIN:VEVENT
DTSTART;TZID=Europe/London:20230210T160000
DTEND;TZID=Europe/London:20230210T173000
DTSTAMP:20260423T041630
CREATED:20230112T183112Z
LAST-MODIFIED:20230112T183112Z
UID:3959-1676044800-1676050200@sibfordvillagehall.org.uk
SUMMARY:Beavers
DESCRIPTION:
URL:https://sibfordvillagehall.org.uk/event/beavers-23-5/
LOCATION:Main hall
END:VEVENT
BEGIN:VEVENT
DTSTART;TZID=Europe/London:20230210T133000
DTEND;TZID=Europe/London:20230210T153000
DTSTAMP:20260423T041630
CREATED:20230112T183112Z
LAST-MODIFIED:20230112T183112Z
UID:3958-1676035800-1676043000@sibfordvillagehall.org.uk
SUMMARY:Watercolour painting class
DESCRIPTION:
URL:https://sibfordvillagehall.org.uk/event/watercolour-painting-class-3-6/
LOCATION:Main hall
END:VEVENT
BEGIN:VEVENT
DTSTART;TZID=Europe/London:20230210T093000
DTEND;TZID=Europe/London:20230210T123000
DTSTAMP:20260423T041630
CREATED:20230112T183112Z
LAST-MODIFIED:20230112T183112Z
UID:3957-1676021400-1676032200@sibfordvillagehall.org.uk
SUMMARY:Oil painting class
DESCRIPTION:
URL:https://sibfordvillagehall.org.uk/event/oil-painting-class-22-5/
LOCATION:Main hall
END:VEVENT
BEGIN:VEVENT
DTSTART;TZID=Europe/London:20230209T173000
DTEND;TZID=Europe/London:20230209T183000
DTSTAMP:20260423T041630
CREATED:20221130T183028Z
LAST-MODIFIED:20221130T183028Z
UID:3597-1675963800-1675967400@sibfordvillagehall.org.uk
SUMMARY:Sibford Young Performers
DESCRIPTION:
URL:https://sibfordvillagehall.org.uk/event/sibford-young-performers-7-5/
LOCATION:Main hall
END:VEVENT
BEGIN:VEVENT
DTSTART;TZID=Europe/London:20230209T101500
DTEND;TZID=Europe/London:20230209T111500
DTSTAMP:20260423T041630
CREATED:20230115T183013Z
LAST-MODIFIED:20230115T183013Z
UID:4071-1675937700-1675941300@sibfordvillagehall.org.uk
SUMMARY:Chair Yoga
DESCRIPTION:
URL:https://sibfordvillagehall.org.uk/event/chair-yoga-37-5/
LOCATION:Main hall
END:VEVENT
BEGIN:VEVENT
DTSTART;TZID=Europe/London:20230209T090000
DTEND;TZID=Europe/London:20230209T100000
DTSTAMP:20260423T041630
CREATED:20230115T183013Z
LAST-MODIFIED:20230115T183013Z
UID:4070-1675933200-1675936800@sibfordvillagehall.org.uk
SUMMARY:Flow Yoga
DESCRIPTION:
URL:https://sibfordvillagehall.org.uk/event/flow-yoga-6-5/
LOCATION:Main hall
END:VEVENT
BEGIN:VEVENT
DTSTART;TZID=Europe/London:20230208T180000
DTEND;TZID=Europe/London:20230208T220000
DTSTAMP:20260423T041630
CREATED:20230129T183010Z
LAST-MODIFIED:20230129T183010Z
UID:4223-1675879200-1675893600@sibfordvillagehall.org.uk
SUMMARY:Private hire HNVG
DESCRIPTION:
URL:https://sibfordvillagehall.org.uk/event/private-hire-82/
LOCATION:Main hall
END:VEVENT
BEGIN:VEVENT
DTSTART;TZID=Europe/London:20230208T120000
DTEND;TZID=Europe/London:20230208T143000
DTSTAMP:20260423T041630
CREATED:20221130T183028Z
LAST-MODIFIED:20221130T183028Z
UID:3595-1675857600-1675866600@sibfordvillagehall.org.uk
SUMMARY:Sibford Lunch Club
DESCRIPTION:
URL:https://sibfordvillagehall.org.uk/event/sibford-lunch-club-10-6/
LOCATION:Main hall
END:VEVENT
BEGIN:VEVENT
DTSTART;TZID=Europe/London:20230207T190000
DTEND;TZID=Europe/London:20230207T200000
DTSTAMP:20260423T041630
CREATED:20230205T183009Z
LAST-MODIFIED:20230205T183009Z
UID:4312-1675796400-1675800000@sibfordvillagehall.org.uk
SUMMARY:Yogalates
DESCRIPTION:
URL:https://sibfordvillagehall.org.uk/event/yogalates-4/
LOCATION:Main hall
END:VEVENT
BEGIN:VEVENT
DTSTART;TZID=Europe/London:20230207T140000
DTEND;TZID=Europe/London:20230207T160000
DTSTAMP:20260423T041630
CREATED:20221121T183018Z
LAST-MODIFIED:20221121T183018Z
UID:3431-1675778400-1675785600@sibfordvillagehall.org.uk
SUMMARY:Friendship Club
DESCRIPTION:
URL:https://sibfordvillagehall.org.uk/event/friendship-club-10/
LOCATION:Small hall
END:VEVENT
BEGIN:VEVENT
DTSTART;TZID=Europe/London:20230207T120000
DTEND;TZID=Europe/London:20230207T170000
DTSTAMP:20260423T041630
CREATED:20230207T183012Z
LAST-MODIFIED:20230207T183012Z
UID:4347-1675771200-1675789200@sibfordvillagehall.org.uk
SUMMARY:Model Railway Group
DESCRIPTION:
URL:https://sibfordvillagehall.org.uk/event/model-railway-group-4/
LOCATION:Main hall
END:VEVENT
BEGIN:VEVENT
DTSTART;TZID=Europe/London:20230207T090000
DTEND;TZID=Europe/London:20230207T100000
DTSTAMP:20260423T041630
CREATED:20230112T183111Z
LAST-MODIFIED:20230112T183111Z
UID:3953-1675760400-1675764000@sibfordvillagehall.org.uk
SUMMARY:Slow and gentle Yoga
DESCRIPTION:
URL:https://sibfordvillagehall.org.uk/event/slow-and-gentle-yoga-7-5/
LOCATION:Main hall
END:VEVENT
BEGIN:VEVENT
DTSTART;TZID=Europe/London:20230206T193000
DTEND;TZID=Europe/London:20230206T210000
DTSTAMP:20260423T041630
CREATED:20230129T183010Z
LAST-MODIFIED:20230129T183010Z
UID:4222-1675711800-1675717200@sibfordvillagehall.org.uk
SUMMARY:Sibford Players
DESCRIPTION:
URL:https://sibfordvillagehall.org.uk/event/sibford-players-30-2/
LOCATION:Small hall
END:VEVENT
BEGIN:VEVENT
DTSTART;TZID=Europe/London:20230206T183000
DTEND;TZID=Europe/London:20230206T193000
DTSTAMP:20260423T041630
CREATED:20230112T183110Z
LAST-MODIFIED:20230112T183110Z
UID:3952-1675708200-1675711800@sibfordvillagehall.org.uk
SUMMARY:Karate
DESCRIPTION:
URL:https://sibfordvillagehall.org.uk/event/karate-19-5/
LOCATION:Main hall
END:VEVENT
BEGIN:VEVENT
DTSTART;TZID=Europe/London:20230204T090000
DTEND;TZID=Europe/London:20230204T100000
DTSTAMP:20260423T041630
CREATED:20230115T183013Z
LAST-MODIFIED:20230115T183013Z
UID:4069-1675501200-1675504800@sibfordvillagehall.org.uk
SUMMARY:Karate
DESCRIPTION:
URL:https://sibfordvillagehall.org.uk/event/karate-18-5/
LOCATION:Main hall
END:VEVENT
BEGIN:VEVENT
DTSTART;TZID=Europe/London:20230203T173000
DTEND;TZID=Europe/London:20230203T190000
DTSTAMP:20260423T041630
CREATED:20230112T183110Z
LAST-MODIFIED:20230112T183110Z
UID:3950-1675445400-1675450800@sibfordvillagehall.org.uk
SUMMARY:Cubs
DESCRIPTION:
URL:https://sibfordvillagehall.org.uk/event/cubs-25-4/
LOCATION:Main hall
END:VEVENT
BEGIN:VEVENT
DTSTART;TZID=Europe/London:20230203T160000
DTEND;TZID=Europe/London:20230203T173000
DTSTAMP:20260423T041630
CREATED:20230112T183110Z
LAST-MODIFIED:20230112T183110Z
UID:3949-1675440000-1675445400@sibfordvillagehall.org.uk
SUMMARY:Beavers
DESCRIPTION:
URL:https://sibfordvillagehall.org.uk/event/beavers-23-4/
LOCATION:Main hall
END:VEVENT
BEGIN:VEVENT
DTSTART;TZID=Europe/London:20230203T133000
DTEND;TZID=Europe/London:20230203T153000
DTSTAMP:20260423T041630
CREATED:20230112T183109Z
LAST-MODIFIED:20230112T183109Z
UID:3948-1675431000-1675438200@sibfordvillagehall.org.uk
SUMMARY:Watercolour painting class
DESCRIPTION:
URL:https://sibfordvillagehall.org.uk/event/watercolour-painting-class-3-5/
LOCATION:Main hall
END:VEVENT
BEGIN:VEVENT
DTSTART;TZID=Europe/London:20230203T093000
DTEND;TZID=Europe/London:20230203T123000
DTSTAMP:20260423T041630
CREATED:20230112T183109Z
LAST-MODIFIED:20230112T183109Z
UID:3947-1675416600-1675427400@sibfordvillagehall.org.uk
SUMMARY:Oil painting class
DESCRIPTION:
URL:https://sibfordvillagehall.org.uk/event/oil-painting-class-22-4/
LOCATION:Main hall
END:VEVENT
BEGIN:VEVENT
DTSTART;TZID=Europe/London:20230203T093000
DTEND;TZID=Europe/London:20230203T113000
DTSTAMP:20260423T041630
CREATED:20230112T183109Z
LAST-MODIFIED:20230112T183109Z
UID:3946-1675416600-1675423800@sibfordvillagehall.org.uk
SUMMARY:Sibford Tots & Babes Group
DESCRIPTION:
URL:https://sibfordvillagehall.org.uk/event/sibford-tots-babes-group-5/
LOCATION:Small hall
END:VEVENT
BEGIN:VEVENT
DTSTART;TZID=Europe/London:20230202T173000
DTEND;TZID=Europe/London:20230202T183000
DTSTAMP:20260423T041630
CREATED:20221130T183026Z
LAST-MODIFIED:20221130T183026Z
UID:3588-1675359000-1675362600@sibfordvillagehall.org.uk
SUMMARY:Sibford Young Performers
DESCRIPTION:
URL:https://sibfordvillagehall.org.uk/event/sibford-young-performers-7-4/
LOCATION:Main hall
END:VEVENT
END:VCALENDAR