BEGIN:VCALENDAR
VERSION:2.0
PRODID:-//Sibford Village Hall - ECPv6.15.20//NONSGML v1.0//EN
CALSCALE:GREGORIAN
METHOD:PUBLISH
X-WR-CALNAME:Sibford Village Hall
X-ORIGINAL-URL:https://sibfordvillagehall.org.uk
X-WR-CALDESC:Events for Sibford Village Hall
REFRESH-INTERVAL;VALUE=DURATION:PT1H
X-Robots-Tag:noindex
X-PUBLISHED-TTL:PT1H
BEGIN:VTIMEZONE
TZID:Europe/London
BEGIN:DAYLIGHT
TZOFFSETFROM:+0000
TZOFFSETTO:+0100
TZNAME:BST
DTSTART:20220327T010000
END:DAYLIGHT
BEGIN:STANDARD
TZOFFSETFROM:+0100
TZOFFSETTO:+0000
TZNAME:GMT
DTSTART:20221030T010000
END:STANDARD
BEGIN:DAYLIGHT
TZOFFSETFROM:+0000
TZOFFSETTO:+0100
TZNAME:BST
DTSTART:20230326T010000
END:DAYLIGHT
BEGIN:STANDARD
TZOFFSETFROM:+0100
TZOFFSETTO:+0000
TZNAME:GMT
DTSTART:20231029T010000
END:STANDARD
BEGIN:DAYLIGHT
TZOFFSETFROM:+0000
TZOFFSETTO:+0100
TZNAME:BST
DTSTART:20240331T010000
END:DAYLIGHT
BEGIN:STANDARD
TZOFFSETFROM:+0100
TZOFFSETTO:+0000
TZNAME:GMT
DTSTART:20241027T010000
END:STANDARD
END:VTIMEZONE
BEGIN:VEVENT
DTSTART;TZID=Europe/London:20230427T173000
DTEND;TZID=Europe/London:20230427T183000
DTSTAMP:20260422T012757
CREATED:20230222T183015Z
LAST-MODIFIED:20230222T183015Z
UID:4566-1682616600-1682620200@sibfordvillagehall.org.uk
SUMMARY:Sibford Young Performers
DESCRIPTION:
URL:https://sibfordvillagehall.org.uk/event/sibford-young-perfomers-2/
LOCATION:Main hall
END:VEVENT
BEGIN:VEVENT
DTSTART;TZID=Europe/London:20230427T101500
DTEND;TZID=Europe/London:20230427T111500
DTSTAMP:20260422T012757
CREATED:20230115T183018Z
LAST-MODIFIED:20230115T183018Z
UID:4098-1682590500-1682594100@sibfordvillagehall.org.uk
SUMMARY:Chair Yoga
DESCRIPTION:
URL:https://sibfordvillagehall.org.uk/event/chair-yoga-37-13/
LOCATION:Main hall
END:VEVENT
BEGIN:VEVENT
DTSTART;TZID=Europe/London:20230427T090000
DTEND;TZID=Europe/London:20230427T100000
DTSTAMP:20260422T012757
CREATED:20230115T183018Z
LAST-MODIFIED:20230115T183018Z
UID:4097-1682586000-1682589600@sibfordvillagehall.org.uk
SUMMARY:Flow Yoga
DESCRIPTION:
URL:https://sibfordvillagehall.org.uk/event/flow-yoga-6-13/
LOCATION:Main hall
END:VEVENT
BEGIN:VEVENT
DTSTART;TZID=Europe/London:20230426T190000
DTEND;TZID=Europe/London:20230426T210000
DTSTAMP:20260422T012757
CREATED:20230403T183007Z
LAST-MODIFIED:20230403T183007Z
UID:5106-1682535600-1682542800@sibfordvillagehall.org.uk
SUMMARY:Bridge Class
DESCRIPTION:
URL:https://sibfordvillagehall.org.uk/event/bridge-class/
LOCATION:Main hall
END:VEVENT
BEGIN:VEVENT
DTSTART;TZID=Europe/London:20230426T120000
DTEND;TZID=Europe/London:20230426T143000
DTSTAMP:20260422T012757
CREATED:20230329T183019Z
LAST-MODIFIED:20230329T183019Z
UID:5023-1682510400-1682519400@sibfordvillagehall.org.uk
SUMMARY:Sibford Lunch Club
DESCRIPTION:
URL:https://sibfordvillagehall.org.uk/event/sibford-lunch-club-10-16/
LOCATION:Main hall
END:VEVENT
BEGIN:VEVENT
DTSTART;TZID=Europe/London:20230425T200000
DTEND;TZID=Europe/London:20230425T220000
DTSTAMP:20260422T012757
CREATED:20230417T183010Z
LAST-MODIFIED:20230417T183010Z
UID:5206-1682452800-1682460000@sibfordvillagehall.org.uk
SUMMARY:Charity Band Practice
DESCRIPTION:
URL:https://sibfordvillagehall.org.uk/event/charity-band-practice/
LOCATION:Main hall
END:VEVENT
BEGIN:VEVENT
DTSTART;TZID=Europe/London:20230425T193000
DTEND;TZID=Europe/London:20230425T213000
DTSTAMP:20260422T012757
CREATED:20230203T183009Z
LAST-MODIFIED:20230203T183009Z
UID:4299-1682451000-1682458200@sibfordvillagehall.org.uk
SUMMARY:Sibford Photography Club
DESCRIPTION:
URL:https://sibfordvillagehall.org.uk/event/sibford-photography-club-21/
LOCATION:Small hall
END:VEVENT
BEGIN:VEVENT
DTSTART;TZID=Europe/London:20230425T190000
DTEND;TZID=Europe/London:20230425T200000
DTSTAMP:20260422T012757
CREATED:20230329T183019Z
LAST-MODIFIED:20230329T183019Z
UID:5022-1682449200-1682452800@sibfordvillagehall.org.uk
SUMMARY:Yogalates
DESCRIPTION:
URL:https://sibfordvillagehall.org.uk/event/yogalates-12/
LOCATION:Main hall
END:VEVENT
BEGIN:VEVENT
DTSTART;TZID=Europe/London:20230425T090000
DTEND;TZID=Europe/London:20230425T100000
DTSTAMP:20260422T012757
CREATED:20230308T183020Z
LAST-MODIFIED:20230308T183020Z
UID:4753-1682413200-1682416800@sibfordvillagehall.org.uk
SUMMARY:Slow and gentle Yoga
DESCRIPTION:
URL:https://sibfordvillagehall.org.uk/event/slow-and-gentle-yoga-7-13/
LOCATION:Main hall
END:VEVENT
BEGIN:VEVENT
DTSTART;TZID=Europe/London:20230424T193000
DTEND;TZID=Europe/London:20230424T210000
DTSTAMP:20260422T012757
CREATED:20230325T183011Z
LAST-MODIFIED:20230325T183011Z
UID:4964-1682364600-1682370000@sibfordvillagehall.org.uk
SUMMARY:Band practice
DESCRIPTION:
URL:https://sibfordvillagehall.org.uk/event/band-practice-2/
LOCATION:Main hall
END:VEVENT
BEGIN:VEVENT
DTSTART;TZID=Europe/London:20230424T193000
DTEND;TZID=Europe/London:20230424T210000
DTSTAMP:20260422T012757
CREATED:20230315T183016Z
LAST-MODIFIED:20230315T183016Z
UID:4853-1682364600-1682370000@sibfordvillagehall.org.uk
SUMMARY:Sibford Players
DESCRIPTION:
URL:https://sibfordvillagehall.org.uk/event/sibford-players-30-11/
LOCATION:Small hall
END:VEVENT
BEGIN:VEVENT
DTSTART;TZID=Europe/London:20230424T183000
DTEND;TZID=Europe/London:20230424T193000
DTSTAMP:20260422T012757
CREATED:20230315T183016Z
LAST-MODIFIED:20230315T183016Z
UID:4852-1682361000-1682364600@sibfordvillagehall.org.uk
SUMMARY:Karate
DESCRIPTION:
URL:https://sibfordvillagehall.org.uk/event/karate-19-14/
LOCATION:Main hall
END:VEVENT
BEGIN:VEVENT
DTSTART;TZID=Europe/London:20230422T193000
DTEND;TZID=Europe/London:20230422T213000
DTSTAMP:20260422T012757
CREATED:20230408T183008Z
LAST-MODIFIED:20230408T183008Z
UID:5139-1682191800-1682199000@sibfordvillagehall.org.uk
SUMMARY:"Dance in the Dark" Village Hall event
DESCRIPTION:
URL:https://sibfordvillagehall.org.uk/event/dancing-in-the-dark-village-hall-event-2/
LOCATION:Main hall
END:VEVENT
BEGIN:VEVENT
DTSTART;TZID=Europe/London:20230422T090000
DTEND;TZID=Europe/London:20230422T100000
DTSTAMP:20260422T012757
CREATED:20230418T183009Z
LAST-MODIFIED:20230418T183009Z
UID:5212-1682154000-1682157600@sibfordvillagehall.org.uk
SUMMARY:Karate
DESCRIPTION:
URL:https://sibfordvillagehall.org.uk/event/karate-18-14/
LOCATION:Main hall
END:VEVENT
BEGIN:VEVENT
DTSTART;TZID=Europe/London:20230421T173000
DTEND;TZID=Europe/London:20230421T190000
DTSTAMP:20260422T012757
CREATED:20230416T183010Z
LAST-MODIFIED:20230416T183010Z
UID:5189-1682098200-1682103600@sibfordvillagehall.org.uk
SUMMARY:Cubs
DESCRIPTION:
URL:https://sibfordvillagehall.org.uk/event/cubs-26/
LOCATION:Main hall
END:VEVENT
BEGIN:VEVENT
DTSTART;TZID=Europe/London:20230421T170300
DTEND;TZID=Europe/London:20230421T190000
DTSTAMP:20260422T012757
CREATED:20230416T183010Z
LAST-MODIFIED:20230416T183010Z
UID:5188-1682096580-1682103600@sibfordvillagehall.org.uk
SUMMARY:Scouts
DESCRIPTION:
URL:https://sibfordvillagehall.org.uk/event/scouts-52/
LOCATION:Small hall
END:VEVENT
BEGIN:VEVENT
DTSTART;TZID=Europe/London:20230421T160000
DTEND;TZID=Europe/London:20230421T173000
DTSTAMP:20260422T012757
CREATED:20230416T183009Z
LAST-MODIFIED:20230416T183009Z
UID:5187-1682092800-1682098200@sibfordvillagehall.org.uk
SUMMARY:Beavers
DESCRIPTION:
URL:https://sibfordvillagehall.org.uk/event/beavers-24/
LOCATION:Main hall
END:VEVENT
BEGIN:VEVENT
DTSTART;TZID=Europe/London:20230421T093000
DTEND;TZID=Europe/London:20230421T123000
DTSTAMP:20260422T012757
CREATED:20230417T183010Z
LAST-MODIFIED:20230417T183010Z
UID:5205-1682069400-1682080200@sibfordvillagehall.org.uk
SUMMARY:Oil painting class
DESCRIPTION:
URL:https://sibfordvillagehall.org.uk/event/oil-painting-class-22-14/
LOCATION:Main hall
END:VEVENT
BEGIN:VEVENT
DTSTART;TZID=Europe/London:20230421T093000
DTEND;TZID=Europe/London:20230421T113000
DTSTAMP:20260422T012757
CREATED:20230205T183011Z
LAST-MODIFIED:20230205T183011Z
UID:4325-1682069400-1682076600@sibfordvillagehall.org.uk
SUMMARY:Sibford Tots & Babes Group
DESCRIPTION:
URL:https://sibfordvillagehall.org.uk/event/sibford-tots-babes-group-12/
LOCATION:Small hall
END:VEVENT
BEGIN:VEVENT
DTSTART;TZID=Europe/London:20230420T193000
DTEND;TZID=Europe/London:20230420T213000
DTSTAMP:20260422T012757
CREATED:20230409T183005Z
LAST-MODIFIED:20230409T183005Z
UID:5153-1682019000-1682026200@sibfordvillagehall.org.uk
SUMMARY:Sibfords History Society - Creative women in Oxfordshire and the Cotswolds
DESCRIPTION:Katherine Bradley will speak on the history of women involved in the Arts and Crafts Movement in Oxfordshire and the Cotswolds\, including Jane and May Morris (wife and daughter of William Morris). \nDoors open at 7.15 p.m. and the talk starts at 7.30 p.m. Free to members\, visitors £3. Refreshments follow the talk. \nPaintings of (left) Jane and (right) May Morris by Dante Gabriel Rossetti
URL:https://sibfordvillagehall.org.uk/event/sibford-history-society-3/
LOCATION:Main hall
END:VEVENT
BEGIN:VEVENT
DTSTART;TZID=Europe/London:20230420T173000
DTEND;TZID=Europe/London:20230420T183000
DTSTAMP:20260422T012757
CREATED:20230222T183015Z
LAST-MODIFIED:20230222T183015Z
UID:4564-1682011800-1682015400@sibfordvillagehall.org.uk
SUMMARY:Sibford Young Performers
DESCRIPTION:
URL:https://sibfordvillagehall.org.uk/event/sibford-young-perfomers/
LOCATION:Main hall
END:VEVENT
BEGIN:VEVENT
DTSTART;TZID=Europe/London:20230420T101500
DTEND;TZID=Europe/London:20230420T111500
DTSTAMP:20260422T012757
CREATED:20230115T183018Z
LAST-MODIFIED:20230115T183018Z
UID:4095-1681985700-1681989300@sibfordvillagehall.org.uk
SUMMARY:Chair Yoga
DESCRIPTION:
URL:https://sibfordvillagehall.org.uk/event/chair-yoga-37-12/
LOCATION:Main hall
END:VEVENT
BEGIN:VEVENT
DTSTART;TZID=Europe/London:20230420T090000
DTEND;TZID=Europe/London:20230420T100000
DTSTAMP:20260422T012757
CREATED:20230115T183018Z
LAST-MODIFIED:20230115T183018Z
UID:4094-1681981200-1681984800@sibfordvillagehall.org.uk
SUMMARY:Flow Yoga
DESCRIPTION:
URL:https://sibfordvillagehall.org.uk/event/flow-yoga-6-12/
LOCATION:Main hall
END:VEVENT
BEGIN:VEVENT
DTSTART;TZID=Europe/London:20230419T193000
DTEND;TZID=Europe/London:20230419T223000
DTSTAMP:20260422T012757
CREATED:20230406T183006Z
LAST-MODIFIED:20230406T183006Z
UID:5130-1681932600-1681943400@sibfordvillagehall.org.uk
SUMMARY:Town Estate Charity Trustees meeting
DESCRIPTION:
URL:https://sibfordvillagehall.org.uk/event/town-estate-charity-trustees-meeting-4/
LOCATION:Small hall
END:VEVENT
BEGIN:VEVENT
DTSTART;TZID=Europe/London:20230419T180000
DTEND;TZID=Europe/London:20230419T220000
DTSTAMP:20260422T012757
CREATED:20230324T183009Z
LAST-MODIFIED:20230324T183009Z
UID:4952-1681927200-1681941600@sibfordvillagehall.org.uk
SUMMARY:Private hire HNVG
DESCRIPTION:
URL:https://sibfordvillagehall.org.uk/event/private-hire-hnvg/
LOCATION:Main hall
END:VEVENT
BEGIN:VEVENT
DTSTART;TZID=Europe/London:20230419T120000
DTEND;TZID=Europe/London:20230419T143000
DTSTAMP:20260422T012757
CREATED:20230329T183019Z
LAST-MODIFIED:20230329T183019Z
UID:5020-1681905600-1681914600@sibfordvillagehall.org.uk
SUMMARY:Sibford Lunch Club
DESCRIPTION:
URL:https://sibfordvillagehall.org.uk/event/sibford-lunch-club-10-15/
LOCATION:Main hall
END:VEVENT
BEGIN:VEVENT
DTSTART;TZID=Europe/London:20230418T200000
DTEND;TZID=Europe/London:20230418T220000
DTSTAMP:20260422T012757
CREATED:20230325T183010Z
LAST-MODIFIED:20230325T183010Z
UID:4962-1681848000-1681855200@sibfordvillagehall.org.uk
SUMMARY:Band practice
DESCRIPTION:
URL:https://sibfordvillagehall.org.uk/event/band-practice-3/
LOCATION:Main hall
END:VEVENT
BEGIN:VEVENT
DTSTART;TZID=Europe/London:20230418T190000
DTEND;TZID=Europe/London:20230418T200000
DTSTAMP:20260422T012757
CREATED:20230329T183019Z
LAST-MODIFIED:20230329T183019Z
UID:5019-1681844400-1681848000@sibfordvillagehall.org.uk
SUMMARY:Yogalates
DESCRIPTION:
URL:https://sibfordvillagehall.org.uk/event/yogalates-11/
LOCATION:Main hall
END:VEVENT
BEGIN:VEVENT
DTSTART;TZID=Europe/London:20230418T090000
DTEND;TZID=Europe/London:20230418T100000
DTSTAMP:20260422T012757
CREATED:20230308T183019Z
LAST-MODIFIED:20230308T183019Z
UID:4749-1681808400-1681812000@sibfordvillagehall.org.uk
SUMMARY:Slow and gentle Yoga
DESCRIPTION:
URL:https://sibfordvillagehall.org.uk/event/slow-and-gentle-yoga-7-12/
LOCATION:Main hall
END:VEVENT
BEGIN:VEVENT
DTSTART;TZID=Europe/London:20230417T193000
DTEND;TZID=Europe/London:20230417T210000
DTSTAMP:20260422T012757
CREATED:20230325T183010Z
LAST-MODIFIED:20230325T183010Z
UID:4961-1681759800-1681765200@sibfordvillagehall.org.uk
SUMMARY:Band practice
DESCRIPTION:
URL:https://sibfordvillagehall.org.uk/event/band-practice/
LOCATION:Main hall
END:VEVENT
END:VCALENDAR