BEGIN:VCALENDAR
VERSION:2.0
PRODID:-//Sibford Village Hall - ECPv6.15.20//NONSGML v1.0//EN
CALSCALE:GREGORIAN
METHOD:PUBLISH
X-WR-CALNAME:Sibford Village Hall
X-ORIGINAL-URL:https://sibfordvillagehall.org.uk
X-WR-CALDESC:Events for Sibford Village Hall
REFRESH-INTERVAL;VALUE=DURATION:PT1H
X-Robots-Tag:noindex
X-PUBLISHED-TTL:PT1H
BEGIN:VTIMEZONE
TZID:Europe/London
BEGIN:DAYLIGHT
TZOFFSETFROM:+0000
TZOFFSETTO:+0100
TZNAME:BST
DTSTART:20230326T010000
END:DAYLIGHT
BEGIN:STANDARD
TZOFFSETFROM:+0100
TZOFFSETTO:+0000
TZNAME:GMT
DTSTART:20231029T010000
END:STANDARD
BEGIN:DAYLIGHT
TZOFFSETFROM:+0000
TZOFFSETTO:+0100
TZNAME:BST
DTSTART:20240331T010000
END:DAYLIGHT
BEGIN:STANDARD
TZOFFSETFROM:+0100
TZOFFSETTO:+0000
TZNAME:GMT
DTSTART:20241027T010000
END:STANDARD
BEGIN:DAYLIGHT
TZOFFSETFROM:+0000
TZOFFSETTO:+0100
TZNAME:BST
DTSTART:20250330T010000
END:DAYLIGHT
BEGIN:STANDARD
TZOFFSETFROM:+0100
TZOFFSETTO:+0000
TZNAME:GMT
DTSTART:20251026T010000
END:STANDARD
END:VTIMEZONE
BEGIN:VEVENT
DTSTART;TZID=Europe/London:20240419T093000
DTEND;TZID=Europe/London:20240419T113000
DTSTAMP:20260421T231758
CREATED:20240413T183007Z
LAST-MODIFIED:20240413T183007Z
UID:7251-1713519000-1713526200@sibfordvillagehall.org.uk
SUMMARY:Tots and babes
DESCRIPTION:
URL:https://sibfordvillagehall.org.uk/event/tots-and-babes/
LOCATION:Small hall
END:VEVENT
BEGIN:VEVENT
DTSTART;TZID=Europe/London:20240419T160000
DTEND;TZID=Europe/London:20240419T190000
DTSTAMP:20260421T231758
CREATED:20240418T183007Z
LAST-MODIFIED:20240418T183007Z
UID:7278-1713542400-1713553200@sibfordvillagehall.org.uk
SUMMARY:Beavers\, Cubs and Scouts
DESCRIPTION:
URL:https://sibfordvillagehall.org.uk/event/private-event-115/
LOCATION:Main hall
END:VEVENT
BEGIN:VEVENT
DTSTART;TZID=Europe/London:20240419T173000
DTEND;TZID=Europe/London:20240419T190000
DTSTAMP:20260421T231758
CREATED:20240418T183008Z
LAST-MODIFIED:20240418T183008Z
UID:7279-1713547800-1713553200@sibfordvillagehall.org.uk
SUMMARY:Beavers\, Cubs and Scouts
DESCRIPTION:
URL:https://sibfordvillagehall.org.uk/event/private-event-116/
LOCATION:Small hall
END:VEVENT
BEGIN:VEVENT
DTSTART;TZID=Europe/London:20240420T090000
DTEND;TZID=Europe/London:20240420T100000
DTSTAMP:20260421T231758
CREATED:20240408T183008Z
LAST-MODIFIED:20240408T183008Z
UID:7240-1713603600-1713607200@sibfordvillagehall.org.uk
SUMMARY:Private event
DESCRIPTION:
URL:https://sibfordvillagehall.org.uk/event/private-event-109-2/
LOCATION:Main hall
END:VEVENT
BEGIN:VEVENT
DTSTART;TZID=Europe/London:20240420T100000
DTEND;TZID=Europe/London:20240420T120000
DTSTAMP:20260421T231758
CREATED:20240317T183011Z
LAST-MODIFIED:20240317T183011Z
UID:7161-1713607200-1713614400@sibfordvillagehall.org.uk
SUMMARY:Book Swap and Café
DESCRIPTION:Welcome to our monthly chance to have coffee/cake and a chat. Browse our large selection of books and borrow any you like. No need to bring a book to swap. No charge. Donations welcome.
URL:https://sibfordvillagehall.org.uk/event/private-event-51-4/
LOCATION:Small hall
END:VEVENT
BEGIN:VEVENT
DTSTART;TZID=Europe/London:20240422T183000
DTEND;TZID=Europe/London:20240422T193000
DTSTAMP:20260421T231758
CREATED:20240408T183008Z
LAST-MODIFIED:20240408T183008Z
UID:7241-1713810600-1713814200@sibfordvillagehall.org.uk
SUMMARY:Private event
DESCRIPTION:
URL:https://sibfordvillagehall.org.uk/event/private-event-110-2/
LOCATION:Main hall
END:VEVENT
BEGIN:VEVENT
DTSTART;TZID=Europe/London:20240422T193000
DTEND;TZID=Europe/London:20240422T210000
DTSTAMP:20260421T231758
CREATED:20240415T183009Z
LAST-MODIFIED:20240415T183009Z
UID:7265-1713814200-1713819600@sibfordvillagehall.org.uk
SUMMARY:Private event
DESCRIPTION:
URL:https://sibfordvillagehall.org.uk/event/private-event-114/
LOCATION:Main hall
END:VEVENT
BEGIN:VEVENT
DTSTART;TZID=Europe/London:20240422T193000
DTEND;TZID=Europe/London:20240422T213000
DTSTAMP:20260421T231758
CREATED:20240302T183007Z
LAST-MODIFIED:20240302T183007Z
UID:7016-1713814200-1713821400@sibfordvillagehall.org.uk
SUMMARY:Private event
DESCRIPTION:
URL:https://sibfordvillagehall.org.uk/event/private-event-86/
LOCATION:Small hall
END:VEVENT
BEGIN:VEVENT
DTSTART;TZID=Europe/London:20240424T130000
DTEND;TZID=Europe/London:20240424T130000
DTSTAMP:20260421T231758
CREATED:20240131T183022Z
LAST-MODIFIED:20240131T183022Z
UID:6779-1713963600-1713963600@sibfordvillagehall.org.uk
SUMMARY:Sibford Lunch Club
DESCRIPTION:
URL:https://sibfordvillagehall.org.uk/event/sibford-lunch-club-13-16/
LOCATION:Main hall
END:VEVENT
BEGIN:VEVENT
DTSTART;TZID=Europe/London:20240424T173000
DTEND;TZID=Europe/London:20240424T183000
DTSTAMP:20260421T231758
CREATED:20240321T183016Z
LAST-MODIFIED:20240321T183016Z
UID:7172-1713979800-1713983400@sibfordvillagehall.org.uk
SUMMARY:Private event
DESCRIPTION:
URL:https://sibfordvillagehall.org.uk/event/private-event-105-2/
LOCATION:Main hall
END:VEVENT
BEGIN:VEVENT
DTSTART;TZID=Europe/London:20240425T090000
DTEND;TZID=Europe/London:20240425T110000
DTSTAMP:20260421T231758
CREATED:20240411T183007Z
LAST-MODIFIED:20240411T183007Z
UID:7247-1714035600-1714042800@sibfordvillagehall.org.uk
SUMMARY:Private event
DESCRIPTION:
URL:https://sibfordvillagehall.org.uk/event/private-event-112-2/
LOCATION:Main hall
END:VEVENT
BEGIN:VEVENT
DTSTART;TZID=Europe/London:20240425T193000
DTEND;TZID=Europe/London:20240425T193000
DTSTAMP:20260421T231758
CREATED:20240328T183013Z
LAST-MODIFIED:20240328T183013Z
UID:7191-1714073400-1714073400@sibfordvillagehall.org.uk
SUMMARY:Film night
DESCRIPTION:Past Lives is a 2023 American romantic drama film written and directed by Celine Song in her feature directorial debut. Starring Greta Lee\, Teo Yoo\, and John Magaro. \nIn 2000\, Seoul\, South Korea\, Na Young and Hae Sung are 12-year-old classmates who develop feelings for one another and go on a date set up by their parents. The film follows them over the course of 24 years while they contemplate the nature of their relationship as they grow apart\, living different lives. The plot is semi-autobiographical and inspired by real events from Song’s life.
URL:https://sibfordvillagehall.org.uk/event/film-night-23/
LOCATION:Main hall
END:VEVENT
BEGIN:VEVENT
DTSTART;TZID=Europe/London:20240426T093000
DTEND;TZID=Europe/London:20240426T113000
DTSTAMP:20260421T231758
CREATED:20240413T183008Z
LAST-MODIFIED:20240413T183008Z
UID:7252-1714123800-1714131000@sibfordvillagehall.org.uk
SUMMARY:Tots and babes
DESCRIPTION:
URL:https://sibfordvillagehall.org.uk/event/tots-and-babes-2/
LOCATION:Small hall
END:VEVENT
BEGIN:VEVENT
DTSTART;TZID=Europe/London:20240426T160000
DTEND;TZID=Europe/London:20240426T190000
DTSTAMP:20260421T231758
CREATED:20240418T183008Z
LAST-MODIFIED:20240418T183008Z
UID:7280-1714147200-1714158000@sibfordvillagehall.org.uk
SUMMARY:Beavers\, Cubs and Scouts
DESCRIPTION:
URL:https://sibfordvillagehall.org.uk/event/private-event-115-2/
LOCATION:Main hall
END:VEVENT
BEGIN:VEVENT
DTSTART;TZID=Europe/London:20240426T173000
DTEND;TZID=Europe/London:20240426T190000
DTSTAMP:20260421T231758
CREATED:20240418T183008Z
LAST-MODIFIED:20240418T183008Z
UID:7281-1714152600-1714158000@sibfordvillagehall.org.uk
SUMMARY:Beavers\, Cubs and Scouts
DESCRIPTION:
URL:https://sibfordvillagehall.org.uk/event/private-event-116-2/
LOCATION:Small hall
END:VEVENT
BEGIN:VEVENT
DTSTART;TZID=Europe/London:20240427T090000
DTEND;TZID=Europe/London:20240427T100000
DTSTAMP:20260421T231758
CREATED:20240408T183009Z
LAST-MODIFIED:20240408T183009Z
UID:7242-1714208400-1714212000@sibfordvillagehall.org.uk
SUMMARY:Private event
DESCRIPTION:
URL:https://sibfordvillagehall.org.uk/event/private-event-109-3/
LOCATION:Main hall
END:VEVENT
BEGIN:VEVENT
DTSTART;TZID=Europe/London:20240427T103000
DTEND;TZID=Europe/London:20240427T150000
DTSTAMP:20260421T231758
CREATED:20231217T183012Z
LAST-MODIFIED:20231217T183012Z
UID:6358-1714213800-1714230000@sibfordvillagehall.org.uk
SUMMARY:Private event
DESCRIPTION:
URL:https://sibfordvillagehall.org.uk/event/private-event-50/
LOCATION:Main hall
END:VEVENT
BEGIN:VEVENT
DTSTART;TZID=Europe/London:20240428T090000
DTEND;TZID=Europe/London:20240428T120000
DTSTAMP:20260421T231758
CREATED:20240427T183007Z
LAST-MODIFIED:20240427T183007Z
UID:7286-1714294800-1714305600@sibfordvillagehall.org.uk
SUMMARY:Car Boot Sale
DESCRIPTION:Sorry\, folks – cancelled due to bad weather
URL:https://sibfordvillagehall.org.uk/event/car-boot/
LOCATION:Main hall
END:VEVENT
BEGIN:VEVENT
DTSTART;TZID=Europe/London:20240429T193000
DTEND;TZID=Europe/London:20240429T210000
DTSTAMP:20260421T231758
CREATED:20240427T183008Z
LAST-MODIFIED:20240427T183008Z
UID:7287-1714419000-1714424400@sibfordvillagehall.org.uk
SUMMARY:Private event
DESCRIPTION:
URL:https://sibfordvillagehall.org.uk/event/private-event-119/
LOCATION:Main hall
END:VEVENT
BEGIN:VEVENT
DTSTART;TZID=Europe/London:20240430T183000
DTEND;TZID=Europe/London:20240430T200000
DTSTAMP:20260421T231758
CREATED:20240409T183008Z
LAST-MODIFIED:20240409T183008Z
UID:7244-1714501800-1714507200@sibfordvillagehall.org.uk
SUMMARY:Resuscitation training
DESCRIPTION:A session with the St John Ambulance Team for resuscitation training. This really is an important part of your everyday life\, that you know what to do if somebody drops down next to you and in order to save their life. \nIn Norway 70% of the population are trained as to what to do and I think that we in the UK\, because it really makes a difference to outcomes\, need to head in that same direction. \nJohn Wass
URL:https://sibfordvillagehall.org.uk/event/resuscitation-trainin/
LOCATION:Main hall
END:VEVENT
BEGIN:VEVENT
DTSTART;TZID=Europe/London:20240430T193000
DTEND;TZID=Europe/London:20240430T213000
DTSTAMP:20260421T231758
CREATED:20240304T183037Z
LAST-MODIFIED:20240304T183037Z
UID:7080-1714505400-1714512600@sibfordvillagehall.org.uk
SUMMARY:Sibford Photography Club
DESCRIPTION:
URL:https://sibfordvillagehall.org.uk/event/sibford-photography-club-26-3/
LOCATION:Small hall
END:VEVENT
BEGIN:VEVENT
DTSTART;TZID=Europe/London:20240501T130000
DTEND;TZID=Europe/London:20240501T130000
DTSTAMP:20260421T231758
CREATED:20240131T183022Z
LAST-MODIFIED:20240131T183022Z
UID:6780-1714568400-1714568400@sibfordvillagehall.org.uk
SUMMARY:Sibford Lunch Club
DESCRIPTION:
URL:https://sibfordvillagehall.org.uk/event/sibford-lunch-club-13-17/
LOCATION:Main hall
END:VEVENT
BEGIN:VEVENT
DTSTART;TZID=Europe/London:20240501T173000
DTEND;TZID=Europe/London:20240501T183000
DTSTAMP:20260421T231758
CREATED:20240321T183017Z
LAST-MODIFIED:20240321T183017Z
UID:7173-1714584600-1714588200@sibfordvillagehall.org.uk
SUMMARY:Private event
DESCRIPTION:
URL:https://sibfordvillagehall.org.uk/event/private-event-105-3/
LOCATION:Main hall
END:VEVENT
BEGIN:VEVENT
DTSTART;TZID=Europe/London:20240502T080000
DTEND;TZID=Europe/London:20240502T220000
DTSTAMP:20260421T231758
CREATED:20240408T183009Z
LAST-MODIFIED:20240408T183009Z
UID:7243-1714636800-1714687200@sibfordvillagehall.org.uk
SUMMARY:Polling Day - Election of Police Commissioner and a District Councillor
DESCRIPTION:There are two elections today\, for Police and Crime Commissioner and for a District Councillor. \nPolice and Crime Commissioner for the Thames Valley Police Area\nFor the list of nominations\, visit https://www.cherwell.gov.uk/directory-record/103076/police-and-crime-commissioner \nDistrict Councillor for the Cropredy\, Sibfords and Wroxton Ward of Cherwell District Council\nFor the list of nominations\, visit https://www.cherwell.gov.uk/directory-record/103046/cropredy-sibfords-and-wroxton \nThe Ward is currently represented on the District Council by three councillors: Phil Chapman\, George Reynolds and Douglas Webb. Councillors are elected for 4-year terms\, starting on different years. This year it is Mr Reynolds’ office that is up for re-election. Mr Chapman’s term of office ends May 2026\, Mr Webb’s in May 2027. \nVoter ID\nDon’t forget that you will need some form of photographic identification in order to vote. For a list of acceptable forms of ID\, visit https://www.cherwell.gov.uk/info/11/elections/1041/voter-id
URL:https://sibfordvillagehall.org.uk/event/polling-station-2/
LOCATION:Small hall
END:VEVENT
BEGIN:VEVENT
DTSTART;TZID=Europe/London:20240502T090000
DTEND;TZID=Europe/London:20240502T110000
DTSTAMP:20260421T231758
CREATED:20240411T183007Z
LAST-MODIFIED:20240411T183007Z
UID:7248-1714640400-1714647600@sibfordvillagehall.org.uk
SUMMARY:Private event
DESCRIPTION:
URL:https://sibfordvillagehall.org.uk/event/private-event-112-3/
LOCATION:Main hall
END:VEVENT
BEGIN:VEVENT
DTSTART;TZID=Europe/London:20240504T110000
DTEND;TZID=Europe/London:20240504T170000
DTSTAMP:20260421T231758
CREATED:20240306T183009Z
LAST-MODIFIED:20240306T183009Z
UID:7126-1714820400-1714842000@sibfordvillagehall.org.uk
SUMMARY:Artweeks Exhibition
DESCRIPTION:Local artist Ginny Bennett will be exhibiting her paintings as part of the Oxfordshire Artweeks Festival 2024. A wide variety of subjects\, mainly in oil paints\, will be on display. \n \nThis is Artweeks venue No 41. Entry is free as are all Artweeks venues. There is disabled access and parking and refreshments will be available. \nFor information about all Artweeks exhibitions and venues visit the Oxfordshire Artweeks website
URL:https://sibfordvillagehall.org.uk/event/artweeks-exhibition/
LOCATION:Main hall
END:VEVENT
BEGIN:VEVENT
DTSTART;TZID=Europe/London:20240505T110000
DTEND;TZID=Europe/London:20240505T170000
DTSTAMP:20260421T231758
CREATED:20240306T183010Z
LAST-MODIFIED:20240306T183010Z
UID:7127-1714906800-1714928400@sibfordvillagehall.org.uk
SUMMARY:Artweeks Exhibition
DESCRIPTION:Local artist Ginny Bennett will be exhibiting her paintings as part of the Oxfordshire Artweeks Festival 2024. A wide variety of subjects\, mainly in oil paints\, will be on display. \n \nThis is Artweeks venue No 41. Entry is free as are all Artweeks venues. There is disabled access and parking and refreshments will be available. \nFor information about all Artweeks exhibitions and venues visit the Oxfordshire Artweeks website
URL:https://sibfordvillagehall.org.uk/event/artweeks-exhibition-2/
LOCATION:Main hall
END:VEVENT
BEGIN:VEVENT
DTSTART;TZID=Europe/London:20240506T110000
DTEND;TZID=Europe/London:20240506T170000
DTSTAMP:20260421T231758
CREATED:20240506T183006Z
LAST-MODIFIED:20240506T183006Z
UID:7336-1714993200-1715014800@sibfordvillagehall.org.uk
SUMMARY:Artweeks Exhibition
DESCRIPTION:Local artist Ginny Bennett will be exhibiting her paintings as part of the Oxfordshire Artweeks Festival 2024. A wide variety of subjects\, mainly in oil paints\, will be on display. \n \nThis is Artweeks venue No 41. Entry is free as are all Artweeks venues. There is disabled access and parking and refreshments will be available. \nFor information about all Artweeks exhibitions and venues visit the Oxfordshire Artweeks website
URL:https://sibfordvillagehall.org.uk/event/artweeks-exhibition-3/
LOCATION:Main hall
END:VEVENT
BEGIN:VEVENT
DTSTART;TZID=Europe/London:20240507T140000
DTEND;TZID=Europe/London:20240507T160000
DTSTAMP:20260421T231758
CREATED:20231011T183008Z
LAST-MODIFIED:20231011T183008Z
UID:6127-1715090400-1715097600@sibfordvillagehall.org.uk
SUMMARY:Friendship Club
DESCRIPTION:
URL:https://sibfordvillagehall.org.uk/event/friendship-club-14-5/
LOCATION:Small hall
END:VEVENT
BEGIN:VEVENT
DTSTART;TZID=Europe/London:20240507T183000
DTEND;TZID=Europe/London:20240507T203000
DTSTAMP:20260421T231758
CREATED:20240416T183009Z
LAST-MODIFIED:20240416T183009Z
UID:7268-1715106600-1715113800@sibfordvillagehall.org.uk
SUMMARY:Toning and fitness class
DESCRIPTION:
URL:https://sibfordvillagehall.org.uk/event/toning-and-fitness-cl/
LOCATION:Main hall
END:VEVENT
END:VCALENDAR