BEGIN:VCALENDAR
VERSION:2.0
PRODID:-//Sibford Village Hall - ECPv6.15.20//NONSGML v1.0//EN
CALSCALE:GREGORIAN
METHOD:PUBLISH
X-WR-CALNAME:Sibford Village Hall
X-ORIGINAL-URL:https://sibfordvillagehall.org.uk
X-WR-CALDESC:Events for Sibford Village Hall
REFRESH-INTERVAL;VALUE=DURATION:PT1H
X-Robots-Tag:noindex
X-PUBLISHED-TTL:PT1H
BEGIN:VTIMEZONE
TZID:Europe/London
BEGIN:DAYLIGHT
TZOFFSETFROM:+0000
TZOFFSETTO:+0100
TZNAME:BST
DTSTART:20230326T010000
END:DAYLIGHT
BEGIN:STANDARD
TZOFFSETFROM:+0100
TZOFFSETTO:+0000
TZNAME:GMT
DTSTART:20231029T010000
END:STANDARD
BEGIN:DAYLIGHT
TZOFFSETFROM:+0000
TZOFFSETTO:+0100
TZNAME:BST
DTSTART:20240331T010000
END:DAYLIGHT
BEGIN:STANDARD
TZOFFSETFROM:+0100
TZOFFSETTO:+0000
TZNAME:GMT
DTSTART:20241027T010000
END:STANDARD
BEGIN:DAYLIGHT
TZOFFSETFROM:+0000
TZOFFSETTO:+0100
TZNAME:BST
DTSTART:20250330T010000
END:DAYLIGHT
BEGIN:STANDARD
TZOFFSETFROM:+0100
TZOFFSETTO:+0000
TZNAME:GMT
DTSTART:20251026T010000
END:STANDARD
END:VTIMEZONE
BEGIN:VEVENT
DTSTART;TZID=Europe/London:20240911T190000
DTEND;TZID=Europe/London:20240911T203000
DTSTAMP:20260422T235733
CREATED:20240906T183007Z
LAST-MODIFIED:20240906T183007Z
UID:7679-1726081200-1726086600@sibfordvillagehall.org.uk
SUMMARY:Sibford Gower Parish Council Meeting
DESCRIPTION:SGPC Agenda 11.09.24 \nSGPC Financial Regulations Sep 2024 \nSGPC Internal Financial Controls Sep 24 \nSGPC Scheme of Delegation Sep 2024
URL:https://sibfordvillagehall.org.uk/event/parish-council-meetin-2/
LOCATION:Small hall
END:VEVENT
BEGIN:VEVENT
DTSTART;TZID=Europe/London:20240911T130000
DTEND;TZID=Europe/London:20240911T130000
DTSTAMP:20260422T235733
CREATED:20240131T183025Z
LAST-MODIFIED:20240131T183025Z
UID:6799-1726059600-1726059600@sibfordvillagehall.org.uk
SUMMARY:Sibford Lunch Club
DESCRIPTION:
URL:https://sibfordvillagehall.org.uk/event/sibford-lunch-club-13-36/
LOCATION:Main hall
END:VEVENT
BEGIN:VEVENT
DTSTART;TZID=Europe/London:20240909T193000
DTEND;TZID=Europe/London:20240909T210000
DTSTAMP:20260422T235733
CREATED:20240714T183003Z
LAST-MODIFIED:20240714T183003Z
UID:7521-1725910200-1725915600@sibfordvillagehall.org.uk
SUMMARY:Private event
DESCRIPTION:
URL:https://sibfordvillagehall.org.uk/event/private-event-145/
LOCATION:Main hall
END:VEVENT
BEGIN:VEVENT
DTSTART;TZID=Europe/London:20240909T183000
DTEND;TZID=Europe/London:20240909T193000
DTSTAMP:20260422T235733
CREATED:20240906T183007Z
LAST-MODIFIED:20240906T183007Z
UID:7678-1725906600-1725910200@sibfordvillagehall.org.uk
SUMMARY:Private event
DESCRIPTION:
URL:https://sibfordvillagehall.org.uk/event/private-event-164/
LOCATION:Main hall
END:VEVENT
BEGIN:VEVENT
DTSTART;TZID=Europe/London:20240909T100000
DTEND;TZID=Europe/London:20240909T110000
DTSTAMP:20260422T235733
CREATED:20240821T183010Z
LAST-MODIFIED:20240821T183010Z
UID:7624-1725876000-1725879600@sibfordvillagehall.org.uk
SUMMARY:Chair Yoga
DESCRIPTION:For more information\, contact Juliette Glazebrook: juliette53@btinternet.com or 07703 836 856
URL:https://sibfordvillagehall.org.uk/event/private-event-154/
LOCATION:Main hall
END:VEVENT
BEGIN:VEVENT
DTSTART;TZID=Europe/London:20240907T090000
DTEND;TZID=Europe/London:20240907T100000
DTSTAMP:20260422T235733
CREATED:20240906T183006Z
LAST-MODIFIED:20240906T183006Z
UID:7677-1725699600-1725703200@sibfordvillagehall.org.uk
SUMMARY:Private event
DESCRIPTION:
URL:https://sibfordvillagehall.org.uk/event/private-event-163/
LOCATION:Main hall
END:VEVENT
BEGIN:VEVENT
DTSTART;TZID=Europe/London:20240906T093000
DTEND;TZID=Europe/London:20240906T123000
DTSTAMP:20260422T235733
CREATED:20240802T183011Z
LAST-MODIFIED:20240802T183011Z
UID:7556-1725615000-1725625800@sibfordvillagehall.org.uk
SUMMARY:Art Class
DESCRIPTION:For more information contact Nigel Fletcher nvfletcher@btinternet.com\, 07792 657 248 or visit www.nigelfletcher.co.uk
URL:https://sibfordvillagehall.org.uk/event/art-class-4-13/
LOCATION:Main hall
END:VEVENT
BEGIN:VEVENT
DTSTART;TZID=Europe/London:20240906T090000
DTEND;TZID=Europe/London:20240906T113000
DTSTAMP:20260422T235733
CREATED:20240904T183016Z
LAST-MODIFIED:20240904T183016Z
UID:7656-1725613200-1725622200@sibfordvillagehall.org.uk
SUMMARY:Tots and babes
DESCRIPTION:
URL:https://sibfordvillagehall.org.uk/event/tots-and-babes-2-2/
LOCATION:Small hall
END:VEVENT
BEGIN:VEVENT
DTSTART;TZID=Europe/London:20240905T193000
DTEND;TZID=Europe/London:20240905T203000
DTSTAMP:20260422T235733
CREATED:20240904T183015Z
LAST-MODIFIED:20240904T183015Z
UID:7655-1725564600-1725568200@sibfordvillagehall.org.uk
SUMMARY:Sibford  Players Drama Group
DESCRIPTION:
URL:https://sibfordvillagehall.org.uk/event/sibford-players-dram/
LOCATION:Main hall
END:VEVENT
BEGIN:VEVENT
DTSTART;TZID=Europe/London:20240905T090000
DTEND;TZID=Europe/London:20240905T110000
DTSTAMP:20260422T235733
CREATED:20240821T183010Z
LAST-MODIFIED:20240821T183010Z
UID:7623-1725526800-1725534000@sibfordvillagehall.org.uk
SUMMARY:Flow Yoga & Chair Yoga
DESCRIPTION:9am – 10am Flow Yoga \n10.15am – 11.15am Chair Yoga \nFor more information\, contact Juliette Glazebrook: juliette53@btinternet.com or 07703 836 856
URL:https://sibfordvillagehall.org.uk/event/private-event-153/
LOCATION:Main hall
END:VEVENT
BEGIN:VEVENT
DTSTART;TZID=Europe/London:20240904T130000
DTEND;TZID=Europe/London:20240904T130000
DTSTAMP:20260422T235733
CREATED:20240131T183025Z
LAST-MODIFIED:20240131T183025Z
UID:6798-1725454800-1725454800@sibfordvillagehall.org.uk
SUMMARY:Sibford Lunch Club
DESCRIPTION:
URL:https://sibfordvillagehall.org.uk/event/sibford-lunch-club-13-35/
LOCATION:Main hall
END:VEVENT
BEGIN:VEVENT
DTSTART;TZID=Europe/London:20240903T140000
DTEND;TZID=Europe/London:20240903T160000
DTSTAMP:20260422T235733
CREATED:20240821T183010Z
LAST-MODIFIED:20240821T183010Z
UID:7622-1725372000-1725379200@sibfordvillagehall.org.uk
SUMMARY:Friendship Club
DESCRIPTION:
URL:https://sibfordvillagehall.org.uk/event/friendship-club-14-8/
LOCATION:Small hall
END:VEVENT
BEGIN:VEVENT
DTSTART;TZID=Europe/London:20240903T120000
DTEND;TZID=Europe/London:20240903T160000
DTSTAMP:20260422T235733
CREATED:20240215T183015Z
LAST-MODIFIED:20240215T183015Z
UID:6919-1725364800-1725379200@sibfordvillagehall.org.uk
SUMMARY:Private event
DESCRIPTION:
URL:https://sibfordvillagehall.org.uk/event/private-event-23-6/
LOCATION:Main hall
END:VEVENT
BEGIN:VEVENT
DTSTART;TZID=Europe/London:20240901T090000
DTEND;TZID=Europe/London:20240901T213000
DTSTAMP:20260422T235733
CREATED:20240619T183009Z
LAST-MODIFIED:20240619T183009Z
UID:7456-1725181200-1725226200@sibfordvillagehall.org.uk
SUMMARY:Private event
DESCRIPTION:
URL:https://sibfordvillagehall.org.uk/event/musical-concert-with/
LOCATION:Main hall
END:VEVENT
BEGIN:VEVENT
DTSTART;TZID=Europe/London:20240831T163000
DTEND;TZID=Europe/London:20240831T200000
DTSTAMP:20260422T235733
CREATED:20240708T183006Z
LAST-MODIFIED:20240708T183006Z
UID:7491-1725121800-1725134400@sibfordvillagehall.org.uk
SUMMARY:Private event
DESCRIPTION:
URL:https://sibfordvillagehall.org.uk/event/rehearsal-for-event-o/
LOCATION:Main hall
END:VEVENT
BEGIN:VEVENT
DTSTART;TZID=Europe/London:20240831T120000
DTEND;TZID=Europe/London:20240831T153000
DTSTAMP:20260422T235733
CREATED:20240706T183006Z
LAST-MODIFIED:20240706T183006Z
UID:7488-1725105600-1725118200@sibfordvillagehall.org.uk
SUMMARY:Private event
DESCRIPTION:
URL:https://sibfordvillagehall.org.uk/event/private-event-144/
LOCATION:Main hall
END:VEVENT
BEGIN:VEVENT
DTSTART;TZID=Europe/London:20240830T093000
DTEND;TZID=Europe/London:20240830T123000
DTSTAMP:20260422T235733
CREATED:20240802T183011Z
LAST-MODIFIED:20240802T183011Z
UID:7555-1725010200-1725021000@sibfordvillagehall.org.uk
SUMMARY:Art Class
DESCRIPTION:For more information contact Nigel Fletcher nvfletcher@btinternet.com\, 07792 657 248 or visit www.nigelfletcher.co.uk
URL:https://sibfordvillagehall.org.uk/event/art-class-4-12/
LOCATION:Main hall
END:VEVENT
BEGIN:VEVENT
DTSTART;TZID=Europe/London:20240828T193000
DTEND;TZID=Europe/London:20240828T193000
DTSTAMP:20260422T235733
CREATED:20240822T183005Z
LAST-MODIFIED:20240822T183005Z
UID:7637-1724873400-1724873400@sibfordvillagehall.org.uk
SUMMARY:Film Night
DESCRIPTION:A film for all the family\, young or old\, Fly Away Home is a 1996 family adventure drama film directed by Carroll Ballard. After spending nine years apart\, 13-year-old Amy(Anna Paquin) and her father Thomas (Jeff Daniels) are finally reunited. But things don’t go smoothly at first\, and while Thomas spends all his time testing a lightweight aircraft he has built\, Amy finds solace with the geese nesting in a nearby lake. When developers then threaten to displace the geese\, Amy volunteers to lead them on their migration by flying in Thomas’ aircraft.  \nRotten tomatoes review 88% \nDoors open at 7. Film starts at 7.30. Admission: Adult £3\, Child: free. Refreshments available.
URL:https://sibfordvillagehall.org.uk/event/film-night-fly-away-home/
LOCATION:Main hall
END:VEVENT
BEGIN:VEVENT
DTSTART;TZID=Europe/London:20240828T130000
DTEND;TZID=Europe/London:20240828T130000
DTSTAMP:20260422T235733
CREATED:20240131T183025Z
LAST-MODIFIED:20240131T183025Z
UID:6797-1724850000-1724850000@sibfordvillagehall.org.uk
SUMMARY:Sibford Lunch Club
DESCRIPTION:
URL:https://sibfordvillagehall.org.uk/event/sibford-lunch-club-13-34/
LOCATION:Main hall
END:VEVENT
BEGIN:VEVENT
DTSTART;TZID=Europe/London:20240827T193000
DTEND;TZID=Europe/London:20240827T213000
DTSTAMP:20260422T235733
CREATED:20240304T183043Z
LAST-MODIFIED:20240304T183043Z
UID:7104-1724787000-1724794200@sibfordvillagehall.org.uk
SUMMARY:Sibford Photography Club
DESCRIPTION:
URL:https://sibfordvillagehall.org.uk/event/sibford-photography-club-26-7/
LOCATION:Small hall
END:VEVENT
BEGIN:VEVENT
DTSTART;TZID=Europe/London:20240827T120000
DTEND;TZID=Europe/London:20240827T160000
DTSTAMP:20260422T235733
CREATED:20240215T183015Z
LAST-MODIFIED:20240215T183015Z
UID:6917-1724760000-1724774400@sibfordvillagehall.org.uk
SUMMARY:Private event
DESCRIPTION:
URL:https://sibfordvillagehall.org.uk/event/private-event-85/
LOCATION:Main hall
END:VEVENT
BEGIN:VEVENT
DTSTART;TZID=Europe/London:20240824T143000
DTEND;TZID=Europe/London:20240824T160000
DTSTAMP:20260422T235733
CREATED:20240709T183013Z
LAST-MODIFIED:20240709T183013Z
UID:7498-1724509800-1724515200@sibfordvillagehall.org.uk
SUMMARY:Horti Summer Show
DESCRIPTION:Entry forms were delivered with the July/August Sibford Scene\, but if you have lost it\, you can download it from here: Sibford Scene 465 July 2024 horti
URL:https://sibfordvillagehall.org.uk/event/horti-summer-show-4-2/
LOCATION:Main hall
END:VEVENT
BEGIN:VEVENT
DTSTART;TZID=Europe/London:20240823T180000
DTEND;TZID=Europe/London:20240823T190000
DTSTAMP:20260422T235733
CREATED:20231217T183013Z
LAST-MODIFIED:20231217T183013Z
UID:6364-1724436000-1724439600@sibfordvillagehall.org.uk
SUMMARY:Horti show set up
DESCRIPTION:
URL:https://sibfordvillagehall.org.uk/event/meeting-3-3/
LOCATION:Main hall
END:VEVENT
BEGIN:VEVENT
DTSTART;TZID=Europe/London:20240823T093000
DTEND;TZID=Europe/London:20240823T123000
DTSTAMP:20260422T235733
CREATED:20240802T183011Z
LAST-MODIFIED:20240802T183011Z
UID:7554-1724405400-1724416200@sibfordvillagehall.org.uk
SUMMARY:Art Class
DESCRIPTION:For more information contact Nigel Fletcher nvfletcher@btinternet.com\, 07792 657 248 or visit www.nigelfletcher.co.uk
URL:https://sibfordvillagehall.org.uk/event/art-class-4-11/
LOCATION:Main hall
END:VEVENT
BEGIN:VEVENT
DTSTART;TZID=Europe/London:20240821T190000
DTEND;TZID=Europe/London:20240821T200000
DTSTAMP:20260422T235733
CREATED:20240709T183013Z
LAST-MODIFIED:20240709T183013Z
UID:7496-1724266800-1724270400@sibfordvillagehall.org.uk
SUMMARY:Horti Summer Show - Entry night
DESCRIPTION:The show is on Saturday\, but you need to get your entries in TONIGHT! \nEntry forms were delivered with the July/August Sibford Scene\, but if you have lost it\, you can download it from here: Sibford Scene 465 July 2024 horti
URL:https://sibfordvillagehall.org.uk/event/horti-entry-night-7/
LOCATION:Small hall
END:VEVENT
BEGIN:VEVENT
DTSTART;TZID=Europe/London:20240821T130000
DTEND;TZID=Europe/London:20240821T130000
DTSTAMP:20260422T235733
CREATED:20240131T183025Z
LAST-MODIFIED:20240131T183025Z
UID:6796-1724245200-1724245200@sibfordvillagehall.org.uk
SUMMARY:Sibford Lunch Club
DESCRIPTION:
URL:https://sibfordvillagehall.org.uk/event/sibford-lunch-club-13-33/
LOCATION:Main hall
END:VEVENT
BEGIN:VEVENT
DTSTART;TZID=Europe/London:20240817T100000
DTEND;TZID=Europe/London:20240817T120000
DTSTAMP:20260422T235733
CREATED:20240317T183012Z
LAST-MODIFIED:20240317T183012Z
UID:7166-1723888800-1723896000@sibfordvillagehall.org.uk
SUMMARY:Book Swap and Café
DESCRIPTION:Welcome to our monthly chance to have coffee/cake and a chat. Browse our large selection of books and borrow any you like. No need to bring a book to swap. No charge. Donations welcome.
URL:https://sibfordvillagehall.org.uk/event/private-event-51-8/
LOCATION:Small hall
END:VEVENT
BEGIN:VEVENT
DTSTART;TZID=Europe/London:20240816T093000
DTEND;TZID=Europe/London:20240816T123000
DTSTAMP:20260422T235733
CREATED:20240802T183011Z
LAST-MODIFIED:20240802T183011Z
UID:7553-1723800600-1723811400@sibfordvillagehall.org.uk
SUMMARY:Art Class
DESCRIPTION:For more information contact Nigel Fletcher nvfletcher@btinternet.com\, 07792 657 248 or visit www.nigelfletcher.co.uk
URL:https://sibfordvillagehall.org.uk/event/art-class-4-10/
LOCATION:Main hall
END:VEVENT
BEGIN:VEVENT
DTSTART;TZID=Europe/London:20240815T193000
DTEND;TZID=Europe/London:20240815T193000
DTSTAMP:20260422T235733
CREATED:20240722T183004Z
LAST-MODIFIED:20240722T183004Z
UID:7541-1723750200-1723750200@sibfordvillagehall.org.uk
SUMMARY:Sibfords History Society - Empress Matilda
DESCRIPTION:Marie-Louise Kerr will tell us about The woman who would be Queen: the life of  Empress Matilda and her connections with Oxfordshire. \nEmpress Matilda (1102 – 1167) was one of the claimants to the English throne during the civil war known as the Anarchy. The daughter and heir of King Henry I of England\, she went to Germany as a child when she was married to the future Holy Roman Emperor Henry V. She travelled with the emperor to Italy in 1116\, was controversially crowned empress in St Peter’s Basilica\, and acted as the imperial regent in Italy.
URL:https://sibfordvillagehall.org.uk/event/sibfords-history-society-empress-matilda-2/
LOCATION:Main hall
END:VEVENT
BEGIN:VEVENT
DTSTART;TZID=Europe/London:20240814T130000
DTEND;TZID=Europe/London:20240814T130000
DTSTAMP:20260422T235733
CREATED:20240131T183025Z
LAST-MODIFIED:20240131T183025Z
UID:6795-1723640400-1723640400@sibfordvillagehall.org.uk
SUMMARY:Sibford Lunch Club
DESCRIPTION:
URL:https://sibfordvillagehall.org.uk/event/sibford-lunch-club-13-32/
LOCATION:Main hall
END:VEVENT
END:VCALENDAR