BEGIN:VCALENDAR
VERSION:2.0
PRODID:-//Sibford Village Hall - ECPv6.15.20//NONSGML v1.0//EN
CALSCALE:GREGORIAN
METHOD:PUBLISH
X-WR-CALNAME:Sibford Village Hall
X-ORIGINAL-URL:https://sibfordvillagehall.org.uk
X-WR-CALDESC:Events for Sibford Village Hall
REFRESH-INTERVAL;VALUE=DURATION:PT1H
X-Robots-Tag:noindex
X-PUBLISHED-TTL:PT1H
BEGIN:VTIMEZONE
TZID:Europe/London
BEGIN:DAYLIGHT
TZOFFSETFROM:+0000
TZOFFSETTO:+0100
TZNAME:BST
DTSTART:20230326T010000
END:DAYLIGHT
BEGIN:STANDARD
TZOFFSETFROM:+0100
TZOFFSETTO:+0000
TZNAME:GMT
DTSTART:20231029T010000
END:STANDARD
BEGIN:DAYLIGHT
TZOFFSETFROM:+0000
TZOFFSETTO:+0100
TZNAME:BST
DTSTART:20240331T010000
END:DAYLIGHT
BEGIN:STANDARD
TZOFFSETFROM:+0100
TZOFFSETTO:+0000
TZNAME:GMT
DTSTART:20241027T010000
END:STANDARD
BEGIN:DAYLIGHT
TZOFFSETFROM:+0000
TZOFFSETTO:+0100
TZNAME:BST
DTSTART:20250330T010000
END:DAYLIGHT
BEGIN:STANDARD
TZOFFSETFROM:+0100
TZOFFSETTO:+0000
TZNAME:GMT
DTSTART:20251026T010000
END:STANDARD
END:VTIMEZONE
BEGIN:VEVENT
DTSTART;TZID=Europe/London:20240329T140000
DTEND;TZID=Europe/London:20240329T170000
DTSTAMP:20260421T231848
CREATED:20240210T183011Z
LAST-MODIFIED:20240210T183011Z
UID:6886-1711720800-1711731600@sibfordvillagehall.org.uk
SUMMARY:Easter Egg Hunt
DESCRIPTION:
URL:https://sibfordvillagehall.org.uk/event/easter-egg-hunt-3/
LOCATION:Main hall
END:VEVENT
BEGIN:VEVENT
DTSTART;TZID=Europe/London:20240329T093000
DTEND;TZID=Europe/London:20240329T123000
DTSTAMP:20260421T231848
CREATED:20240304T183036Z
LAST-MODIFIED:20240304T183036Z
UID:7075-1711704600-1711715400@sibfordvillagehall.org.uk
SUMMARY:Art Class
DESCRIPTION:For more information contact Nigel Fletcher nvfletcher@btinternet.com\, 07792 657 248 or visit www.nigelfletcher.co.uk
URL:https://sibfordvillagehall.org.uk/event/art-class-3-11/
LOCATION:Main hall
END:VEVENT
BEGIN:VEVENT
DTSTART;TZID=Europe/London:20240328T200000
DTEND;TZID=Europe/London:20240328T210000
DTSTAMP:20260421T231848
CREATED:20240326T183008Z
LAST-MODIFIED:20240326T183008Z
UID:7187-1711656000-1711659600@sibfordvillagehall.org.uk
SUMMARY:Private event
DESCRIPTION:
URL:https://sibfordvillagehall.org.uk/event/private-event-106/
LOCATION:Small hall
END:VEVENT
BEGIN:VEVENT
DTSTART;TZID=Europe/London:20240328T143000
DTEND;TZID=Europe/London:20240328T163000
DTSTAMP:20260421T231848
CREATED:20231219T183013Z
LAST-MODIFIED:20231219T183013Z
UID:6380-1711636200-1711643400@sibfordvillagehall.org.uk
SUMMARY:Warm Hub
DESCRIPTION:Free to attend as kindly sponsored by the Town Estate Charity \nRefreshments available as well as games \,crafts\, books\, puzzles. \nCome and socialise and keep warm in the small hall. \nContact Ginny on 01295 780 373 or ginnybennett@googlemail.com for more information. \nAll welcome!
URL:https://sibfordvillagehall.org.uk/event/private-event-35-11/
LOCATION:Small hall
END:VEVENT
BEGIN:VEVENT
DTSTART;TZID=Europe/London:20240328T090000
DTEND;TZID=Europe/London:20240328T110000
DTSTAMP:20260421T231848
CREATED:20240304T183035Z
LAST-MODIFIED:20240304T183035Z
UID:7074-1711616400-1711623600@sibfordvillagehall.org.uk
SUMMARY:Yoga
DESCRIPTION:For more information contact Juliette at juliette53@btinternet.com 
URL:https://sibfordvillagehall.org.uk/event/private-event-77-6/
LOCATION:Main hall
END:VEVENT
BEGIN:VEVENT
DTSTART;TZID=Europe/London:20240327T193000
DTEND;TZID=Europe/London:20240327T193000
DTSTAMP:20260421T231848
CREATED:20240304T183035Z
LAST-MODIFIED:20240304T183035Z
UID:7073-1711567800-1711567800@sibfordvillagehall.org.uk
SUMMARY:Film Night
DESCRIPTION:Anatomy of a Fall is a 2023 French legal drama thriller film directed by Justine Triet from a screenplay she co-wrote with Arthur Harari. It stars Sandra Hüller as a writer trying to prove her innocence in her husband’s death. It premiered at the 76th Cannes Film Festival on 21 May 2023\, where it won the Palme d’Or and the Palm Dog Award. \nWhen her husband Samuel is mysteriously found dead in the snow below their secluded chalet\, Sandra becomes the main suspect when the police begin to question whether he fell or was pushed. The trial soon becomes not just an investigation\, but a gripping psychological journey into the depths of Sandra and Samuel’s complicated marriage. With conflicting evidence and inconsistent testimony\, words are wielded like weapons and shocking truths come to light in this thrilling Palme d’Or winner.  \nDoors open at 7. Film starts at 7.30. Admission £3 pp. Refreshments available.
URL:https://sibfordvillagehall.org.uk/event/film-night-20/
LOCATION:Main hall
END:VEVENT
BEGIN:VEVENT
DTSTART;TZID=Europe/London:20240327T173000
DTEND;TZID=Europe/London:20240327T183000
DTSTAMP:20260421T231848
CREATED:20240219T183021Z
LAST-MODIFIED:20240219T183021Z
UID:6950-1711560600-1711564200@sibfordvillagehall.org.uk
SUMMARY:Drama & dance sessions for kids/teens
DESCRIPTION:
URL:https://sibfordvillagehall.org.uk/event/private-event-76-6/
LOCATION:Main hall
END:VEVENT
BEGIN:VEVENT
DTSTART;TZID=Europe/London:20240327T130000
DTEND;TZID=Europe/London:20240327T130000
DTSTAMP:20260421T231848
CREATED:20240131T183021Z
LAST-MODIFIED:20240131T183021Z
UID:6775-1711544400-1711544400@sibfordvillagehall.org.uk
SUMMARY:Sibford Lunch Club
DESCRIPTION:
URL:https://sibfordvillagehall.org.uk/event/sibford-lunch-club-13-12/
LOCATION:Main hall
END:VEVENT
BEGIN:VEVENT
DTSTART;TZID=Europe/London:20240326T193000
DTEND;TZID=Europe/London:20240326T213000
DTSTAMP:20260421T231848
CREATED:20240304T183035Z
LAST-MODIFIED:20240304T183035Z
UID:7072-1711481400-1711488600@sibfordvillagehall.org.uk
SUMMARY:Sibford Photography Club
DESCRIPTION:
URL:https://sibfordvillagehall.org.uk/event/sibford-photography-club-26-2/
LOCATION:Small hall
END:VEVENT
BEGIN:VEVENT
DTSTART;TZID=Europe/London:20240325T193000
DTEND;TZID=Europe/London:20240325T210000
DTSTAMP:20260421T231848
CREATED:20240303T183023Z
LAST-MODIFIED:20240303T183023Z
UID:7026-1711395000-1711400400@sibfordvillagehall.org.uk
SUMMARY:Private event
DESCRIPTION:
URL:https://sibfordvillagehall.org.uk/event/private-event-99-4/
LOCATION:Small hall
END:VEVENT
BEGIN:VEVENT
DTSTART;TZID=Europe/London:20240325T183000
DTEND;TZID=Europe/London:20240325T193000
DTSTAMP:20260421T231848
CREATED:20240213T183017Z
LAST-MODIFIED:20240213T183017Z
UID:6898-1711391400-1711395000@sibfordvillagehall.org.uk
SUMMARY:Private event
DESCRIPTION:
URL:https://sibfordvillagehall.org.uk/event/private-event-79-3/
LOCATION:Main hall
END:VEVENT
BEGIN:VEVENT
DTSTART;TZID=Europe/London:20240323T110000
DTEND;TZID=Europe/London:20240323T123000
DTSTAMP:20260421T231848
CREATED:20240129T183013Z
LAST-MODIFIED:20240129T183013Z
UID:6755-1711191600-1711197000@sibfordvillagehall.org.uk
SUMMARY:The Second Deadly Sin
DESCRIPTION:A treat is in store for all book lovers. Historical fiction author Caroline Newark will be returning to Sibford Village Hall with more stories of her famous and not-so-famous ancestors. \nThis time her talk is entitled “The Second Deadly Sin”. If you can’t remember your deadly sins\, the second is the one about greed\, wanting to have more than you’re entitled to\, wanting to live the fairytale. There are women in Caroline’s family tree who most definitely want to “have it all” but if you remember those childhood stories from long ago\, you’ll know there were big bad wolves lurking in the woods and a clock about to strike midnight so not everything ends well. \nCaroline has promised to bring copies of all her books with her so if you missed them last time you will have another opportunity to buy copies at a special discounted rate.
URL:https://sibfordvillagehall.org.uk/event/talk-by-author-caroli/
LOCATION:Main hall
END:VEVENT
BEGIN:VEVENT
DTSTART;TZID=Europe/London:20240323T100000
DTEND;TZID=Europe/London:20240323T120000
DTSTAMP:20260421T231848
CREATED:20240317T183011Z
LAST-MODIFIED:20240317T183011Z
UID:7159-1711188000-1711195200@sibfordvillagehall.org.uk
SUMMARY:Book Swap and Café
DESCRIPTION:Welcome to our monthly chance to have coffee/cake and a chat. Browse our large selection of books and borrow any you like. No need to bring a book to swap. No charge. Donations welcome.
URL:https://sibfordvillagehall.org.uk/event/private-event-51-3/
LOCATION:Small hall
END:VEVENT
BEGIN:VEVENT
DTSTART;TZID=Europe/London:20240323T090000
DTEND;TZID=Europe/London:20240323T100000
DTSTAMP:20260421T231848
CREATED:20240219T183020Z
LAST-MODIFIED:20240219T183020Z
UID:6948-1711184400-1711188000@sibfordvillagehall.org.uk
SUMMARY:Karate class
DESCRIPTION:
URL:https://sibfordvillagehall.org.uk/event/private-event-78-4/
LOCATION:Main hall
END:VEVENT
BEGIN:VEVENT
DTSTART;TZID=Europe/London:20240322T160000
DTEND;TZID=Europe/London:20240322T190000
DTSTAMP:20260421T231848
CREATED:20240214T183009Z
LAST-MODIFIED:20240214T183009Z
UID:6904-1711123200-1711134000@sibfordvillagehall.org.uk
SUMMARY:Private event
DESCRIPTION:
URL:https://sibfordvillagehall.org.uk/event/private-event-82-3/
LOCATION:Main hall
END:VEVENT
BEGIN:VEVENT
DTSTART;TZID=Europe/London:20240322T093000
DTEND;TZID=Europe/London:20240322T123000
DTSTAMP:20260421T231848
CREATED:20240304T183035Z
LAST-MODIFIED:20240304T183035Z
UID:7071-1711099800-1711110600@sibfordvillagehall.org.uk
SUMMARY:Art Class
DESCRIPTION:For more information contact Nigel Fletcher nvfletcher@btinternet.com\, 07792 657 248 or visit www.nigelfletcher.co.uk
URL:https://sibfordvillagehall.org.uk/event/art-class-3-10/
LOCATION:Main hall
END:VEVENT
BEGIN:VEVENT
DTSTART;TZID=Europe/London:20240322T093000
DTEND;TZID=Europe/London:20240322T113000
DTSTAMP:20260421T231848
CREATED:20240221T183011Z
LAST-MODIFIED:20240221T183011Z
UID:6978-1711099800-1711107000@sibfordvillagehall.org.uk
SUMMARY:Private event
DESCRIPTION:
URL:https://sibfordvillagehall.org.uk/event/private-event-88-5/
LOCATION:Small hall
END:VEVENT
BEGIN:VEVENT
DTSTART;TZID=Europe/London:20240321T190000
DTEND;TZID=Europe/London:20240321T190000
DTSTAMP:20260421T231848
CREATED:20240317T183011Z
LAST-MODIFIED:20240317T183011Z
UID:7158-1711047600-1711047600@sibfordvillagehall.org.uk
SUMMARY:Sibfords History Society - The Light of the World
DESCRIPTION:Our speaker Lizzy Rowe’s subject is Keble College and The Light of the World by Holman Hunt. \nLizzy looks at the origins of Keble College and tells some of the fascinating stories about its early days\, focusing in particular on The Light of the World\, the famous painting by William Holman Hunt that hangs in its Chapel. \nLizzy Rowe is an art historian who studied at the Courtauld Institute in London before joining English Heritage as a guidebook editor. She currently lives in Oxford where she teaches Art History in primary schools\, as well as giving guided tours and talks. \nStarting at 7pm\, a little earlier than usual\, for the Society’s Annual General Meeting before the talk. \nDoors open at 6.45pm. Free to paid-up members\, visitors £5. Refreshments follow the talk.
URL:https://sibfordvillagehall.org.uk/event/sibfords-history-society-the-light-of-the-world/
LOCATION:Main hall
END:VEVENT
BEGIN:VEVENT
DTSTART;TZID=Europe/London:20240321T143000
DTEND;TZID=Europe/London:20240321T163000
DTSTAMP:20260421T231848
CREATED:20231219T183012Z
LAST-MODIFIED:20231219T183012Z
UID:6378-1711031400-1711038600@sibfordvillagehall.org.uk
SUMMARY:Warm Hub
DESCRIPTION:Free to attend as kindly sponsored by the Town Estate Charity \nRefreshments available as well as games \,crafts\, books\, puzzles. \nCome and socialise and keep warm in the small hall. \nContact Ginny on 01295 780 373 or ginnybennett@googlemail.com for more information. \nAll welcome!
URL:https://sibfordvillagehall.org.uk/event/private-event-35-10/
LOCATION:Small hall
END:VEVENT
BEGIN:VEVENT
DTSTART;TZID=Europe/London:20240321T090000
DTEND;TZID=Europe/London:20240321T110000
DTSTAMP:20260421T231848
CREATED:20240304T183034Z
LAST-MODIFIED:20240304T183034Z
UID:7070-1711011600-1711018800@sibfordvillagehall.org.uk
SUMMARY:Yoga
DESCRIPTION:For more information contact Juliette at juliette53@btinternet.com 
URL:https://sibfordvillagehall.org.uk/event/private-event-77-5/
LOCATION:Main hall
END:VEVENT
BEGIN:VEVENT
DTSTART;TZID=Europe/London:20240320T173000
DTEND;TZID=Europe/London:20240320T183000
DTSTAMP:20260421T231848
CREATED:20240219T183020Z
LAST-MODIFIED:20240219T183020Z
UID:6946-1710955800-1710959400@sibfordvillagehall.org.uk
SUMMARY:Drama & dance sessions for kids/teens
DESCRIPTION:
URL:https://sibfordvillagehall.org.uk/event/private-event-76-5/
LOCATION:Main hall
END:VEVENT
BEGIN:VEVENT
DTSTART;TZID=Europe/London:20240320T163000
DTEND;TZID=Europe/London:20240320T173000
DTSTAMP:20260421T231848
CREATED:20240311T183007Z
LAST-MODIFIED:20240311T183007Z
UID:7149-1710952200-1710955800@sibfordvillagehall.org.uk
SUMMARY:Private event
DESCRIPTION:
URL:https://sibfordvillagehall.org.uk/event/private-event-101-2/
LOCATION:Small hall
END:VEVENT
BEGIN:VEVENT
DTSTART;TZID=Europe/London:20240320T130000
DTEND;TZID=Europe/London:20240320T130000
DTSTAMP:20260421T231848
CREATED:20240131T183021Z
LAST-MODIFIED:20240131T183021Z
UID:6774-1710939600-1710939600@sibfordvillagehall.org.uk
SUMMARY:Sibford Lunch Club
DESCRIPTION:
URL:https://sibfordvillagehall.org.uk/event/sibford-lunch-club-13-11/
LOCATION:Main hall
END:VEVENT
BEGIN:VEVENT
DTSTART;TZID=Europe/London:20240319T190000
DTEND;TZID=Europe/London:20240319T203000
DTSTAMP:20260421T231848
CREATED:20240315T183011Z
LAST-MODIFIED:20240315T183011Z
UID:7153-1710874800-1710880200@sibfordvillagehall.org.uk
SUMMARY:Sibford Gower Parish Council Meeting
DESCRIPTION:SGPC Agenda 19.03.24 \nSibford Burial Ground-REGULATIONS-Updated Jan 2024
URL:https://sibfordvillagehall.org.uk/event/parish-council-meetin-4/
LOCATION:Small hall
END:VEVENT
BEGIN:VEVENT
DTSTART;TZID=Europe/London:20240318T193000
DTEND;TZID=Europe/London:20240318T210000
DTSTAMP:20260421T231848
CREATED:20240303T183023Z
LAST-MODIFIED:20240303T183023Z
UID:7024-1710790200-1710795600@sibfordvillagehall.org.uk
SUMMARY:Private event
DESCRIPTION:
URL:https://sibfordvillagehall.org.uk/event/private-event-99-3/
LOCATION:Small hall
END:VEVENT
BEGIN:VEVENT
DTSTART;TZID=Europe/London:20240318T183000
DTEND;TZID=Europe/London:20240318T220000
DTSTAMP:20260421T231848
CREATED:20240213T183017Z
LAST-MODIFIED:20240213T183017Z
UID:6895-1710786600-1710799200@sibfordvillagehall.org.uk
SUMMARY:Private event
DESCRIPTION:
URL:https://sibfordvillagehall.org.uk/event/private-event-80/
LOCATION:Main hall
END:VEVENT
BEGIN:VEVENT
DTSTART;TZID=Europe/London:20240318T183000
DTEND;TZID=Europe/London:20240318T193000
DTSTAMP:20260421T231848
CREATED:20240213T183017Z
LAST-MODIFIED:20240213T183017Z
UID:6896-1710786600-1710790200@sibfordvillagehall.org.uk
SUMMARY:Private event
DESCRIPTION:
URL:https://sibfordvillagehall.org.uk/event/private-event-81/
LOCATION:Small hall
END:VEVENT
BEGIN:VEVENT
DTSTART;TZID=Europe/London:20240316T090000
DTEND;TZID=Europe/London:20240316T100000
DTSTAMP:20260421T231848
CREATED:20240219T183020Z
LAST-MODIFIED:20240219T183020Z
UID:6945-1710579600-1710583200@sibfordvillagehall.org.uk
SUMMARY:Karate class
DESCRIPTION:
URL:https://sibfordvillagehall.org.uk/event/private-event-78-3/
LOCATION:Main hall
END:VEVENT
BEGIN:VEVENT
DTSTART;TZID=Europe/London:20240315T160000
DTEND;TZID=Europe/London:20240315T190000
DTSTAMP:20260421T231848
CREATED:20240214T183008Z
LAST-MODIFIED:20240214T183008Z
UID:6903-1710518400-1710529200@sibfordvillagehall.org.uk
SUMMARY:Private event
DESCRIPTION:
URL:https://sibfordvillagehall.org.uk/event/private-event-82-2/
LOCATION:Main hall
END:VEVENT
BEGIN:VEVENT
DTSTART;TZID=Europe/London:20240315T093000
DTEND;TZID=Europe/London:20240315T113000
DTSTAMP:20260421T231848
CREATED:20240221T183011Z
LAST-MODIFIED:20240221T183011Z
UID:6977-1710495000-1710502200@sibfordvillagehall.org.uk
SUMMARY:Private event
DESCRIPTION:
URL:https://sibfordvillagehall.org.uk/event/private-event-88-4/
LOCATION:Small hall
END:VEVENT
END:VCALENDAR