BEGIN:VCALENDAR
VERSION:2.0
PRODID:-//Sibford Village Hall - ECPv6.15.20//NONSGML v1.0//EN
CALSCALE:GREGORIAN
METHOD:PUBLISH
X-ORIGINAL-URL:https://sibfordvillagehall.org.uk
X-WR-CALDESC:Events for Sibford Village Hall
REFRESH-INTERVAL;VALUE=DURATION:PT1H
X-Robots-Tag:noindex
X-PUBLISHED-TTL:PT1H
BEGIN:VTIMEZONE
TZID:Europe/London
BEGIN:DAYLIGHT
TZOFFSETFROM:+0000
TZOFFSETTO:+0100
TZNAME:BST
DTSTART:20240331T010000
END:DAYLIGHT
BEGIN:STANDARD
TZOFFSETFROM:+0100
TZOFFSETTO:+0000
TZNAME:GMT
DTSTART:20241027T010000
END:STANDARD
BEGIN:DAYLIGHT
TZOFFSETFROM:+0000
TZOFFSETTO:+0100
TZNAME:BST
DTSTART:20250330T010000
END:DAYLIGHT
BEGIN:STANDARD
TZOFFSETFROM:+0100
TZOFFSETTO:+0000
TZNAME:GMT
DTSTART:20251026T010000
END:STANDARD
BEGIN:DAYLIGHT
TZOFFSETFROM:+0000
TZOFFSETTO:+0100
TZNAME:BST
DTSTART:20260329T010000
END:DAYLIGHT
BEGIN:STANDARD
TZOFFSETFROM:+0100
TZOFFSETTO:+0000
TZNAME:GMT
DTSTART:20261025T010000
END:STANDARD
END:VTIMEZONE
BEGIN:VEVENT
DTSTART;TZID=Europe/London:20250725T093000
DTEND;TZID=Europe/London:20250725T123000
DTSTAMP:20260420T091221
CREATED:20250620T182707Z
LAST-MODIFIED:20250620T182707Z
UID:9219-1753435800-1753446600@sibfordvillagehall.org.uk
SUMMARY:Sibford Painters Art Class
DESCRIPTION:
URL:https://sibfordvillagehall.org.uk/event/sibford-painters-art-12/
LOCATION:Main hall
END:VEVENT
BEGIN:VEVENT
DTSTART;TZID=Europe/London:20250725T140000
DTEND;TZID=Europe/London:20250725T150000
DTSTAMP:20260420T091221
CREATED:20250720T182806Z
LAST-MODIFIED:20250720T182806Z
UID:9483-1753452000-1753455600@sibfordvillagehall.org.uk
SUMMARY:Sibford Gower Parish Council Extraordinary Meeting
DESCRIPTION:This meeting is solely to appoint Kirsty Buttle as Clerk and Responsible Financial Officer (RFO). \nThe next normal meeting of the Parish Council will be held on 3rd September.  We look forward to seeing you there. \nAgenda: Sibford Gower Parish Council July25th
URL:https://sibfordvillagehall.org.uk/event/pe-156/
LOCATION:Small hall
END:VEVENT
END:VCALENDAR