BEGIN:VCALENDAR
VERSION:2.0
PRODID:-//Sibford Village Hall - ECPv6.15.20//NONSGML v1.0//EN
CALSCALE:GREGORIAN
METHOD:PUBLISH
X-ORIGINAL-URL:https://sibfordvillagehall.org.uk
X-WR-CALDESC:Events for Sibford Village Hall
REFRESH-INTERVAL;VALUE=DURATION:PT1H
X-Robots-Tag:noindex
X-PUBLISHED-TTL:PT1H
BEGIN:VTIMEZONE
TZID:Europe/London
BEGIN:DAYLIGHT
TZOFFSETFROM:+0000
TZOFFSETTO:+0100
TZNAME:BST
DTSTART:20230326T010000
END:DAYLIGHT
BEGIN:STANDARD
TZOFFSETFROM:+0100
TZOFFSETTO:+0000
TZNAME:GMT
DTSTART:20231029T010000
END:STANDARD
BEGIN:DAYLIGHT
TZOFFSETFROM:+0000
TZOFFSETTO:+0100
TZNAME:BST
DTSTART:20240331T010000
END:DAYLIGHT
BEGIN:STANDARD
TZOFFSETFROM:+0100
TZOFFSETTO:+0000
TZNAME:GMT
DTSTART:20241027T010000
END:STANDARD
BEGIN:DAYLIGHT
TZOFFSETFROM:+0000
TZOFFSETTO:+0100
TZNAME:BST
DTSTART:20250330T010000
END:DAYLIGHT
BEGIN:STANDARD
TZOFFSETFROM:+0100
TZOFFSETTO:+0000
TZNAME:GMT
DTSTART:20251026T010000
END:STANDARD
END:VTIMEZONE
BEGIN:VEVENT
DTSTART;TZID=Europe/London:20240731T130000
DTEND;TZID=Europe/London:20240731T130000
DTSTAMP:20260422T021117
CREATED:20240131T183024Z
LAST-MODIFIED:20240131T183024Z
UID:6793-1722430800-1722430800@sibfordvillagehall.org.uk
SUMMARY:Sibford Lunch Club
DESCRIPTION:
URL:https://sibfordvillagehall.org.uk/event/sibford-lunch-club-13-30/
LOCATION:Main hall
END:VEVENT
BEGIN:VEVENT
DTSTART;TZID=Europe/London:20240731T193000
DTEND;TZID=Europe/London:20240731T193000
DTSTAMP:20260422T021117
CREATED:20240702T183005Z
LAST-MODIFIED:20240702T183005Z
UID:7478-1722454200-1722454200@sibfordvillagehall.org.uk
SUMMARY:Film Night
DESCRIPTION:Perfect Days is a luminous reflection on the beauty found in everyday life. Winner of the Best Actor award at the 2023 Cannes Film Festival\, Koji Yakusho stars as Hirayama\, a contemplative middle-aged man who lives a life of modesty and serenity\, spending his days balancing his job as a dutiful caretaker of Tokyo’s numerous public toilets with his passion for music\, literature and photography. As we join him on his structured daily routine\, a series of unexpected encounters gradually begin to reveal a hidden past that lies behind his otherwise content and harmonious life. \nFeaturing an unforgettable soundtrack of classic Rock and pop\, this is a tender\, shimmering and ultimately life-affirming marvel. \nNominated for Best International Film at the 96th Academy Awards. Review Rotten Tomatoes 96% \nDoors open at 7. Film starts at 7.30. Admission £3 pp. Refreshments available.
URL:https://sibfordvillagehall.org.uk/event/film-night-perfect-days/
LOCATION:Main hall
END:VEVENT
END:VCALENDAR