BEGIN:VCALENDAR
VERSION:2.0
PRODID:-//Sibford Village Hall - ECPv6.15.20//NONSGML v1.0//EN
CALSCALE:GREGORIAN
METHOD:PUBLISH
X-ORIGINAL-URL:https://sibfordvillagehall.org.uk
X-WR-CALDESC:Events for Sibford Village Hall
REFRESH-INTERVAL;VALUE=DURATION:PT1H
X-Robots-Tag:noindex
X-PUBLISHED-TTL:PT1H
BEGIN:VTIMEZONE
TZID:Europe/London
BEGIN:DAYLIGHT
TZOFFSETFROM:+0000
TZOFFSETTO:+0100
TZNAME:BST
DTSTART:20230326T010000
END:DAYLIGHT
BEGIN:STANDARD
TZOFFSETFROM:+0100
TZOFFSETTO:+0000
TZNAME:GMT
DTSTART:20231029T010000
END:STANDARD
BEGIN:DAYLIGHT
TZOFFSETFROM:+0000
TZOFFSETTO:+0100
TZNAME:BST
DTSTART:20240331T010000
END:DAYLIGHT
BEGIN:STANDARD
TZOFFSETFROM:+0100
TZOFFSETTO:+0000
TZNAME:GMT
DTSTART:20241027T010000
END:STANDARD
BEGIN:DAYLIGHT
TZOFFSETFROM:+0000
TZOFFSETTO:+0100
TZNAME:BST
DTSTART:20250330T010000
END:DAYLIGHT
BEGIN:STANDARD
TZOFFSETFROM:+0100
TZOFFSETTO:+0000
TZNAME:GMT
DTSTART:20251026T010000
END:STANDARD
END:VTIMEZONE
BEGIN:VEVENT
DTSTART;TZID=Europe/London:20240704T070000
DTEND;TZID=Europe/London:20240704T220000
DTSTAMP:20260422T021107
CREATED:20240703T183004Z
LAST-MODIFIED:20240703T183004Z
UID:7480-1720076400-1720130400@sibfordvillagehall.org.uk
SUMMARY:Polling Station
DESCRIPTION:Voter ID\nDon’t forget that you will need some form of photographic identification in order to vote. For a list of acceptable forms of ID\, visit https://www.cherwell.gov.uk/info/11/elections/1041/voter-id
URL:https://sibfordvillagehall.org.uk/event/polling-station-3/
LOCATION:Small hall
END:VEVENT
BEGIN:VEVENT
DTSTART;TZID=Europe/London:20240704T080000
DTEND;TZID=Europe/London:20240704T223000
DTSTAMP:20260422T021107
CREATED:20240704T183002Z
LAST-MODIFIED:20240704T183002Z
UID:7482-1720080000-1720132200@sibfordvillagehall.org.uk
SUMMARY:Polling Station
DESCRIPTION:
URL:https://sibfordvillagehall.org.uk/event/polling-station-4/
LOCATION:Small hall
END:VEVENT
END:VCALENDAR