BEGIN:VCALENDAR
VERSION:2.0
PRODID:-//Sibford Village Hall - ECPv6.15.20//NONSGML v1.0//EN
CALSCALE:GREGORIAN
METHOD:PUBLISH
X-ORIGINAL-URL:https://sibfordvillagehall.org.uk
X-WR-CALDESC:Events for Sibford Village Hall
REFRESH-INTERVAL;VALUE=DURATION:PT1H
X-Robots-Tag:noindex
X-PUBLISHED-TTL:PT1H
BEGIN:VTIMEZONE
TZID:Europe/London
BEGIN:DAYLIGHT
TZOFFSETFROM:+0000
TZOFFSETTO:+0100
TZNAME:BST
DTSTART:20230326T010000
END:DAYLIGHT
BEGIN:STANDARD
TZOFFSETFROM:+0100
TZOFFSETTO:+0000
TZNAME:GMT
DTSTART:20231029T010000
END:STANDARD
BEGIN:DAYLIGHT
TZOFFSETFROM:+0000
TZOFFSETTO:+0100
TZNAME:BST
DTSTART:20240331T010000
END:DAYLIGHT
BEGIN:STANDARD
TZOFFSETFROM:+0100
TZOFFSETTO:+0000
TZNAME:GMT
DTSTART:20241027T010000
END:STANDARD
BEGIN:DAYLIGHT
TZOFFSETFROM:+0000
TZOFFSETTO:+0100
TZNAME:BST
DTSTART:20250330T010000
END:DAYLIGHT
BEGIN:STANDARD
TZOFFSETFROM:+0100
TZOFFSETTO:+0000
TZNAME:GMT
DTSTART:20251026T010000
END:STANDARD
END:VTIMEZONE
BEGIN:VEVENT
DTSTART;TZID=Europe/London:20240620T090000
DTEND;TZID=Europe/London:20240620T090000
DTSTAMP:20260422T004414
CREATED:20240606T183015Z
LAST-MODIFIED:20240606T183015Z
UID:7410-1718874000-1718874000@sibfordvillagehall.org.uk
SUMMARY:Yoga
DESCRIPTION:9am – 10am Yoga \n10.15am – 11.15am Chair yoga \nFor more information\, contact Juliette Glazebrook: juliette53@btinternet.com or 07703 836 856
URL:https://sibfordvillagehall.org.uk/event/private-event-131-3/
LOCATION:Main hall
END:VEVENT
BEGIN:VEVENT
DTSTART;TZID=Europe/London:20240620T193000
DTEND;TZID=Europe/London:20240620T193000
DTSTAMP:20260422T004414
CREATED:20240603T183005Z
LAST-MODIFIED:20240603T183005Z
UID:7401-1718911800-1718911800@sibfordvillagehall.org.uk
SUMMARY:Sibfords History Society - 1346 Crécy
DESCRIPTION:Our ever popular speaker Gillian White will speak on The Battle of Crécy\, which took place on 26 August 1346 in northern France between a French army commanded by King PhilipVI and an English army led by King Edward III. The French attacked the English while they were traversing northern France during the Hundred Years’ War\, resulting in an English victory and heavy loss of life among the French.
URL:https://sibfordvillagehall.org.uk/event/sibfords-history-society-1346-crecy/
LOCATION:Main hall
END:VEVENT
END:VCALENDAR