BEGIN:VCALENDAR
VERSION:2.0
PRODID:-//Sibford Village Hall - ECPv6.15.20//NONSGML v1.0//EN
CALSCALE:GREGORIAN
METHOD:PUBLISH
X-ORIGINAL-URL:https://sibfordvillagehall.org.uk
X-WR-CALDESC:Events for Sibford Village Hall
REFRESH-INTERVAL;VALUE=DURATION:PT1H
X-Robots-Tag:noindex
X-PUBLISHED-TTL:PT1H
BEGIN:VTIMEZONE
TZID:Europe/London
BEGIN:DAYLIGHT
TZOFFSETFROM:+0000
TZOFFSETTO:+0100
TZNAME:BST
DTSTART:20230326T010000
END:DAYLIGHT
BEGIN:STANDARD
TZOFFSETFROM:+0100
TZOFFSETTO:+0000
TZNAME:GMT
DTSTART:20231029T010000
END:STANDARD
BEGIN:DAYLIGHT
TZOFFSETFROM:+0000
TZOFFSETTO:+0100
TZNAME:BST
DTSTART:20240331T010000
END:DAYLIGHT
BEGIN:STANDARD
TZOFFSETFROM:+0100
TZOFFSETTO:+0000
TZNAME:GMT
DTSTART:20241027T010000
END:STANDARD
BEGIN:DAYLIGHT
TZOFFSETFROM:+0000
TZOFFSETTO:+0100
TZNAME:BST
DTSTART:20250330T010000
END:DAYLIGHT
BEGIN:STANDARD
TZOFFSETFROM:+0100
TZOFFSETTO:+0000
TZNAME:GMT
DTSTART:20251026T010000
END:STANDARD
END:VTIMEZONE
BEGIN:VEVENT
DTSTART;TZID=Europe/London:20240607T093000
DTEND;TZID=Europe/London:20240607T113000
DTSTAMP:20260422T004416
CREATED:20240413T183008Z
LAST-MODIFIED:20240413T183008Z
UID:7256-1717752600-1717759800@sibfordvillagehall.org.uk
SUMMARY:Tots and babes
DESCRIPTION:
URL:https://sibfordvillagehall.org.uk/event/tots-and-babes-6/
LOCATION:Small hall
END:VEVENT
BEGIN:VEVENT
DTSTART;TZID=Europe/London:20240607T093000
DTEND;TZID=Europe/London:20240607T123000
DTSTAMP:20260422T004416
CREATED:20240607T183022Z
LAST-MODIFIED:20240607T183022Z
UID:7421-1717752600-1717763400@sibfordvillagehall.org.uk
SUMMARY:Art Class
DESCRIPTION:For more information contact Nigel Fletcher nvfletcher@btinternet.com\, 07792 657 248 or visit www.nigelfletcher.co.uk
URL:https://sibfordvillagehall.org.uk/event/art-class-4-4/
LOCATION:Main hall
END:VEVENT
BEGIN:VEVENT
DTSTART;TZID=Europe/London:20240607T160000
DTEND;TZID=Europe/London:20240607T190000
DTSTAMP:20260422T004416
CREATED:20240606T183013Z
LAST-MODIFIED:20240606T183013Z
UID:7405-1717776000-1717786800@sibfordvillagehall.org.uk
SUMMARY:Private event
DESCRIPTION:
URL:https://sibfordvillagehall.org.uk/event/private-event-137/
LOCATION:Main hall
END:VEVENT
BEGIN:VEVENT
DTSTART;TZID=Europe/London:20240607T173000
DTEND;TZID=Europe/London:20240607T190000
DTSTAMP:20260422T004416
CREATED:20240606T183013Z
LAST-MODIFIED:20240606T183013Z
UID:7406-1717781400-1717786800@sibfordvillagehall.org.uk
SUMMARY:Private event
DESCRIPTION:
URL:https://sibfordvillagehall.org.uk/event/private-event-138/
LOCATION:Small hall
END:VEVENT
END:VCALENDAR