BEGIN:VCALENDAR
VERSION:2.0
PRODID:-//Sibford Village Hall - ECPv6.15.20//NONSGML v1.0//EN
CALSCALE:GREGORIAN
METHOD:PUBLISH
X-ORIGINAL-URL:https://sibfordvillagehall.org.uk
X-WR-CALDESC:Events for Sibford Village Hall
REFRESH-INTERVAL;VALUE=DURATION:PT1H
X-Robots-Tag:noindex
X-PUBLISHED-TTL:PT1H
BEGIN:VTIMEZONE
TZID:Europe/London
BEGIN:DAYLIGHT
TZOFFSETFROM:+0000
TZOFFSETTO:+0100
TZNAME:BST
DTSTART:20230326T010000
END:DAYLIGHT
BEGIN:STANDARD
TZOFFSETFROM:+0100
TZOFFSETTO:+0000
TZNAME:GMT
DTSTART:20231029T010000
END:STANDARD
BEGIN:DAYLIGHT
TZOFFSETFROM:+0000
TZOFFSETTO:+0100
TZNAME:BST
DTSTART:20240331T010000
END:DAYLIGHT
BEGIN:STANDARD
TZOFFSETFROM:+0100
TZOFFSETTO:+0000
TZNAME:GMT
DTSTART:20241027T010000
END:STANDARD
BEGIN:DAYLIGHT
TZOFFSETFROM:+0000
TZOFFSETTO:+0100
TZNAME:BST
DTSTART:20250330T010000
END:DAYLIGHT
BEGIN:STANDARD
TZOFFSETFROM:+0100
TZOFFSETTO:+0000
TZNAME:GMT
DTSTART:20251026T010000
END:STANDARD
END:VTIMEZONE
BEGIN:VEVENT
DTSTART;TZID=Europe/London:20240606T090000
DTEND;TZID=Europe/London:20240606T090000
DTSTAMP:20260422T004416
CREATED:20240606T183011Z
LAST-MODIFIED:20240606T183011Z
UID:7403-1717664400-1717664400@sibfordvillagehall.org.uk
SUMMARY:Yoga
DESCRIPTION:9am – 10am Yoga \n10.15am – 11.15am Chair yoga \nFor more information\, contact Juliette Glazebrook: juliette53@btinternet.com or 07703 836 856
URL:https://sibfordvillagehall.org.uk/event/private-event-131/
LOCATION:Main hall
END:VEVENT
BEGIN:VEVENT
DTSTART;TZID=Europe/London:20240606T183000
DTEND;TZID=Europe/London:20240606T183000
DTSTAMP:20260422T004416
CREATED:20240606T183012Z
LAST-MODIFIED:20240606T183012Z
UID:7404-1717698600-1717698600@sibfordvillagehall.org.uk
SUMMARY:Celebrate D-Day 80th Anniversary
DESCRIPTION:Sibford will celebrate this historic occasion along with the rest of the country. \n6.30pm: Doors open for free admission and refreshments \n7pm: The BBC documentary film D-Day 06-06-44 on the big screen \n9.15pm: Lighting of the Sibford Beacon in the village hall field\, as part of the National Beacon lighting programme
URL:https://sibfordvillagehall.org.uk/event/d-day-80th-anniversary/
LOCATION:Main hall
END:VEVENT
END:VCALENDAR