BEGIN:VCALENDAR
VERSION:2.0
PRODID:-//Sibford Village Hall - ECPv6.15.20//NONSGML v1.0//EN
CALSCALE:GREGORIAN
METHOD:PUBLISH
X-ORIGINAL-URL:https://sibfordvillagehall.org.uk
X-WR-CALDESC:Events for Sibford Village Hall
REFRESH-INTERVAL;VALUE=DURATION:PT1H
X-Robots-Tag:noindex
X-PUBLISHED-TTL:PT1H
BEGIN:VTIMEZONE
TZID:Europe/London
BEGIN:DAYLIGHT
TZOFFSETFROM:+0000
TZOFFSETTO:+0100
TZNAME:BST
DTSTART:20230326T010000
END:DAYLIGHT
BEGIN:STANDARD
TZOFFSETFROM:+0100
TZOFFSETTO:+0000
TZNAME:GMT
DTSTART:20231029T010000
END:STANDARD
BEGIN:DAYLIGHT
TZOFFSETFROM:+0000
TZOFFSETTO:+0100
TZNAME:BST
DTSTART:20240331T010000
END:DAYLIGHT
BEGIN:STANDARD
TZOFFSETFROM:+0100
TZOFFSETTO:+0000
TZNAME:GMT
DTSTART:20241027T010000
END:STANDARD
BEGIN:DAYLIGHT
TZOFFSETFROM:+0000
TZOFFSETTO:+0100
TZNAME:BST
DTSTART:20250330T010000
END:DAYLIGHT
BEGIN:STANDARD
TZOFFSETFROM:+0100
TZOFFSETTO:+0000
TZNAME:GMT
DTSTART:20251026T010000
END:STANDARD
END:VTIMEZONE
BEGIN:VEVENT
DTSTART;TZID=Europe/London:20240516T090000
DTEND;TZID=Europe/London:20240516T110000
DTSTAMP:20260421T231036
CREATED:20240411T183007Z
LAST-MODIFIED:20240411T183007Z
UID:7250-1715850000-1715857200@sibfordvillagehall.org.uk
SUMMARY:Private event
DESCRIPTION:
URL:https://sibfordvillagehall.org.uk/event/private-event-112-5/
LOCATION:Main hall
END:VEVENT
BEGIN:VEVENT
DTSTART;TZID=Europe/London:20240516T193000
DTEND;TZID=Europe/London:20240516T193000
DTSTAMP:20260421T231036
CREATED:20240317T183012Z
LAST-MODIFIED:20240317T183012Z
UID:7162-1715887800-1715887800@sibfordvillagehall.org.uk
SUMMARY:Sibfords History Society - Dad's Underground Army
DESCRIPTION:Bill King gave us a very informative talk last year about the wartime mystery of Glen Miller\, and is back tonight for an informative\, entertaining and gripping talk about Dad’s Underground Army\, the Auxilliary Units. These were part of the precautions taken during WW2 if the German invasion had taken place. Bill has had a 35-year interest in this secret organisation. All members had been bound by the Official Secrets Act\, and therefore never spoke about it. \nDoors open at 7.15pm. Free to paid-up members\, visitors £5. Refreshments follow the talk.
URL:https://sibfordvillagehall.org.uk/event/sibfords-history-society-dads-underground-army/
LOCATION:Main hall
END:VEVENT
END:VCALENDAR