BEGIN:VCALENDAR
VERSION:2.0
PRODID:-//Sibford Village Hall - ECPv6.15.20//NONSGML v1.0//EN
CALSCALE:GREGORIAN
METHOD:PUBLISH
X-ORIGINAL-URL:https://sibfordvillagehall.org.uk
X-WR-CALDESC:Events for Sibford Village Hall
REFRESH-INTERVAL;VALUE=DURATION:PT1H
X-Robots-Tag:noindex
X-PUBLISHED-TTL:PT1H
BEGIN:VTIMEZONE
TZID:Europe/London
BEGIN:DAYLIGHT
TZOFFSETFROM:+0000
TZOFFSETTO:+0100
TZNAME:BST
DTSTART:20230326T010000
END:DAYLIGHT
BEGIN:STANDARD
TZOFFSETFROM:+0100
TZOFFSETTO:+0000
TZNAME:GMT
DTSTART:20231029T010000
END:STANDARD
BEGIN:DAYLIGHT
TZOFFSETFROM:+0000
TZOFFSETTO:+0100
TZNAME:BST
DTSTART:20240331T010000
END:DAYLIGHT
BEGIN:STANDARD
TZOFFSETFROM:+0100
TZOFFSETTO:+0000
TZNAME:GMT
DTSTART:20241027T010000
END:STANDARD
BEGIN:DAYLIGHT
TZOFFSETFROM:+0000
TZOFFSETTO:+0100
TZNAME:BST
DTSTART:20250330T010000
END:DAYLIGHT
BEGIN:STANDARD
TZOFFSETFROM:+0100
TZOFFSETTO:+0000
TZNAME:GMT
DTSTART:20251026T010000
END:STANDARD
END:VTIMEZONE
BEGIN:VEVENT
DTSTART;TZID=Europe/London:20240515T130000
DTEND;TZID=Europe/London:20240515T130000
DTSTAMP:20260421T231555
CREATED:20240131T183022Z
LAST-MODIFIED:20240131T183022Z
UID:6782-1715778000-1715778000@sibfordvillagehall.org.uk
SUMMARY:Sibford Lunch Club
DESCRIPTION:
URL:https://sibfordvillagehall.org.uk/event/sibford-lunch-club-13-19/
LOCATION:Main hall
END:VEVENT
BEGIN:VEVENT
DTSTART;TZID=Europe/London:20240515T173000
DTEND;TZID=Europe/London:20240515T183000
DTSTAMP:20260421T231555
CREATED:20240321T183017Z
LAST-MODIFIED:20240321T183017Z
UID:7175-1715794200-1715797800@sibfordvillagehall.org.uk
SUMMARY:Private event
DESCRIPTION:
URL:https://sibfordvillagehall.org.uk/event/private-event-105-5/
LOCATION:Main hall
END:VEVENT
BEGIN:VEVENT
DTSTART;TZID=Europe/London:20240515T173000
DTEND;TZID=Europe/London:20240515T190000
DTSTAMP:20260421T231555
CREATED:20240223T183009Z
LAST-MODIFIED:20240223T183009Z
UID:6985-1715794200-1715799600@sibfordvillagehall.org.uk
SUMMARY:Private event
DESCRIPTION:
URL:https://sibfordvillagehall.org.uk/event/private-event-90/
LOCATION:Small hall
END:VEVENT
BEGIN:VEVENT
DTSTART;TZID=Europe/London:20240515T190000
DTEND;TZID=Europe/London:20240515T200000
DTSTAMP:20260421T231555
CREATED:20240514T183008Z
LAST-MODIFIED:20240514T183008Z
UID:7342-1715799600-1715803200@sibfordvillagehall.org.uk
SUMMARY:Horti Spring Show - Entry night
DESCRIPTION:The show is on Saturday\, but you need to get your entries in TONIGHT! \nLost your entry form? Here it is
URL:https://sibfordvillagehall.org.uk/event/meeting-2/
LOCATION:Small hall
END:VEVENT
END:VCALENDAR