BEGIN:VCALENDAR
VERSION:2.0
PRODID:-//Sibford Village Hall - ECPv6.15.20//NONSGML v1.0//EN
CALSCALE:GREGORIAN
METHOD:PUBLISH
X-ORIGINAL-URL:https://sibfordvillagehall.org.uk
X-WR-CALDESC:Events for Sibford Village Hall
REFRESH-INTERVAL;VALUE=DURATION:PT1H
X-Robots-Tag:noindex
X-PUBLISHED-TTL:PT1H
BEGIN:VTIMEZONE
TZID:Europe/London
BEGIN:DAYLIGHT
TZOFFSETFROM:+0000
TZOFFSETTO:+0100
TZNAME:BST
DTSTART:20230326T010000
END:DAYLIGHT
BEGIN:STANDARD
TZOFFSETFROM:+0100
TZOFFSETTO:+0000
TZNAME:GMT
DTSTART:20231029T010000
END:STANDARD
BEGIN:DAYLIGHT
TZOFFSETFROM:+0000
TZOFFSETTO:+0100
TZNAME:BST
DTSTART:20240331T010000
END:DAYLIGHT
BEGIN:STANDARD
TZOFFSETFROM:+0100
TZOFFSETTO:+0000
TZNAME:GMT
DTSTART:20241027T010000
END:STANDARD
BEGIN:DAYLIGHT
TZOFFSETFROM:+0000
TZOFFSETTO:+0100
TZNAME:BST
DTSTART:20250330T010000
END:DAYLIGHT
BEGIN:STANDARD
TZOFFSETFROM:+0100
TZOFFSETTO:+0000
TZNAME:GMT
DTSTART:20251026T010000
END:STANDARD
END:VTIMEZONE
BEGIN:VEVENT
DTSTART;TZID=Europe/London:20240502T080000
DTEND;TZID=Europe/London:20240502T220000
DTSTAMP:20260421T214434
CREATED:20240408T183009Z
LAST-MODIFIED:20240408T183009Z
UID:7243-1714636800-1714687200@sibfordvillagehall.org.uk
SUMMARY:Polling Day - Election of Police Commissioner and a District Councillor
DESCRIPTION:There are two elections today\, for Police and Crime Commissioner and for a District Councillor. \nPolice and Crime Commissioner for the Thames Valley Police Area\nFor the list of nominations\, visit https://www.cherwell.gov.uk/directory-record/103076/police-and-crime-commissioner \nDistrict Councillor for the Cropredy\, Sibfords and Wroxton Ward of Cherwell District Council\nFor the list of nominations\, visit https://www.cherwell.gov.uk/directory-record/103046/cropredy-sibfords-and-wroxton \nThe Ward is currently represented on the District Council by three councillors: Phil Chapman\, George Reynolds and Douglas Webb. Councillors are elected for 4-year terms\, starting on different years. This year it is Mr Reynolds’ office that is up for re-election. Mr Chapman’s term of office ends May 2026\, Mr Webb’s in May 2027. \nVoter ID\nDon’t forget that you will need some form of photographic identification in order to vote. For a list of acceptable forms of ID\, visit https://www.cherwell.gov.uk/info/11/elections/1041/voter-id
URL:https://sibfordvillagehall.org.uk/event/polling-station-2/
LOCATION:Small hall
END:VEVENT
BEGIN:VEVENT
DTSTART;TZID=Europe/London:20240502T090000
DTEND;TZID=Europe/London:20240502T110000
DTSTAMP:20260421T214434
CREATED:20240411T183007Z
LAST-MODIFIED:20240411T183007Z
UID:7248-1714640400-1714647600@sibfordvillagehall.org.uk
SUMMARY:Private event
DESCRIPTION:
URL:https://sibfordvillagehall.org.uk/event/private-event-112-3/
LOCATION:Main hall
END:VEVENT
END:VCALENDAR