BEGIN:VCALENDAR
VERSION:2.0
PRODID:-//Sibford Village Hall - ECPv6.15.20//NONSGML v1.0//EN
CALSCALE:GREGORIAN
METHOD:PUBLISH
X-WR-CALNAME:Sibford Village Hall
X-ORIGINAL-URL:https://sibfordvillagehall.org.uk
X-WR-CALDESC:Events for Sibford Village Hall
REFRESH-INTERVAL;VALUE=DURATION:PT1H
X-Robots-Tag:noindex
X-PUBLISHED-TTL:PT1H
BEGIN:VTIMEZONE
TZID:Europe/London
BEGIN:DAYLIGHT
TZOFFSETFROM:+0000
TZOFFSETTO:+0100
TZNAME:BST
DTSTART:20230326T010000
END:DAYLIGHT
BEGIN:STANDARD
TZOFFSETFROM:+0100
TZOFFSETTO:+0000
TZNAME:GMT
DTSTART:20231029T010000
END:STANDARD
BEGIN:DAYLIGHT
TZOFFSETFROM:+0000
TZOFFSETTO:+0100
TZNAME:BST
DTSTART:20240331T010000
END:DAYLIGHT
BEGIN:STANDARD
TZOFFSETFROM:+0100
TZOFFSETTO:+0000
TZNAME:GMT
DTSTART:20241027T010000
END:STANDARD
BEGIN:DAYLIGHT
TZOFFSETFROM:+0000
TZOFFSETTO:+0100
TZNAME:BST
DTSTART:20250330T010000
END:DAYLIGHT
BEGIN:STANDARD
TZOFFSETFROM:+0100
TZOFFSETTO:+0000
TZNAME:GMT
DTSTART:20251026T010000
END:STANDARD
END:VTIMEZONE
BEGIN:VEVENT
DTSTART;TZID=Europe/London:20240425T090000
DTEND;TZID=Europe/London:20240425T110000
DTSTAMP:20260421T214226
CREATED:20240411T183007Z
LAST-MODIFIED:20240411T183007Z
UID:7247-1714035600-1714042800@sibfordvillagehall.org.uk
SUMMARY:Private event
DESCRIPTION:
URL:https://sibfordvillagehall.org.uk/event/private-event-112-2/
LOCATION:Main hall
END:VEVENT
BEGIN:VEVENT
DTSTART;TZID=Europe/London:20240425T193000
DTEND;TZID=Europe/London:20240425T193000
DTSTAMP:20260421T214226
CREATED:20240328T183013Z
LAST-MODIFIED:20240328T183013Z
UID:7191-1714073400-1714073400@sibfordvillagehall.org.uk
SUMMARY:Film night
DESCRIPTION:Past Lives is a 2023 American romantic drama film written and directed by Celine Song in her feature directorial debut. Starring Greta Lee\, Teo Yoo\, and John Magaro. \nIn 2000\, Seoul\, South Korea\, Na Young and Hae Sung are 12-year-old classmates who develop feelings for one another and go on a date set up by their parents. The film follows them over the course of 24 years while they contemplate the nature of their relationship as they grow apart\, living different lives. The plot is semi-autobiographical and inspired by real events from Song’s life.
URL:https://sibfordvillagehall.org.uk/event/film-night-23/
LOCATION:Main hall
END:VEVENT
END:VCALENDAR