BEGIN:VCALENDAR
VERSION:2.0
PRODID:-//Sibford Village Hall - ECPv6.15.20//NONSGML v1.0//EN
CALSCALE:GREGORIAN
METHOD:PUBLISH
X-WR-CALNAME:Sibford Village Hall
X-ORIGINAL-URL:https://sibfordvillagehall.org.uk
X-WR-CALDESC:Events for Sibford Village Hall
REFRESH-INTERVAL;VALUE=DURATION:PT1H
X-Robots-Tag:noindex
X-PUBLISHED-TTL:PT1H
BEGIN:VTIMEZONE
TZID:Europe/London
BEGIN:DAYLIGHT
TZOFFSETFROM:+0000
TZOFFSETTO:+0100
TZNAME:BST
DTSTART:20230326T010000
END:DAYLIGHT
BEGIN:STANDARD
TZOFFSETFROM:+0100
TZOFFSETTO:+0000
TZNAME:GMT
DTSTART:20231029T010000
END:STANDARD
BEGIN:DAYLIGHT
TZOFFSETFROM:+0000
TZOFFSETTO:+0100
TZNAME:BST
DTSTART:20240331T010000
END:DAYLIGHT
BEGIN:STANDARD
TZOFFSETFROM:+0100
TZOFFSETTO:+0000
TZNAME:GMT
DTSTART:20241027T010000
END:STANDARD
BEGIN:DAYLIGHT
TZOFFSETFROM:+0000
TZOFFSETTO:+0100
TZNAME:BST
DTSTART:20250330T010000
END:DAYLIGHT
BEGIN:STANDARD
TZOFFSETFROM:+0100
TZOFFSETTO:+0000
TZNAME:GMT
DTSTART:20251026T010000
END:STANDARD
END:VTIMEZONE
BEGIN:VEVENT
DTSTART;TZID=Europe/London:20240410T130000
DTEND;TZID=Europe/London:20240410T130000
DTSTAMP:20260421T214227
CREATED:20240131T183022Z
LAST-MODIFIED:20240131T183022Z
UID:6777-1712754000-1712754000@sibfordvillagehall.org.uk
SUMMARY:Sibford Lunch Club
DESCRIPTION:
URL:https://sibfordvillagehall.org.uk/event/sibford-lunch-club-13-14/
LOCATION:Main hall
END:VEVENT
BEGIN:VEVENT
DTSTART;TZID=Europe/London:20240410T193000
DTEND;TZID=Europe/London:20240410T193000
DTSTAMP:20260421T214227
CREATED:20240330T183006Z
LAST-MODIFIED:20240330T183006Z
UID:7200-1712777400-1712777400@sibfordvillagehall.org.uk
SUMMARY:Horti meeting - The Swifts of Sibford
DESCRIPTION:Tim Huckvale will show photos and videos of the secret lives of swifts in their nest boxes at his home in Sibford Ferris and explain how we can encourage these amazing birds to take up residence and delight us during the summer months. \nA swift season: 70 days in 70 seconds\nhttps://thesibfords.uk/sib2/wp-content/uploads/2024/01/2022-box2-season-timelapse.mp4
URL:https://sibfordvillagehall.org.uk/event/horti-meeting-the-swifts-of-sibford/
LOCATION:Main hall
END:VEVENT
END:VCALENDAR