BEGIN:VCALENDAR
VERSION:2.0
PRODID:-//Sibford Village Hall - ECPv6.15.20//NONSGML v1.0//EN
CALSCALE:GREGORIAN
METHOD:PUBLISH
X-WR-CALNAME:Sibford Village Hall
X-ORIGINAL-URL:https://sibfordvillagehall.org.uk
X-WR-CALDESC:Events for Sibford Village Hall
REFRESH-INTERVAL;VALUE=DURATION:PT1H
X-Robots-Tag:noindex
X-PUBLISHED-TTL:PT1H
BEGIN:VTIMEZONE
TZID:Europe/London
BEGIN:DAYLIGHT
TZOFFSETFROM:+0000
TZOFFSETTO:+0100
TZNAME:BST
DTSTART:20230326T010000
END:DAYLIGHT
BEGIN:STANDARD
TZOFFSETFROM:+0100
TZOFFSETTO:+0000
TZNAME:GMT
DTSTART:20231029T010000
END:STANDARD
BEGIN:DAYLIGHT
TZOFFSETFROM:+0000
TZOFFSETTO:+0100
TZNAME:BST
DTSTART:20240331T010000
END:DAYLIGHT
BEGIN:STANDARD
TZOFFSETFROM:+0100
TZOFFSETTO:+0000
TZNAME:GMT
DTSTART:20241027T010000
END:STANDARD
BEGIN:DAYLIGHT
TZOFFSETFROM:+0000
TZOFFSETTO:+0100
TZNAME:BST
DTSTART:20250330T010000
END:DAYLIGHT
BEGIN:STANDARD
TZOFFSETFROM:+0100
TZOFFSETTO:+0000
TZNAME:GMT
DTSTART:20251026T010000
END:STANDARD
END:VTIMEZONE
BEGIN:VEVENT
DTSTART;TZID=Europe/London:20240327T130000
DTEND;TZID=Europe/London:20240327T130000
DTSTAMP:20260421T202316
CREATED:20240131T183021Z
LAST-MODIFIED:20240131T183021Z
UID:6775-1711544400-1711544400@sibfordvillagehall.org.uk
SUMMARY:Sibford Lunch Club
DESCRIPTION:
URL:https://sibfordvillagehall.org.uk/event/sibford-lunch-club-13-12/
LOCATION:Main hall
END:VEVENT
BEGIN:VEVENT
DTSTART;TZID=Europe/London:20240327T173000
DTEND;TZID=Europe/London:20240327T183000
DTSTAMP:20260421T202316
CREATED:20240219T183021Z
LAST-MODIFIED:20240219T183021Z
UID:6950-1711560600-1711564200@sibfordvillagehall.org.uk
SUMMARY:Drama & dance sessions for kids/teens
DESCRIPTION:
URL:https://sibfordvillagehall.org.uk/event/private-event-76-6/
LOCATION:Main hall
END:VEVENT
BEGIN:VEVENT
DTSTART;TZID=Europe/London:20240327T193000
DTEND;TZID=Europe/London:20240327T193000
DTSTAMP:20260421T202316
CREATED:20240304T183035Z
LAST-MODIFIED:20240304T183035Z
UID:7073-1711567800-1711567800@sibfordvillagehall.org.uk
SUMMARY:Film Night
DESCRIPTION:Anatomy of a Fall is a 2023 French legal drama thriller film directed by Justine Triet from a screenplay she co-wrote with Arthur Harari. It stars Sandra Hüller as a writer trying to prove her innocence in her husband’s death. It premiered at the 76th Cannes Film Festival on 21 May 2023\, where it won the Palme d’Or and the Palm Dog Award. \nWhen her husband Samuel is mysteriously found dead in the snow below their secluded chalet\, Sandra becomes the main suspect when the police begin to question whether he fell or was pushed. The trial soon becomes not just an investigation\, but a gripping psychological journey into the depths of Sandra and Samuel’s complicated marriage. With conflicting evidence and inconsistent testimony\, words are wielded like weapons and shocking truths come to light in this thrilling Palme d’Or winner.  \nDoors open at 7. Film starts at 7.30. Admission £3 pp. Refreshments available.
URL:https://sibfordvillagehall.org.uk/event/film-night-20/
LOCATION:Main hall
END:VEVENT
END:VCALENDAR