BEGIN:VCALENDAR
VERSION:2.0
PRODID:-//Sibford Village Hall - ECPv6.15.20//NONSGML v1.0//EN
CALSCALE:GREGORIAN
METHOD:PUBLISH
X-WR-CALNAME:Sibford Village Hall
X-ORIGINAL-URL:https://sibfordvillagehall.org.uk
X-WR-CALDESC:Events for Sibford Village Hall
REFRESH-INTERVAL;VALUE=DURATION:PT1H
X-Robots-Tag:noindex
X-PUBLISHED-TTL:PT1H
BEGIN:VTIMEZONE
TZID:Europe/London
BEGIN:DAYLIGHT
TZOFFSETFROM:+0000
TZOFFSETTO:+0100
TZNAME:BST
DTSTART:20230326T010000
END:DAYLIGHT
BEGIN:STANDARD
TZOFFSETFROM:+0100
TZOFFSETTO:+0000
TZNAME:GMT
DTSTART:20231029T010000
END:STANDARD
BEGIN:DAYLIGHT
TZOFFSETFROM:+0000
TZOFFSETTO:+0100
TZNAME:BST
DTSTART:20240331T010000
END:DAYLIGHT
BEGIN:STANDARD
TZOFFSETFROM:+0100
TZOFFSETTO:+0000
TZNAME:GMT
DTSTART:20241027T010000
END:STANDARD
BEGIN:DAYLIGHT
TZOFFSETFROM:+0000
TZOFFSETTO:+0100
TZNAME:BST
DTSTART:20250330T010000
END:DAYLIGHT
BEGIN:STANDARD
TZOFFSETFROM:+0100
TZOFFSETTO:+0000
TZNAME:GMT
DTSTART:20251026T010000
END:STANDARD
END:VTIMEZONE
BEGIN:VEVENT
DTSTART;TZID=Europe/London:20240323T090000
DTEND;TZID=Europe/London:20240323T100000
DTSTAMP:20260421T202318
CREATED:20240219T183020Z
LAST-MODIFIED:20240219T183020Z
UID:6948-1711184400-1711188000@sibfordvillagehall.org.uk
SUMMARY:Karate class
DESCRIPTION:
URL:https://sibfordvillagehall.org.uk/event/private-event-78-4/
LOCATION:Main hall
END:VEVENT
BEGIN:VEVENT
DTSTART;TZID=Europe/London:20240323T100000
DTEND;TZID=Europe/London:20240323T120000
DTSTAMP:20260421T202318
CREATED:20240317T183011Z
LAST-MODIFIED:20240317T183011Z
UID:7159-1711188000-1711195200@sibfordvillagehall.org.uk
SUMMARY:Book Swap and Café
DESCRIPTION:Welcome to our monthly chance to have coffee/cake and a chat. Browse our large selection of books and borrow any you like. No need to bring a book to swap. No charge. Donations welcome.
URL:https://sibfordvillagehall.org.uk/event/private-event-51-3/
LOCATION:Small hall
END:VEVENT
BEGIN:VEVENT
DTSTART;TZID=Europe/London:20240323T110000
DTEND;TZID=Europe/London:20240323T123000
DTSTAMP:20260421T202318
CREATED:20240129T183013Z
LAST-MODIFIED:20240129T183013Z
UID:6755-1711191600-1711197000@sibfordvillagehall.org.uk
SUMMARY:The Second Deadly Sin
DESCRIPTION:A treat is in store for all book lovers. Historical fiction author Caroline Newark will be returning to Sibford Village Hall with more stories of her famous and not-so-famous ancestors. \nThis time her talk is entitled “The Second Deadly Sin”. If you can’t remember your deadly sins\, the second is the one about greed\, wanting to have more than you’re entitled to\, wanting to live the fairytale. There are women in Caroline’s family tree who most definitely want to “have it all” but if you remember those childhood stories from long ago\, you’ll know there were big bad wolves lurking in the woods and a clock about to strike midnight so not everything ends well. \nCaroline has promised to bring copies of all her books with her so if you missed them last time you will have another opportunity to buy copies at a special discounted rate.
URL:https://sibfordvillagehall.org.uk/event/talk-by-author-caroli/
LOCATION:Main hall
END:VEVENT
END:VCALENDAR